{"text_format":"1","workbook":"xlsx","n_sheets":10,"sheets":["Présentation","Utilisation Fichier","Note sur 20","Evaluation projet et efficacité","Evaluation efficacité Grimpeur","Evaluation assureur","barême performance","liste déroulante","Référentiel Evaluation","Fiche ressource"],"not_rendered":{"charts":0,"images":6,"macros":1,"external_links":1,"defined_names":63,"comments":0,"pivot_tables":0},"unopened":[],"bounds":{"document_bytes":16777216,"sheet_cells":100000,"rows_first":2000,"rows_last":500,"rows_between":2000,"halvings":0,"cell_chars":16384,"cell_head_chars":4096},"cells_cut":0,"cells_raw":0,"read":"whole","date_system":"1900"}

{"sheet":"Présentation","index":0,"n_rows":0,"n_cols":0,"rows_kept":0,"cut":false,"hidden":false,"merged":[]}

{"sheet":"Utilisation Fichier","index":1,"n_rows":0,"n_cols":0,"rows_kept":0,"cut":false,"hidden":false,"merged":[]}

{"sheet":"Note sur 20","index":2,"n_rows":32,"n_cols":6,"rows_kept":32,"cut":false,"hidden":false,"merged":[]}
[]
[]
[null,null,"Note ","efficacité","efficacité du ","efficacité de"]
[null,null,null,"du projet","grimpeur","l'assureur"]
["Nom","Prénom","/ 20","/ 8","/ 8","/ 4"]
[null,null,{"$f":"D6+E6+F6","v":0},{"$f":"ROUND(('Evaluation projet et efficacité'!B8),0.25)","v":0},{"$f":"'Evaluation efficacité Grimpeur'!D3","v":0},{"$f":"'Evaluation assureur'!D9","v":0}]
[null,null,{"$f":"D7+E7+F7","v":0},{"$f":"ROUND(('Evaluation projet et efficacité'!B9),0.25)","v":0},{"$f":"'Evaluation efficacité Grimpeur'!D4","v":0},{"$f":"'Evaluation assureur'!D10","v":0}]
[null,null,0,{"$f":"ROUND(('Evaluation projet et efficacité'!B10),0.25)","v":0},{"$f":"'Evaluation efficacité Grimpeur'!D5","v":0},{"$f":"'Evaluation assureur'!D11","v":0}]
[null,null,0,{"$f":"ROUND(('Evaluation projet et efficacité'!B11),0.25)","v":0},{"$f":"'Evaluation efficacité Grimpeur'!D6","v":0},{"$f":"'Evaluation assureur'!D12","v":0}]
[null,null,0,{"$f":"ROUND(('Evaluation projet et efficacité'!B12),0.25)","v":0},{"$f":"'Evaluation efficacité Grimpeur'!D7","v":0},{"$f":"'Evaluation assureur'!D13","v":0}]
[null,null,0,{"$f":"ROUND(('Evaluation projet et efficacité'!B13),0.25)","v":0},{"$f":"'Evaluation efficacité Grimpeur'!D8","v":0},{"$f":"'Evaluation assureur'!D14","v":0}]
[null,null,0,{"$f":"ROUND(('Evaluation projet et efficacité'!B14),0.25)","v":0},{"$f":"'Evaluation efficacité Grimpeur'!D9","v":0},{"$f":"'Evaluation assureur'!D15","v":0}]
[null,null,0,{"$f":"ROUND(('Evaluation projet et efficacité'!B15),0.25)","v":0},{"$f":"'Evaluation efficacité Grimpeur'!D10","v":0},{"$f":"'Evaluation assureur'!D16","v":0}]
[null,null,0,{"$f":"ROUND(('Evaluation projet et efficacité'!B16),0.25)","v":0},{"$f":"'Evaluation efficacité Grimpeur'!D11","v":0},{"$f":"'Evaluation assureur'!D17","v":0}]
[null,null,0,{"$f":"ROUND(('Evaluation projet et efficacité'!B17),0.25)","v":0},{"$f":"'Evaluation efficacité Grimpeur'!D12","v":0},{"$f":"'Evaluation assureur'!D18","v":0}]
[null,null,0,{"$f":"ROUND(('Evaluation projet et efficacité'!B18),0.25)","v":0},{"$f":"'Evaluation efficacité Grimpeur'!D13","v":0},{"$f":"'Evaluation assureur'!D19","v":0}]
[null,null,0,{"$f":"ROUND(('Evaluation projet et efficacité'!B19),0.25)","v":0},{"$f":"'Evaluation efficacité Grimpeur'!D14","v":0},{"$f":"'Evaluation assureur'!D20","v":0}]
[null,null,0,{"$f":"ROUND(('Evaluation projet et efficacité'!B20),0.25)","v":0},{"$f":"'Evaluation efficacité Grimpeur'!D15","v":0},{"$f":"'Evaluation assureur'!D21","v":0}]
[null,null,0,{"$f":"ROUND(('Evaluation projet et efficacité'!B21),0.25)","v":0},{"$f":"'Evaluation efficacité Grimpeur'!D16","v":0},{"$f":"'Evaluation assureur'!D22","v":0}]
[null,null,0,{"$f":"ROUND(('Evaluation projet et efficacité'!B22),0.25)","v":0},{"$f":"'Evaluation efficacité Grimpeur'!D17","v":0},{"$f":"'Evaluation assureur'!D23","v":0}]
[null,null,0,{"$f":"ROUND(('Evaluation projet et efficacité'!B23),0.25)","v":0},{"$f":"'Evaluation efficacité Grimpeur'!D18","v":0},{"$f":"'Evaluation assureur'!D24","v":0}]
[null,null,0,{"$f":"ROUND(('Evaluation projet et efficacité'!B24),0.25)","v":0},{"$f":"'Evaluation efficacité Grimpeur'!D19","v":0},{"$f":"'Evaluation assureur'!D25","v":0}]
[null,null,0,{"$f":"ROUND(('Evaluation projet et efficacité'!B25),0.25)","v":0},{"$f":"'Evaluation efficacité Grimpeur'!D20","v":0},{"$f":"'Evaluation assureur'!D26","v":0}]
[null,null,0,{"$f":"ROUND(('Evaluation projet et efficacité'!B26),0.25)","v":0},{"$f":"'Evaluation efficacité Grimpeur'!D21","v":0},{"$f":"'Evaluation assureur'!D27","v":0}]
[null,null,0,{"$f":"ROUND(('Evaluation projet et efficacité'!B27),0.25)","v":0},{"$f":"'Evaluation efficacité Grimpeur'!D22","v":0},{"$f":"'Evaluation assureur'!D28","v":0}]
[null,null,0,{"$f":"ROUND(('Evaluation projet et efficacité'!B28),0.25)","v":0},{"$f":"'Evaluation efficacité Grimpeur'!D23","v":0},{"$f":"'Evaluation assureur'!D29","v":0}]
[null,null,0,{"$f":"ROUND(('Evaluation projet et efficacité'!B29),0.25)","v":0},{"$f":"'Evaluation efficacité Grimpeur'!D24","v":0},{"$f":"'Evaluation assureur'!D30","v":0}]
[null,null,0,{"$f":"ROUND(('Evaluation projet et efficacité'!B30),0.25)","v":0},{"$f":"'Evaluation efficacité Grimpeur'!D25","v":0},{"$f":"'Evaluation assureur'!D31","v":0}]
[null,null,0,{"$f":"ROUND(('Evaluation projet et efficacité'!B31),0.25)","v":0},{"$f":"'Evaluation efficacité Grimpeur'!D26","v":0},{"$f":"'Evaluation assureur'!D32","v":0}]
[null,null,0,{"$f":"ROUND(('Evaluation projet et efficacité'!B32),0.25)","v":0},{"$f":"'Evaluation efficacité Grimpeur'!D27","v":0},{"$f":"'Evaluation assureur'!D33","v":0}]
[null,null,0,{"$f":"ROUND(('Evaluation projet et efficacité'!B33),0.25)","v":0},{"$f":"'Evaluation efficacité Grimpeur'!D28","v":0},{"$f":"'Evaluation assureur'!D34","v":0}]
[null,null,{"$f":"ROUND((D32+E32+F32),0.25)","v":0},{"$f":"ROUND(('Evaluation projet et efficacité'!B34),0.25)","v":0},{"$f":"'Evaluation efficacité Grimpeur'!D29","v":0},{"$f":"'Evaluation assureur'!D35","v":0}]

{"sheet":"Evaluation projet et efficacité","index":3,"n_rows":37,"n_cols":12,"rows_kept":37,"cut":false,"hidden":false,"merged":[[5,8,5,11],[5,4,5,7]]}
[]
[]
[]
[]
[]
[null,null,null,null,"VOIE 1",null,null,null,"VOIE 2"]
["Pts","Note / 8","Nom","Prénom","Cot°","Perf"," Bonus","Pts","Cot°","Perf"," Bonus","Pts"]
[{"$f":"H8+L8","v":0},{"$f":"IF(H8=0,0,VLOOKUP(A8,barême,2,TRUE))","v":0},null,null,null,null,{"$f":"IF(F8<8,0,IF(E8=\"3c\",0,IF(E8=\"4a\",1,IF(E8=\"4b\",2,IF(E8=\"4c\",3,IF(E8=\"5a\",4,IF(E8=\"5b\",5,IF(E8=\"5c\",6,IF(E8=\"6a\",7,IF(E8=\"6b\",8,))))))))))","v":0},{"$f":"SUM(F8:G8)","v":0},null,null,{"$f":"IF(J8<8,0,IF(I8=\"3c\",0,IF(I8=\"4a\",1,IF(I8=\"4b\",2,IF(I8=\"4c\",3,IF(I8=\"5a\",4,IF(I8=\"5b\",5,IF(I8=\"5c\",6,IF(I8=\"6a\",7,IF(I8=\"6b\",8,))))))))))","v":0},{"$f":"SUM(J8:K8)","v":0}]
[{"$f":"H9+L9","v":0},0,null,null,null,null,0,{"$f":"SUM(F9:G9)","v":0},null,null,0,0]
[0,0,null,null,null,null,0,0,null,null,0,0]
[0,0,null,null,null,null,0,0,null,null,0,0]
[0,0,null,null,null,null,0,0,null,null,0,0]
[0,0,null,null,null,null,0,0,null,null,0,{"$f":"SUM(J13:K13)","v":0}]
[0,0,null,null,null,null,0,0,null,null,0,0]
[0,0,null,null,null,null,0,0,null,null,0,0]
[0,0,null,null,null,null,0,0,null,null,0,0]
[0,0,null,null,null,null,0,0,null,null,0,0]
[0,0,null,null,null,null,0,0,null,null,0,0]
[0,0,null,null,null,null,0,0,null,null,0,0]
[0,0,null,null,null,null,0,0,null,null,0,0]
[0,0,null,null,null,null,0,0,null,null,0,0]
[0,0,null,null,null,null,0,0,null,null,0,0]
[0,0,null,null,null,null,0,0,null,null,0,0]
[0,0,null,null,null,null,0,0,null,null,0,0]
[0,0,null,null,null,null,0,0,null,null,0,0]
[0,0,null,null,null,null,0,0,null,null,0,0]
[0,0,null,null,null,null,0,0,null,null,0,0]
[0,0,null,null,null,null,0,0,null,null,0,0]
[0,0,null,null,null,null,0,0,null,null,0,0]
[0,0,null,null,null,null,0,0,null,null,0,0]
[0,0,null,null,null,null,0,0,null,null,0,0]
[0,0,null,null,null,null,0,0,null,null,0,0]
[0,0,null,null,null,null,0,0,null,null,0,0]
[0,0,null,null,null,null,0,0,null,null,0,0]
[0,0,null,null,null,null,0,0,null,null,0,0]
[0,0,null,null,null,null,0,0,null,null,0,0]
[0,0,null,null,null,null,0,0,null,null,0,0]

{"sheet":"Evaluation efficacité Grimpeur","index":4,"n_rows":34,"n_cols":4,"rows_kept":34,"cut":false,"hidden":false,"merged":[]}
[]
[null,"Nom","Prénom","/ 8 pts"]
[null,{"$f":"IF('Note sur 20'!A6=\"\",\"\",'Note sur 20'!A6)","v":""},{"$f":"IF('Note sur 20'!B6=\"\",\"\",'Note sur 20'!B6)","v":""}]
[null,{"$f":"IF('Note sur 20'!A7=\"\",\"\",'Note sur 20'!A7)","v":""},{"$f":"IF('Note sur 20'!B7=\"\",\"\",'Note sur 20'!B7)","v":""}]
[null,{"$f":"IF('Note sur 20'!A8=\"\",\"\",'Note sur 20'!A8)","v":""},{"$f":"IF('Note sur 20'!B8=\"\",\"\",'Note sur 20'!B8)","v":""}]
[null,{"$f":"IF('Note sur 20'!A9=\"\",\"\",'Note sur 20'!A9)","v":""},{"$f":"IF('Note sur 20'!B9=\"\",\"\",'Note sur 20'!B9)","v":""}]
[null,{"$f":"IF('Note sur 20'!A10=\"\",\"\",'Note sur 20'!A10)","v":""},{"$f":"IF('Note sur 20'!B10=\"\",\"\",'Note sur 20'!B10)","v":""}]
[null,{"$f":"IF('Note sur 20'!A11=\"\",\"\",'Note sur 20'!A11)","v":""},{"$f":"IF('Note sur 20'!B11=\"\",\"\",'Note sur 20'!B11)","v":""}]
[null,{"$f":"IF('Note sur 20'!A12=\"\",\"\",'Note sur 20'!A12)","v":""},{"$f":"IF('Note sur 20'!B12=\"\",\"\",'Note sur 20'!B12)","v":""}]
[null,{"$f":"IF('Note sur 20'!A13=\"\",\"\",'Note sur 20'!A13)","v":""},{"$f":"IF('Note sur 20'!B13=\"\",\"\",'Note sur 20'!B13)","v":""}]
[null,{"$f":"IF('Note sur 20'!A14=\"\",\"\",'Note sur 20'!A14)","v":""},{"$f":"IF('Note sur 20'!B14=\"\",\"\",'Note sur 20'!B14)","v":""}]
[null,{"$f":"IF('Note sur 20'!A15=\"\",\"\",'Note sur 20'!A15)","v":""},{"$f":"IF('Note sur 20'!B15=\"\",\"\",'Note sur 20'!B15)","v":""}]
[null,{"$f":"IF('Note sur 20'!A16=\"\",\"\",'Note sur 20'!A16)","v":""},{"$f":"IF('Note sur 20'!B16=\"\",\"\",'Note sur 20'!B16)","v":""}]
[null,{"$f":"IF('Note sur 20'!A17=\"\",\"\",'Note sur 20'!A17)","v":""},{"$f":"IF('Note sur 20'!B17=\"\",\"\",'Note sur 20'!B17)","v":""}]
[null,{"$f":"IF('Note sur 20'!A18=\"\",\"\",'Note sur 20'!A18)","v":""},{"$f":"IF('Note sur 20'!B18=\"\",\"\",'Note sur 20'!B18)","v":""}]
[null,{"$f":"IF('Note sur 20'!A19=\"\",\"\",'Note sur 20'!A19)","v":""},{"$f":"IF('Note sur 20'!B19=\"\",\"\",'Note sur 20'!B19)","v":""}]
[null,{"$f":"IF('Note sur 20'!A20=\"\",\"\",'Note sur 20'!A20)","v":""},{"$f":"IF('Note sur 20'!B20=\"\",\"\",'Note sur 20'!B20)","v":""}]
[null,{"$f":"IF('Note sur 20'!A21=\"\",\"\",'Note sur 20'!A21)","v":""},{"$f":"IF('Note sur 20'!B21=\"\",\"\",'Note sur 20'!B21)","v":""}]
[null,{"$f":"IF('Note sur 20'!A22=\"\",\"\",'Note sur 20'!A22)","v":""},{"$f":"IF('Note sur 20'!B22=\"\",\"\",'Note sur 20'!B22)","v":""}]
[null,{"$f":"IF('Note sur 20'!A23=\"\",\"\",'Note sur 20'!A23)","v":""},{"$f":"IF('Note sur 20'!B23=\"\",\"\",'Note sur 20'!B23)","v":""}]
[null,{"$f":"IF('Note sur 20'!A24=\"\",\"\",'Note sur 20'!A24)","v":""},{"$f":"IF('Note sur 20'!B24=\"\",\"\",'Note sur 20'!B24)","v":""}]
[null,{"$f":"IF('Note sur 20'!A25=\"\",\"\",'Note sur 20'!A25)","v":""},{"$f":"IF('Note sur 20'!B25=\"\",\"\",'Note sur 20'!B25)","v":""}]
[null,{"$f":"IF('Note sur 20'!A26=\"\",\"\",'Note sur 20'!A26)","v":""},{"$f":"IF('Note sur 20'!B26=\"\",\"\",'Note sur 20'!B26)","v":""}]
[null,{"$f":"IF('Note sur 20'!A27=\"\",\"\",'Note sur 20'!A27)","v":""},{"$f":"IF('Note sur 20'!B27=\"\",\"\",'Note sur 20'!B27)","v":""}]
[null,{"$f":"IF('Note sur 20'!A28=\"\",\"\",'Note sur 20'!A28)","v":""},{"$f":"IF('Note sur 20'!B28=\"\",\"\",'Note sur 20'!B28)","v":""}]
[null,{"$f":"IF('Note sur 20'!A29=\"\",\"\",'Note sur 20'!A29)","v":""},{"$f":"IF('Note sur 20'!B29=\"\",\"\",'Note sur 20'!B29)","v":""}]
[null,{"$f":"IF('Note sur 20'!A30=\"\",\"\",'Note sur 20'!A30)","v":""},{"$f":"IF('Note sur 20'!B30=\"\",\"\",'Note sur 20'!B30)","v":""}]
[null,{"$f":"IF('Note sur 20'!A31=\"\",\"\",'Note sur 20'!A31)","v":""},{"$f":"IF('Note sur 20'!B31=\"\",\"\",'Note sur 20'!B31)","v":""}]
[null,{"$f":"IF('Note sur 20'!A32=\"\",\"\",'Note sur 20'!A32)","v":""},{"$f":"IF('Note sur 20'!B32=\"\",\"\",'Note sur 20'!B32)","v":""}]
[null,{"$f":"IF('Note sur 20'!A33=\"\",\"\",'Note sur 20'!A33)","v":""},{"$f":"IF('Note sur 20'!B33=\"\",\"\",'Note sur 20'!B33)","v":""}]
[null,{"$f":"IF('Note sur 20'!A34=\"\",\"\",'Note sur 20'!A34)","v":""},{"$f":"IF('Note sur 20'!B34=\"\",\"\",'Note sur 20'!B34)","v":""}]
[null,{"$f":"IF('Note sur 20'!A35=\"\",\"\",'Note sur 20'!A35)","v":""},{"$f":"IF('Note sur 20'!B35=\"\",\"\",'Note sur 20'!B35)","v":""}]
[null,{"$f":"IF('Note sur 20'!A36=\"\",\"\",'Note sur 20'!A36)","v":""},{"$f":"IF('Note sur 20'!B36=\"\",\"\",'Note sur 20'!B36)","v":""}]
[null,{"$f":"IF('Note sur 20'!A37=\"\",\"\",'Note sur 20'!A37)","v":""},{"$f":"IF('Note sur 20'!B37=\"\",\"\",'Note sur 20'!B37)","v":""}]

{"sheet":"Evaluation assureur","index":5,"n_rows":35,"n_cols":4,"rows_kept":35,"cut":false,"hidden":false,"merged":[]}
[]
[]
[]
[]
[]
[]
[]
[null,"Nom","Prénom","Total / 4 pts"]
[null,{"$f":"IF('Note sur 20'!A6=\"\",\"\",'Note sur 20'!A6)","v":""},{"$f":"IF('Note sur 20'!B6=\"\",\"\",'Note sur 20'!B6)","v":""}]
[null,{"$f":"IF('Note sur 20'!A7=\"\",\"\",'Note sur 20'!A7)","v":""},{"$f":"IF('Note sur 20'!B7=\"\",\"\",'Note sur 20'!B7)","v":""}]
[null,{"$f":"IF('Note sur 20'!A8=\"\",\"\",'Note sur 20'!A8)","v":""},{"$f":"IF('Note sur 20'!B8=\"\",\"\",'Note sur 20'!B8)","v":""}]
[null,{"$f":"IF('Note sur 20'!A9=\"\",\"\",'Note sur 20'!A9)","v":""},{"$f":"IF('Note sur 20'!B9=\"\",\"\",'Note sur 20'!B9)","v":""}]
[null,{"$f":"IF('Note sur 20'!A10=\"\",\"\",'Note sur 20'!A10)","v":""},{"$f":"IF('Note sur 20'!B10=\"\",\"\",'Note sur 20'!B10)","v":""}]
[null,{"$f":"IF('Note sur 20'!A11=\"\",\"\",'Note sur 20'!A11)","v":""},{"$f":"IF('Note sur 20'!B11=\"\",\"\",'Note sur 20'!B11)","v":""}]
[null,{"$f":"IF('Note sur 20'!A12=\"\",\"\",'Note sur 20'!A12)","v":""},{"$f":"IF('Note sur 20'!B12=\"\",\"\",'Note sur 20'!B12)","v":""}]
[null,{"$f":"IF('Note sur 20'!A13=\"\",\"\",'Note sur 20'!A13)","v":""},{"$f":"IF('Note sur 20'!B13=\"\",\"\",'Note sur 20'!B13)","v":""}]
[null,{"$f":"IF('Note sur 20'!A14=\"\",\"\",'Note sur 20'!A14)","v":""},{"$f":"IF('Note sur 20'!B14=\"\",\"\",'Note sur 20'!B14)","v":""}]
[null,{"$f":"IF('Note sur 20'!A15=\"\",\"\",'Note sur 20'!A15)","v":""},{"$f":"IF('Note sur 20'!B15=\"\",\"\",'Note sur 20'!B15)","v":""}]
[null,{"$f":"IF('Note sur 20'!A16=\"\",\"\",'Note sur 20'!A16)","v":""},{"$f":"IF('Note sur 20'!B16=\"\",\"\",'Note sur 20'!B16)","v":""}]
[null,{"$f":"IF('Note sur 20'!A17=\"\",\"\",'Note sur 20'!A17)","v":""},{"$f":"IF('Note sur 20'!B17=\"\",\"\",'Note sur 20'!B17)","v":""}]
[null,{"$f":"IF('Note sur 20'!A18=\"\",\"\",'Note sur 20'!A18)","v":""},{"$f":"IF('Note sur 20'!B18=\"\",\"\",'Note sur 20'!B18)","v":""}]
[null,{"$f":"IF('Note sur 20'!A19=\"\",\"\",'Note sur 20'!A19)","v":""},{"$f":"IF('Note sur 20'!B19=\"\",\"\",'Note sur 20'!B19)","v":""}]
[null,{"$f":"IF('Note sur 20'!A20=\"\",\"\",'Note sur 20'!A20)","v":""},{"$f":"IF('Note sur 20'!B20=\"\",\"\",'Note sur 20'!B20)","v":""}]
[null,{"$f":"IF('Note sur 20'!A21=\"\",\"\",'Note sur 20'!A21)","v":""},{"$f":"IF('Note sur 20'!B21=\"\",\"\",'Note sur 20'!B21)","v":""}]
[null,{"$f":"IF('Note sur 20'!A22=\"\",\"\",'Note sur 20'!A22)","v":""},{"$f":"IF('Note sur 20'!B22=\"\",\"\",'Note sur 20'!B22)","v":""}]
[null,{"$f":"IF('Note sur 20'!A23=\"\",\"\",'Note sur 20'!A23)","v":""},{"$f":"IF('Note sur 20'!B23=\"\",\"\",'Note sur 20'!B23)","v":""}]
[null,{"$f":"IF('Note sur 20'!A24=\"\",\"\",'Note sur 20'!A24)","v":""},{"$f":"IF('Note sur 20'!B24=\"\",\"\",'Note sur 20'!B24)","v":""}]
[null,{"$f":"IF('Note sur 20'!A25=\"\",\"\",'Note sur 20'!A25)","v":""},{"$f":"IF('Note sur 20'!B25=\"\",\"\",'Note sur 20'!B25)","v":""}]
[null,{"$f":"IF('Note sur 20'!A26=\"\",\"\",'Note sur 20'!A26)","v":""},{"$f":"IF('Note sur 20'!B26=\"\",\"\",'Note sur 20'!B26)","v":""}]
[null,{"$f":"IF('Note sur 20'!A27=\"\",\"\",'Note sur 20'!A27)","v":""},{"$f":"IF('Note sur 20'!B27=\"\",\"\",'Note sur 20'!B27)","v":""}]
[null,{"$f":"IF('Note sur 20'!A28=\"\",\"\",'Note sur 20'!A28)","v":""},{"$f":"IF('Note sur 20'!B28=\"\",\"\",'Note sur 20'!B28)","v":""}]
[null,{"$f":"IF('Note sur 20'!A29=\"\",\"\",'Note sur 20'!A29)","v":""},{"$f":"IF('Note sur 20'!B29=\"\",\"\",'Note sur 20'!B29)","v":""}]
[null,{"$f":"IF('Note sur 20'!A30=\"\",\"\",'Note sur 20'!A30)","v":""},{"$f":"IF('Note sur 20'!B30=\"\",\"\",'Note sur 20'!B30)","v":""}]
[null,{"$f":"IF('Note sur 20'!A31=\"\",\"\",'Note sur 20'!A31)","v":""},{"$f":"IF('Note sur 20'!B31=\"\",\"\",'Note sur 20'!B31)","v":""}]
[null,{"$f":"IF('Note sur 20'!A32=\"\",\"\",'Note sur 20'!A32)","v":""},{"$f":"IF('Note sur 20'!B32=\"\",\"\",'Note sur 20'!B32)","v":""}]

{"sheet":"barême performance","index":6,"n_rows":18,"n_cols":2,"rows_kept":18,"cut":false,"hidden":false,"merged":[]}
["Barême Projet élève (= barème performance)"]
["Pts","Note"]
[10,0.5]
[12,1]
[11,1.5]
[18,2]
[19,2.5]
[20,3]
[21,3.5]
[22,4]
[23,4.5]
[24,5]
[25,5.5]
[26,6]
[27,6.5]
[28,7]
[29,7.5]
[30,8]

{"sheet":"liste déroulante","index":7,"n_rows":11,"n_cols":2,"rows_kept":11,"cut":false,"hidden":false,"merged":[]}
["?","?"]
["3c",0]
["4a",1]
["4b",2]
["4c",3]
["5a",4]
["5b",5]
["5c",6]
["6a",7]
["6b",8]
[null,9]

{"sheet":"Référentiel Evaluation","index":8,"n_rows":0,"n_cols":0,"rows_kept":0,"cut":false,"hidden":false,"merged":[]}

{"sheet":"Fiche ressource","index":9,"n_rows":0,"n_cols":0,"rows_kept":0,"cut":false,"hidden":false,"merged":[]}