{"text_format":"1","workbook":"xlsx","n_sheets":9,"sheets":["Présentation","Utilisation fichier","Note sur 20","Efficacité projet","Efficacité sécurité","Efficacité grimpeur","barême performance","Référentiel évaluation","Fiche ressource"],"not_rendered":{"charts":0,"images":7,"macros":1,"external_links":1,"defined_names":54,"comments":0,"pivot_tables":0},"unopened":[],"bounds":{"document_bytes":16777216,"sheet_cells":100000,"rows_first":2000,"rows_last":500,"rows_between":2000,"halvings":0,"cell_chars":16384,"cell_head_chars":4096},"cells_cut":0,"cells_raw":0,"read":"whole","date_system":"1900"}

{"sheet":"Présentation","index":0,"n_rows":0,"n_cols":0,"rows_kept":0,"cut":false,"hidden":false,"merged":[]}

{"sheet":"Utilisation fichier","index":1,"n_rows":0,"n_cols":0,"rows_kept":0,"cut":false,"hidden":false,"merged":[]}

{"sheet":"Note sur 20","index":2,"n_rows":30,"n_cols":6,"rows_kept":30,"cut":false,"hidden":false,"merged":[]}
[]
[]
[]
[null,null,"Note ","efficacité","Sécurité ","efficacité du "]
[null,null,null,"du projet","et autonomie","grimpeur"]
["Nom","Prénom","/ 20","/ 10","/ 6","/ 4"]
[null,null,{"$f":"D7+E7+F7","v":0},{"$f":"'Efficacité projet'!B8","v":0},{"$f":"'Efficacité sécurité'!D9","v":0},{"$f":"'Efficacité grimpeur'!D7","v":0}]
[null,null,{"$f":"D8+E8+F8","v":0},{"$f":"'Efficacité projet'!B9","v":0},{"$f":"'Efficacité sécurité'!D10","v":0},{"$f":"'Efficacité grimpeur'!D8","v":0}]
[null,null,0,{"$f":"'Efficacité projet'!B10","v":0},{"$f":"'Efficacité sécurité'!D11","v":0},{"$f":"'Efficacité grimpeur'!D9","v":0}]
[null,null,0,{"$f":"'Efficacité projet'!B11","v":0},{"$f":"'Efficacité sécurité'!D12","v":0},{"$f":"'Efficacité grimpeur'!D10","v":0}]
[null,null,0,{"$f":"'Efficacité projet'!B12","v":0},{"$f":"'Efficacité sécurité'!D13","v":0},{"$f":"'Efficacité grimpeur'!D11","v":0}]
[null,null,0,{"$f":"'Efficacité projet'!B13","v":0},{"$f":"'Efficacité sécurité'!D14","v":0},{"$f":"'Efficacité grimpeur'!D12","v":0}]
[null,null,0,{"$f":"'Efficacité projet'!B14","v":0},{"$f":"'Efficacité sécurité'!D15","v":0},{"$f":"'Efficacité grimpeur'!D13","v":0}]
[null,null,0,{"$f":"'Efficacité projet'!B15","v":0},{"$f":"'Efficacité sécurité'!D16","v":0},{"$f":"'Efficacité grimpeur'!D14","v":0}]
[null,null,0,{"$f":"'Efficacité projet'!B16","v":0},{"$f":"'Efficacité sécurité'!D17","v":0},{"$f":"'Efficacité grimpeur'!D15","v":0}]
[null,null,0,{"$f":"'Efficacité projet'!B17","v":0},{"$f":"'Efficacité sécurité'!D18","v":0},{"$f":"'Efficacité grimpeur'!D16","v":0}]
[null,null,0,{"$f":"'Efficacité projet'!B18","v":0},{"$f":"'Efficacité sécurité'!D19","v":0},{"$f":"'Efficacité grimpeur'!D17","v":0}]
[null,null,0,{"$f":"'Efficacité projet'!B19","v":0},{"$f":"'Efficacité sécurité'!D20","v":0},{"$f":"'Efficacité grimpeur'!D18","v":0}]
[null,null,0,{"$f":"'Efficacité projet'!B20","v":0},{"$f":"'Efficacité sécurité'!D21","v":0},{"$f":"'Efficacité grimpeur'!D19","v":0}]
[null,null,0,{"$f":"'Efficacité projet'!B21","v":0},{"$f":"'Efficacité sécurité'!D22","v":0},{"$f":"'Efficacité grimpeur'!D20","v":0}]
[null,null,0,{"$f":"'Efficacité projet'!B22","v":0},{"$f":"'Efficacité sécurité'!D23","v":0},{"$f":"'Efficacité grimpeur'!D21","v":0}]
[null,null,0,{"$f":"'Efficacité projet'!B23","v":0},{"$f":"'Efficacité sécurité'!D24","v":0},{"$f":"'Efficacité grimpeur'!D22","v":0}]
[null,null,0,{"$f":"'Efficacité projet'!B24","v":0},{"$f":"'Efficacité sécurité'!D25","v":0},{"$f":"'Efficacité grimpeur'!D23","v":0}]
[null,null,0,{"$f":"'Efficacité projet'!B25","v":0},{"$f":"'Efficacité sécurité'!D26","v":0},{"$f":"'Efficacité grimpeur'!D24","v":0}]
[null,null,0,{"$f":"'Efficacité projet'!B26","v":0},{"$f":"'Efficacité sécurité'!D27","v":0},{"$f":"'Efficacité grimpeur'!D25","v":0}]
[null,null,0,{"$f":"'Efficacité projet'!B27","v":0},{"$f":"'Efficacité sécurité'!D28","v":0},{"$f":"'Efficacité grimpeur'!D26","v":0}]
[null,null,0,{"$f":"'Efficacité projet'!B28","v":0},{"$f":"'Efficacité sécurité'!D29","v":0},{"$f":"'Efficacité grimpeur'!D27","v":0}]
[null,null,0,{"$f":"'Efficacité projet'!B29","v":0},{"$f":"'Efficacité sécurité'!D30","v":0},{"$f":"'Efficacité grimpeur'!D28","v":0}]
[null,null,0,{"$f":"'Efficacité projet'!B30","v":0},{"$f":"'Efficacité sécurité'!D31","v":0},{"$f":"'Efficacité grimpeur'!D29","v":0}]
[null,null,0,{"$f":"'Efficacité projet'!B31","v":0},{"$f":"'Efficacité sécurité'!D32","v":0},{"$f":"'Efficacité grimpeur'!D30","v":0}]

{"sheet":"Efficacité projet","index":3,"n_rows":37,"n_cols":12,"rows_kept":37,"cut":false,"hidden":false,"merged":[[5,8,5,11],[5,4,5,7]]}
[]
[]
[]
[]
[]
[null,null,null,null,"VOIE 1",null,null,null,"VOIE 2"]
["Pts","Note / 10","Nom","Prénom","Cot°","Perf"," Bonus","Pts","Cot°","Perf"," Bonus","Pts"]
[{"$f":"H8+L8","v":0},{"$f":"IF(A8=0,0,VLOOKUP(A8,barême,2,TRUE))","v":0},{"$f":"IF('Note sur 20'!A7=\"\",\"\",'Note sur 20'!A7)","v":""},{"$f":"IF('Note sur 20'!B7=\"\",\"\",'Note sur 20'!B7)","v":""},null,null,{"$f":"IF(F8<8,0,IF(E8=\"3c\",0,IF(E8=\"4a\",1,IF(E8=\"4b\",2,IF(E8=\"4c\",3,IF(E8=\"5a\",4,IF(E8=\"5b\",5,IF(E8=\"5c\",6,IF(E8=\"6a\",7,IF(E8=\"6b\",8,))))))))))","v":0},{"$f":"SUM(F8:G8)","v":0},null,null,{"$f":"IF(J8<8,0,IF(I8=\"3c\",0,IF(I8=\"4a\",1,IF(I8=\"4b\",2,IF(I8=\"4c\",3,IF(I8=\"5a\",4,IF(I8=\"5b\",5,IF(I8=\"5c\",6,IF(I8=\"6a\",7,IF(I8=\"6b\",8,))))))))))","v":0},{"$f":"SUM(J8:K8)","v":0}]
[{"$f":"H9+L9","v":0},{"$f":"IF(A9=0,0,VLOOKUP(A9,barême,2,TRUE))","v":0},{"$f":"IF('Note sur 20'!A8=\"\",\"\",'Note sur 20'!A8)","v":""},{"$f":"IF('Note sur 20'!B8=\"\",\"\",'Note sur 20'!B8)","v":""},null,null,{"$f":"IF(F9<9,0,IF(E9=\"3c\",0,IF(E9=\"4a\",1,IF(E9=\"4b\",2,IF(E9=\"4c\",3,IF(E9=\"5a\",4,IF(E9=\"5b\",5,IF(E9=\"5c\",6,IF(E9=\"6a\",7,IF(E9=\"6b\",8,))))))))))","v":0},{"$f":"SUM(F9:G9)","v":0},null,null,{"$f":"IF(J9<9,0,IF(I9=\"3c\",0,IF(I9=\"4a\",1,IF(I9=\"4b\",2,IF(I9=\"4c\",3,IF(I9=\"5a\",4,IF(I9=\"5b\",5,IF(I9=\"5c\",6,IF(I9=\"6a\",7,IF(I9=\"6b\",8,))))))))))","v":0},{"$f":"SUM(J9:K9)","v":0}]
[0,0,{"$f":"IF('Note sur 20'!A9=\"\",\"\",'Note sur 20'!A9)","v":""},{"$f":"IF('Note sur 20'!B9=\"\",\"\",'Note sur 20'!B9)","v":""},null,null,0,0,null,null,0,0]
[0,0,{"$f":"IF('Note sur 20'!A10=\"\",\"\",'Note sur 20'!A10)","v":""},{"$f":"IF('Note sur 20'!B10=\"\",\"\",'Note sur 20'!B10)","v":""},null,null,0,0,null,null,0,0]
[0,0,{"$f":"IF('Note sur 20'!A11=\"\",\"\",'Note sur 20'!A11)","v":""},{"$f":"IF('Note sur 20'!B11=\"\",\"\",'Note sur 20'!B11)","v":""},null,null,0,0,null,null,0,0]
[0,0,{"$f":"IF('Note sur 20'!A12=\"\",\"\",'Note sur 20'!A12)","v":""},{"$f":"IF('Note sur 20'!B12=\"\",\"\",'Note sur 20'!B12)","v":""},null,null,0,0,null,null,0,0]
[0,0,{"$f":"IF('Note sur 20'!A13=\"\",\"\",'Note sur 20'!A13)","v":""},{"$f":"IF('Note sur 20'!B13=\"\",\"\",'Note sur 20'!B13)","v":""},null,null,0,0,null,null,0,0]
[0,0,{"$f":"IF('Note sur 20'!A14=\"\",\"\",'Note sur 20'!A14)","v":""},{"$f":"IF('Note sur 20'!B14=\"\",\"\",'Note sur 20'!B14)","v":""},null,null,0,0,null,null,0,0]
[0,0,{"$f":"IF('Note sur 20'!A15=\"\",\"\",'Note sur 20'!A15)","v":""},{"$f":"IF('Note sur 20'!B15=\"\",\"\",'Note sur 20'!B15)","v":""},null,null,0,0,null,null,0,0]
[0,0,{"$f":"IF('Note sur 20'!A16=\"\",\"\",'Note sur 20'!A16)","v":""},{"$f":"IF('Note sur 20'!B16=\"\",\"\",'Note sur 20'!B16)","v":""},null,null,0,0,null,null,0,0]
[0,0,{"$f":"IF('Note sur 20'!A17=\"\",\"\",'Note sur 20'!A17)","v":""},{"$f":"IF('Note sur 20'!B17=\"\",\"\",'Note sur 20'!B17)","v":""},null,null,0,0,null,null,0,0]
[0,0,{"$f":"IF('Note sur 20'!A18=\"\",\"\",'Note sur 20'!A18)","v":""},{"$f":"IF('Note sur 20'!B18=\"\",\"\",'Note sur 20'!B18)","v":""},null,null,0,0,null,null,0,0]
[0,0,{"$f":"IF('Note sur 20'!A19=\"\",\"\",'Note sur 20'!A19)","v":""},{"$f":"IF('Note sur 20'!B19=\"\",\"\",'Note sur 20'!B19)","v":""},null,null,0,0,null,null,0,0]
[0,0,{"$f":"IF('Note sur 20'!A20=\"\",\"\",'Note sur 20'!A20)","v":""},{"$f":"IF('Note sur 20'!B20=\"\",\"\",'Note sur 20'!B20)","v":""},null,null,0,0,null,null,0,0]
[0,0,{"$f":"IF('Note sur 20'!A21=\"\",\"\",'Note sur 20'!A21)","v":""},{"$f":"IF('Note sur 20'!B21=\"\",\"\",'Note sur 20'!B21)","v":""},null,null,0,0,null,null,0,0]
[0,0,{"$f":"IF('Note sur 20'!A22=\"\",\"\",'Note sur 20'!A22)","v":""},{"$f":"IF('Note sur 20'!B22=\"\",\"\",'Note sur 20'!B22)","v":""},null,null,0,0,null,null,0,0]
[0,0,{"$f":"IF('Note sur 20'!A23=\"\",\"\",'Note sur 20'!A23)","v":""},{"$f":"IF('Note sur 20'!B23=\"\",\"\",'Note sur 20'!B23)","v":""},null,null,0,0,null,null,0,0]
[0,0,{"$f":"IF('Note sur 20'!A24=\"\",\"\",'Note sur 20'!A24)","v":""},{"$f":"IF('Note sur 20'!B24=\"\",\"\",'Note sur 20'!B24)","v":""},null,null,0,0,null,null,0,0]
[0,0,{"$f":"IF('Note sur 20'!A25=\"\",\"\",'Note sur 20'!A25)","v":""},{"$f":"IF('Note sur 20'!B25=\"\",\"\",'Note sur 20'!B25)","v":""},null,null,0,0,null,null,0,0]
[0,0,{"$f":"IF('Note sur 20'!A26=\"\",\"\",'Note sur 20'!A26)","v":""},{"$f":"IF('Note sur 20'!B26=\"\",\"\",'Note sur 20'!B26)","v":""},null,null,0,0,null,null,0,0]
[0,0,{"$f":"IF('Note sur 20'!A27=\"\",\"\",'Note sur 20'!A27)","v":""},{"$f":"IF('Note sur 20'!B27=\"\",\"\",'Note sur 20'!B27)","v":""},null,null,0,0,null,null,0,0]
[0,0,{"$f":"IF('Note sur 20'!A28=\"\",\"\",'Note sur 20'!A28)","v":""},{"$f":"IF('Note sur 20'!B28=\"\",\"\",'Note sur 20'!B28)","v":""},null,null,0,0,null,null,0,0]
[0,0,{"$f":"IF('Note sur 20'!A29=\"\",\"\",'Note sur 20'!A29)","v":""},{"$f":"IF('Note sur 20'!B29=\"\",\"\",'Note sur 20'!B29)","v":""},null,null,0,0,null,null,0,0]
[0,0,{"$f":"IF('Note sur 20'!A30=\"\",\"\",'Note sur 20'!A30)","v":""},{"$f":"IF('Note sur 20'!B30=\"\",\"\",'Note sur 20'!B30)","v":""},null,null,0,0,null,null,0,0]
[0,0,{"$f":"IF('Note sur 20'!A31=\"\",\"\",'Note sur 20'!A31)","v":""},{"$f":"IF('Note sur 20'!B31=\"\",\"\",'Note sur 20'!B31)","v":""},null,null,0,0,null,null,0,0]
[0,0,{"$f":"IF('Note sur 20'!A32=\"\",\"\",'Note sur 20'!A32)","v":""},{"$f":"IF('Note sur 20'!B32=\"\",\"\",'Note sur 20'!B32)","v":""},null,null,0,0,null,null,0,0]
[0,0,{"$f":"IF('Note sur 20'!A33=\"\",\"\",'Note sur 20'!A33)","v":""},{"$f":"IF('Note sur 20'!B33=\"\",\"\",'Note sur 20'!B33)","v":""},null,null,0,0,null,null,0,0]
[0,0,{"$f":"IF('Note sur 20'!A34=\"\",\"\",'Note sur 20'!A34)","v":""},{"$f":"IF('Note sur 20'!B34=\"\",\"\",'Note sur 20'!B34)","v":""},null,null,0,0,null,null,0,0]
[0,0,{"$f":"IF('Note sur 20'!A35=\"\",\"\",'Note sur 20'!A35)","v":""},{"$f":"IF('Note sur 20'!B35=\"\",\"\",'Note sur 20'!B35)","v":""},null,null,0,0,null,null,0,0]
[0,0,{"$f":"IF('Note sur 20'!A36=\"\",\"\",'Note sur 20'!A36)","v":""},{"$f":"IF('Note sur 20'!B36=\"\",\"\",'Note sur 20'!B36)","v":""},null,null,0,0,null,null,{"$f":"IF(J37<8,0,IF(I37=\"3c\",0,IF(I37=\"4a\",1,IF(I37=\"4b\",2,IF(I37=\"4c\",3,IF(I37=\"5a\",4,IF(I37=\"5b\",5,IF(I37=\"5c\",6,IF(I37=\"6a\",7,IF(I37=\"6b\",8,))))))))))","v":0},0]

{"sheet":"Efficacité sécurité","index":4,"n_rows":35,"n_cols":4,"rows_kept":35,"cut":false,"hidden":false,"merged":[]}
[]
[]
[]
[]
[]
[]
[]
[null,"Nom","Prénom","Sécurité / 6"]
[null,{"$f":"IF('Note sur 20'!A7=\"\",\"\",'Note sur 20'!A7)","v":""},{"$f":"IF('Note sur 20'!B7=\"\",\"\",'Note sur 20'!B7)","v":""}]
[null,{"$f":"IF('Note sur 20'!A8=\"\",\"\",'Note sur 20'!A8)","v":""},{"$f":"IF('Note sur 20'!B8=\"\",\"\",'Note sur 20'!B8)","v":""}]
[null,{"$f":"IF('Note sur 20'!A9=\"\",\"\",'Note sur 20'!A9)","v":""},{"$f":"IF('Note sur 20'!B9=\"\",\"\",'Note sur 20'!B9)","v":""}]
[null,{"$f":"IF('Note sur 20'!A10=\"\",\"\",'Note sur 20'!A10)","v":""},{"$f":"IF('Note sur 20'!B10=\"\",\"\",'Note sur 20'!B10)","v":""}]
[null,{"$f":"IF('Note sur 20'!A11=\"\",\"\",'Note sur 20'!A11)","v":""},{"$f":"IF('Note sur 20'!B11=\"\",\"\",'Note sur 20'!B11)","v":""}]
[null,{"$f":"IF('Note sur 20'!A12=\"\",\"\",'Note sur 20'!A12)","v":""},{"$f":"IF('Note sur 20'!B12=\"\",\"\",'Note sur 20'!B12)","v":""}]
[null,{"$f":"IF('Note sur 20'!A13=\"\",\"\",'Note sur 20'!A13)","v":""},{"$f":"IF('Note sur 20'!B13=\"\",\"\",'Note sur 20'!B13)","v":""}]
[null,{"$f":"IF('Note sur 20'!A14=\"\",\"\",'Note sur 20'!A14)","v":""},{"$f":"IF('Note sur 20'!B14=\"\",\"\",'Note sur 20'!B14)","v":""}]
[null,{"$f":"IF('Note sur 20'!A15=\"\",\"\",'Note sur 20'!A15)","v":""},{"$f":"IF('Note sur 20'!B15=\"\",\"\",'Note sur 20'!B15)","v":""}]
[null,{"$f":"IF('Note sur 20'!A16=\"\",\"\",'Note sur 20'!A16)","v":""},{"$f":"IF('Note sur 20'!B16=\"\",\"\",'Note sur 20'!B16)","v":""}]
[null,{"$f":"IF('Note sur 20'!A17=\"\",\"\",'Note sur 20'!A17)","v":""},{"$f":"IF('Note sur 20'!B17=\"\",\"\",'Note sur 20'!B17)","v":""}]
[null,{"$f":"IF('Note sur 20'!A18=\"\",\"\",'Note sur 20'!A18)","v":""},{"$f":"IF('Note sur 20'!B18=\"\",\"\",'Note sur 20'!B18)","v":""}]
[null,{"$f":"IF('Note sur 20'!A19=\"\",\"\",'Note sur 20'!A19)","v":""},{"$f":"IF('Note sur 20'!B19=\"\",\"\",'Note sur 20'!B19)","v":""}]
[null,{"$f":"IF('Note sur 20'!A20=\"\",\"\",'Note sur 20'!A20)","v":""},{"$f":"IF('Note sur 20'!B20=\"\",\"\",'Note sur 20'!B20)","v":""}]
[null,{"$f":"IF('Note sur 20'!A21=\"\",\"\",'Note sur 20'!A21)","v":""},{"$f":"IF('Note sur 20'!B21=\"\",\"\",'Note sur 20'!B21)","v":""}]
[null,{"$f":"IF('Note sur 20'!A22=\"\",\"\",'Note sur 20'!A22)","v":""},{"$f":"IF('Note sur 20'!B22=\"\",\"\",'Note sur 20'!B22)","v":""}]
[null,{"$f":"IF('Note sur 20'!A23=\"\",\"\",'Note sur 20'!A23)","v":""},{"$f":"IF('Note sur 20'!B23=\"\",\"\",'Note sur 20'!B23)","v":""}]
[null,{"$f":"IF('Note sur 20'!A24=\"\",\"\",'Note sur 20'!A24)","v":""},{"$f":"IF('Note sur 20'!B24=\"\",\"\",'Note sur 20'!B24)","v":""}]
[null,{"$f":"IF('Note sur 20'!A25=\"\",\"\",'Note sur 20'!A25)","v":""},{"$f":"IF('Note sur 20'!B25=\"\",\"\",'Note sur 20'!B25)","v":""}]
[null,{"$f":"IF('Note sur 20'!A26=\"\",\"\",'Note sur 20'!A26)","v":""},{"$f":"IF('Note sur 20'!B26=\"\",\"\",'Note sur 20'!B26)","v":""}]
[null,{"$f":"IF('Note sur 20'!A27=\"\",\"\",'Note sur 20'!A27)","v":""},{"$f":"IF('Note sur 20'!B27=\"\",\"\",'Note sur 20'!B27)","v":""}]
[null,{"$f":"IF('Note sur 20'!A28=\"\",\"\",'Note sur 20'!A28)","v":""},{"$f":"IF('Note sur 20'!B28=\"\",\"\",'Note sur 20'!B28)","v":""}]
[null,{"$f":"IF('Note sur 20'!A29=\"\",\"\",'Note sur 20'!A29)","v":""},{"$f":"IF('Note sur 20'!B29=\"\",\"\",'Note sur 20'!B29)","v":""}]
[null,{"$f":"IF('Note sur 20'!A30=\"\",\"\",'Note sur 20'!A30)","v":""},{"$f":"IF('Note sur 20'!B30=\"\",\"\",'Note sur 20'!B30)","v":""}]
[null,{"$f":"IF('Note sur 20'!A31=\"\",\"\",'Note sur 20'!A31)","v":""},{"$f":"IF('Note sur 20'!B31=\"\",\"\",'Note sur 20'!B31)","v":""}]
[null,{"$f":"IF('Note sur 20'!A32=\"\",\"\",'Note sur 20'!A32)","v":""},{"$f":"IF('Note sur 20'!B32=\"\",\"\",'Note sur 20'!B32)","v":""}]
[null,{"$f":"IF('Note sur 20'!A33=\"\",\"\",'Note sur 20'!A33)","v":""},{"$f":"IF('Note sur 20'!B33=\"\",\"\",'Note sur 20'!B33)","v":""}]

{"sheet":"Efficacité grimpeur","index":5,"n_rows":33,"n_cols":4,"rows_kept":33,"cut":false,"hidden":false,"merged":[]}
[]
[]
[]
[]
[]
[null,"Nom","Prénom","Note"]
[null,{"$f":"IF('Note sur 20'!A7=\"\",\"\",'Note sur 20'!A7)","v":""},{"$f":"IF('Note sur 20'!B7=\"\",\"\",'Note sur 20'!B7)","v":""}]
[null,{"$f":"IF('Note sur 20'!A8=\"\",\"\",'Note sur 20'!A8)","v":""},{"$f":"IF('Note sur 20'!B8=\"\",\"\",'Note sur 20'!B8)","v":""}]
[null,{"$f":"IF('Note sur 20'!A9=\"\",\"\",'Note sur 20'!A9)","v":""},{"$f":"IF('Note sur 20'!B9=\"\",\"\",'Note sur 20'!B9)","v":""}]
[null,{"$f":"IF('Note sur 20'!A10=\"\",\"\",'Note sur 20'!A10)","v":""},{"$f":"IF('Note sur 20'!B10=\"\",\"\",'Note sur 20'!B10)","v":""}]
[null,{"$f":"IF('Note sur 20'!A11=\"\",\"\",'Note sur 20'!A11)","v":""},{"$f":"IF('Note sur 20'!B11=\"\",\"\",'Note sur 20'!B11)","v":""}]
[null,{"$f":"IF('Note sur 20'!A12=\"\",\"\",'Note sur 20'!A12)","v":""},{"$f":"IF('Note sur 20'!B12=\"\",\"\",'Note sur 20'!B12)","v":""}]
[null,{"$f":"IF('Note sur 20'!A13=\"\",\"\",'Note sur 20'!A13)","v":""},{"$f":"IF('Note sur 20'!B13=\"\",\"\",'Note sur 20'!B13)","v":""}]
[null,{"$f":"IF('Note sur 20'!A14=\"\",\"\",'Note sur 20'!A14)","v":""},{"$f":"IF('Note sur 20'!B14=\"\",\"\",'Note sur 20'!B14)","v":""}]
[null,{"$f":"IF('Note sur 20'!A15=\"\",\"\",'Note sur 20'!A15)","v":""},{"$f":"IF('Note sur 20'!B15=\"\",\"\",'Note sur 20'!B15)","v":""}]
[null,{"$f":"IF('Note sur 20'!A16=\"\",\"\",'Note sur 20'!A16)","v":""},{"$f":"IF('Note sur 20'!B16=\"\",\"\",'Note sur 20'!B16)","v":""}]
[null,{"$f":"IF('Note sur 20'!A17=\"\",\"\",'Note sur 20'!A17)","v":""},{"$f":"IF('Note sur 20'!B17=\"\",\"\",'Note sur 20'!B17)","v":""}]
[null,{"$f":"IF('Note sur 20'!A18=\"\",\"\",'Note sur 20'!A18)","v":""},{"$f":"IF('Note sur 20'!B18=\"\",\"\",'Note sur 20'!B18)","v":""}]
[null,{"$f":"IF('Note sur 20'!A19=\"\",\"\",'Note sur 20'!A19)","v":""},{"$f":"IF('Note sur 20'!B19=\"\",\"\",'Note sur 20'!B19)","v":""}]
[null,{"$f":"IF('Note sur 20'!A20=\"\",\"\",'Note sur 20'!A20)","v":""},{"$f":"IF('Note sur 20'!B20=\"\",\"\",'Note sur 20'!B20)","v":""}]
[null,{"$f":"IF('Note sur 20'!A21=\"\",\"\",'Note sur 20'!A21)","v":""},{"$f":"IF('Note sur 20'!B21=\"\",\"\",'Note sur 20'!B21)","v":""}]
[null,{"$f":"IF('Note sur 20'!A22=\"\",\"\",'Note sur 20'!A22)","v":""},{"$f":"IF('Note sur 20'!B22=\"\",\"\",'Note sur 20'!B22)","v":""}]
[null,{"$f":"IF('Note sur 20'!A23=\"\",\"\",'Note sur 20'!A23)","v":""},{"$f":"IF('Note sur 20'!B23=\"\",\"\",'Note sur 20'!B23)","v":""}]
[null,{"$f":"IF('Note sur 20'!A24=\"\",\"\",'Note sur 20'!A24)","v":""},{"$f":"IF('Note sur 20'!B24=\"\",\"\",'Note sur 20'!B24)","v":""}]
[null,{"$f":"IF('Note sur 20'!A25=\"\",\"\",'Note sur 20'!A25)","v":""},{"$f":"IF('Note sur 20'!B25=\"\",\"\",'Note sur 20'!B25)","v":""}]
[null,{"$f":"IF('Note sur 20'!A26=\"\",\"\",'Note sur 20'!A26)","v":""},{"$f":"IF('Note sur 20'!B26=\"\",\"\",'Note sur 20'!B26)","v":""}]
[null,{"$f":"IF('Note sur 20'!A27=\"\",\"\",'Note sur 20'!A27)","v":""},{"$f":"IF('Note sur 20'!B27=\"\",\"\",'Note sur 20'!B27)","v":""}]
[null,{"$f":"IF('Note sur 20'!A28=\"\",\"\",'Note sur 20'!A28)","v":""},{"$f":"IF('Note sur 20'!B28=\"\",\"\",'Note sur 20'!B28)","v":""}]
[null,{"$f":"IF('Note sur 20'!A29=\"\",\"\",'Note sur 20'!A29)","v":""},{"$f":"IF('Note sur 20'!B29=\"\",\"\",'Note sur 20'!B29)","v":""}]
[null,{"$f":"IF('Note sur 20'!A30=\"\",\"\",'Note sur 20'!A30)","v":""},{"$f":"IF('Note sur 20'!B30=\"\",\"\",'Note sur 20'!B30)","v":""}]
[null,{"$f":"IF('Note sur 20'!A31=\"\",\"\",'Note sur 20'!A31)","v":""},{"$f":"IF('Note sur 20'!B31=\"\",\"\",'Note sur 20'!B31)","v":""}]
[null,{"$f":"IF('Note sur 20'!A32=\"\",\"\",'Note sur 20'!A32)","v":""},{"$f":"IF('Note sur 20'!B32=\"\",\"\",'Note sur 20'!B32)","v":""}]
[null,{"$f":"IF('Note sur 20'!A33=\"\",\"\",'Note sur 20'!A33)","v":""},{"$f":"IF('Note sur 20'!B33=\"\",\"\",'Note sur 20'!B33)","v":""}]

{"sheet":"barême performance","index":6,"n_rows":21,"n_cols":2,"rows_kept":21,"cut":false,"hidden":false,"merged":[]}
["Barême Projet élève (= barème performance)"]
["Pts","Note"]
[6,1]
[8,1.5]
[10,2]
[12,2.5]
[14,3]
[15,3.5]
[16,4]
[17,4.5]
[18,5]
[19,5.5]
[20,6]
[21,6.5]
[22,7]
[23,7.5]
[24,8]
[25,8.5]
[26,9]
[27,9.5]
[28,10]

{"sheet":"Référentiel évaluation","index":7,"n_rows":0,"n_cols":0,"rows_kept":0,"cut":false,"hidden":false,"merged":[]}

{"sheet":"Fiche ressource","index":8,"n_rows":0,"n_cols":0,"rows_kept":0,"cut":false,"hidden":false,"merged":[]}