{"text_format":"1","workbook":"xlsx","n_sheets":4,"sheets":["Accueil","Evaluation","Barèmes & Options","Présentation des profils"],"not_rendered":{"charts":0,"images":1,"macros":1,"external_links":0,"defined_names":393,"comments":1,"pivot_tables":0},"unopened":[],"bounds":{"document_bytes":16777216,"sheet_cells":100000,"rows_first":2000,"rows_last":500,"rows_between":2000,"halvings":0,"cell_chars":16384,"cell_head_chars":4096},"cells_cut":0,"cells_raw":0,"read":"whole","date_system":"1900"}

{"sheet":"Accueil","index":0,"n_rows":0,"n_cols":0,"rows_kept":0,"cut":false,"hidden":false,"merged":[]}

{"sheet":"Evaluation","index":1,"n_rows":101,"n_cols":37,"rows_kept":101,"cut":false,"hidden":false,"merged":[[0,0,0,28]]}
["Course de demi-fond Bac GT - N4 - 2018"]
[]
["Nom","Prénom","Sexe F ou M","Classe","Profil choisi","Projet C1","500-1","Ecart","Profil si régulation","profil choisi","500-2","500-3","Temps Total","c2-c1","c3-c2","c3-c1","respect c1-c2=","respect c1-c2+","respect c1-c2-","respect C2-C3=","respect C2-C3+","respect C2-C3-","Respect Profile 9","points respect","points profil","Point projet C1","Points perf","Points echauffement","Note",null,null,null,null,null,"Sexe"]
[null,null,null,null,null,null,null,{"$f":"IF(OR(F4=\"\",G4=\"\"),\"\",ABS((INT(G4)*60)+((G4-INT(G4))*100)-((INT(F4)*60)+((F4-INT(F4))*100))))","v":""},null,{"$f":"IF(AND(E4=\"\",I4=\"\"),\"\",IF(I4=\"\",E4,I4))","v":""},null,null,{"$f":"IF(AND(L4<>\"\",K4<>\"\",G4<>\"\"),INT(((INT($G4)*60)+(($G4-INT($G4))*100)+(INT($K4)*60)+(($K4-INT($K4))*100)+(INT($L4)*60)+(($L4-INT($L4))*100))/60)+MOD(((INT($G4)*60)+(($G4-INT($G4))*100)+(INT($K4)*60)+(($K4-INT($K4))*100)+(INT($L4)*60)+(($L4-INT($L4))*100)),60)/100,\"\")","v":""},{"$f":"(INT(K4)*60)+((K4-INT(K4))*100)-((INT(G4)*60)+((G4-INT(G4))*100))","v":0},{"$f":"(INT(L4)*60)+((L4-INT(L4))*100)-((INT(K4)*60)+((K4-INT(K4))*100))","v":0},{"$f":"(INT(L4)*60)+((L4-INT(L4))*100)-((INT(G4)*60)+((G4-INT(G4))*100))","v":0},{"$f":"IF(AND(K4<>0,G4<>0),IF(OR(J4=1,J4=3,J4=4),IF(OR(N4=0,ABS(N4)<='Barèmes & Options'!H$2),1,0)),\"\")","v":""},{"$f":"IF(AND(K4<>\"\",G4<>\"\"),IF(OR(J4=5,J4=7),IF(OR(N4>0,N4+'Barèmes & Options'!H$2>0),1,0)),\"\")","v":""},{"$f":"IF(AND(K4<>\"\",G4<>\"\"),IF(OR(J4=2,J4=6,J4=8),IF(OR(N4<0,N4-'Barèmes & Options'!H$2<0),1,0)),\"\")","v":""},{"$f":"IF(AND(K4<>0,L4<>0),IF(OR(J4=1,J4=5,J4=6),IF(OR(O4=0,ABS(O4)<='Barèmes & Options'!H$2),1,0)),\"\")","v":""},{"$f":"IF(AND(K4<>\"\",L4<>\"\"),IF(OR(J4=4,J4=8),IF(OR(O4>0,O4+'Barèmes & Options'!H$2>0),1,0)),\"\")","v":""},{"$f":"IF(AND(K4<>\"\",L4<>\"\"),IF(OR(J4=2,J4=3,J4=7),IF(OR(O4<0,O4-'Barèmes & Options'!H$2<0),1,0)),\"\")","v":""},{"$f":"IF(SUM(Q4:V4)=2,IF(J4=2,IF(J4=2,IF(P4-'Barèmes & Options'!H$2<-1,0,1)),\"\"),0)","v":0},{"$f":"IF(OR(J4=2,J4=9),SUM(Q4:V4)-W4,SUM(Q4:V4))","v":0},{"$f":"IF(J4<>\"\",IF(AND(J4>=1,J4<=8,J4=ABS(J4)),IF(AND(J4<=9,J4>=1),IF(AND(X4=1,I4<>\"\"),1,IF(AND(X4=1,I4=\"\"),2,IF(AND(X4=2,I4<>\"\"),2.5,IF(AND(X4=2,I4=\"\"),3,0)))),\"\"),\"Err. Profil\"),\"\")","v":""},{"$f":"IF(F4<>\"\",IF(H4<=3,1,0),\"\")","v":""},{"$f":"IF(AND(L4>0,K4>0,G4>0),IF($C4=\"\",\"\",IF($C4=\"F\",VLOOKUP($M4,Barème500,3),VLOOKUP($M4,Barème500,2))),\"\")","v":""},null,{"$f":"IF(OR(AB3=\"\",AB4=\"\",AA4=\"\",Z4=\"\",Y4=\"\"),\"\",IF(OR(AB4<0,AB4>2),\"Err ech.\",SUM(AB4,AA4,Z4,Y4)))","v":""},null,"Moyenne F. :",{"$f":"IF(ISERROR(AJ4),\"\",AJ4)","v":""},null,null,{"$f":"IF(C4<>\"f\",\"m\",\"f\")","v":"m"},{"$f":"AVERAGEIF(AI4:AI101,\"f\",AC4:AC101)","v":{"$error":"#DIV/0!"}},"filles"]
[null,null,null,null,null,null,null,{"$f":"IF(OR(F5=\"\",G5=\"\"),\"\",ABS((INT(G5)*60)+((G5-INT(G5))*100)-((INT(F5)*60)+((F5-INT(F5))*100))))","v":""},null,{"$f":"IF(AND(E5=\"\",I5=\"\"),\"\",IF(I5=\"\",E5,I5))","v":""},null,null,{"$f":"IF(AND(L5<>\"\",K5<>\"\",G5<>\"\"),INT(((INT($G5)*60)+(($G5-INT($G5))*100)+(INT($K5)*60)+(($K5-INT($K5))*100)+(INT($L5)*60)+(($L5-INT($L5))*100))/60)+MOD(((INT($G5)*60)+(($G5-INT($G5))*100)+(INT($K5)*60)+(($K5-INT($K5))*100)+(INT($L5)*60)+(($L5-INT($L5))*100)),60)/100,\"\")","v":""},{"$f":"(INT(K5)*60)+((K5-INT(K5))*100)-((INT(G5)*60)+((G5-INT(G5))*100))","v":0},{"$f":"(INT(L5)*60)+((L5-INT(L5))*100)-((INT(K5)*60)+((K5-INT(K5))*100))","v":0},{"$f":"(INT(L5)*60)+((L5-INT(L5))*100)-((INT(G5)*60)+((G5-INT(G5))*100))","v":0},{"$f":"IF(AND(K5<>0,G5<>0),IF(OR(J5=1,J5=3,J5=4),IF(OR(N5=0,ABS(N5)<='Barèmes & Options'!H$2),1,0)),\"\")","v":""},{"$f":"IF(AND(K5<>\"\",G5<>\"\"),IF(OR(J5=5,J5=7),IF(OR(N5>0,N5+'Barèmes & Options'!H$2>0),1,0)),\"\")","v":""},{"$f":"IF(AND(K5<>\"\",G5<>\"\"),IF(OR(J5=2,J5=6,J5=8),IF(OR(N5<0,N5-'Barèmes & Options'!H$2<0),1,0)),\"\")","v":""},{"$f":"IF(AND(K5<>0,L5<>0),IF(OR(J5=1,J5=5,J5=6),IF(OR(O5=0,ABS(O5)<='Barèmes & Options'!H$2),1,0)),\"\")","v":""},{"$f":"IF(AND(K5<>\"\",L5<>\"\"),IF(OR(J5=4,J5=8),IF(OR(O5>0,O5+'Barèmes & Options'!H$2>0),1,0)),\"\")","v":""},{"$f":"IF(AND(K5<>\"\",L5<>\"\"),IF(OR(J5=2,J5=3,J5=7),IF(OR(O5<0,O5-'Barèmes & Options'!H$2<0),1,0)),\"\")","v":""},{"$f":"IF(SUM(Q5:V5)=2,IF(J5=2,IF(J5=2,IF(P5-'Barèmes & Options'!H$2<-1,0,1)),\"\"),0)","v":0},{"$f":"IF(OR(J5=2,J5=9),SUM(Q5:V5)-W5,SUM(Q5:V5))","v":0},{"$f":"IF(J5<>\"\",IF(AND(J5>=1,J5<=8,J5=ABS(J5)),IF(AND(J5<=9,J5>=1),IF(AND(X5=1,I5<>\"\"),1,IF(AND(X5=1,I5=\"\"),2,IF(AND(X5=2,I5<>\"\"),2.5,IF(AND(X5=2,I5=\"\"),3,0)))),\"\"),\"Err. Profil\"),\"\")","v":""},"","",null,{"$f":"IF(OR(AB4=\"\",AB5=\"\",AA5=\"\",Z5=\"\",Y5=\"\"),\"\",IF(OR(AB5<0,AB5>2),\"Err ech.\",SUM(AB5,AA5,Z5,Y5)))","v":""},null,"moyenne G. :",{"$f":"IF(ISERROR(AJ5),\"\",AJ5)","v":""},null,null,"m",{"$f":"AVERAGEIF(AI4:AI101,\"m\",AC4:AC101)","v":{"$error":"#DIV/0!"}},"garçons"]
[null,null,null,null,null,null,null,"",null,"",null,null,"",0,0,0,{"$f":"IF(AND(K6<>0,G6<>0),IF(OR(J6=1,J6=3,J6=4),IF(OR(N6=0,ABS(N6)<='Barèmes & Options'!H$2),1,0)),\"\")","v":""},{"$f":"IF(AND(K6<>\"\",G6<>\"\"),IF(OR(J6=5,J6=7),IF(OR(N6>0,N6+'Barèmes & Options'!H$2>0),1,0)),\"\")","v":""},{"$f":"IF(AND(K6<>\"\",G6<>\"\"),IF(OR(J6=2,J6=6,J6=8),IF(OR(N6<0,N6-'Barèmes & Options'!H$2<0),1,0)),\"\")","v":""},{"$f":"IF(AND(K6<>0,L6<>0),IF(OR(J6=1,J6=5,J6=6),IF(OR(O6=0,ABS(O6)<='Barèmes & Options'!H$2),1,0)),\"\")","v":""},{"$f":"IF(AND(K6<>\"\",L6<>\"\"),IF(OR(J6=4,J6=8),IF(OR(O6>0,O6+'Barèmes & Options'!H$2>0),1,0)),\"\")","v":""},{"$f":"IF(AND(K6<>\"\",L6<>\"\"),IF(OR(J6=2,J6=3,J6=7),IF(OR(O6<0,O6-'Barèmes & Options'!H$2<0),1,0)),\"\")","v":""},{"$f":"IF(SUM(Q6:V6)=2,IF(J6=2,IF(J6=2,IF(P6-'Barèmes & Options'!H$2<-1,0,1)),\"\"),0)","v":0},0,"","","",null,"",null,"Moyenne :",{"$f":"IF(ISERROR(AJ6),\"\",AJ6)","v":""},null,null,"m",{"$f":"AVERAGE(AC4:AC101)","v":{"$error":"#DIV/0!"}},"géné"]
[null,null,null,null,null,null,null,"",null,"",null,null,"",0,0,0,{"$f":"IF(AND(K7<>0,G7<>0),IF(OR(J7=1,J7=3,J7=4),IF(OR(N7=0,ABS(N7)<='Barèmes & Options'!H$2),1,0)),\"\")","v":""},{"$f":"IF(AND(K7<>\"\",G7<>\"\"),IF(OR(J7=5,J7=7),IF(OR(N7>0,N7+'Barèmes & Options'!H$2>0),1,0)),\"\")","v":""},{"$f":"IF(AND(K7<>\"\",G7<>\"\"),IF(OR(J7=2,J7=6,J7=8),IF(OR(N7<0,N7-'Barèmes & Options'!H$2<0),1,0)),\"\")","v":""},{"$f":"IF(AND(K7<>0,L7<>0),IF(OR(J7=1,J7=5,J7=6),IF(OR(O7=0,ABS(O7)<='Barèmes & Options'!H$2),1,0)),\"\")","v":""},{"$f":"IF(AND(K7<>\"\",L7<>\"\"),IF(OR(J7=4,J7=8),IF(OR(O7>0,O7+'Barèmes & Options'!H$2>0),1,0)),\"\")","v":""},{"$f":"IF(AND(K7<>\"\",L7<>\"\"),IF(OR(J7=2,J7=3,J7=7),IF(OR(O7<0,O7-'Barèmes & Options'!H$2<0),1,0)),\"\")","v":""},{"$f":"IF(SUM(Q7:V7)=2,IF(J7=2,IF(J7=2,IF(P7-'Barèmes & Options'!H$2<-1,0,1)),\"\"),0)","v":0},0,"","","",null,"",null,"Note max :",{"$f":"IF(COUNT(AC4:AC101)>0,MAX(AC4:AC101),\"\")","v":""},null,null,"m"]
[null,null,null,null,null,null,null,"",null,"",null,null,"",0,0,0,{"$f":"IF(AND(K8<>0,G8<>0),IF(OR(J8=1,J8=3,J8=4),IF(OR(N8=0,ABS(N8)<='Barèmes & Options'!H$2),1,0)),\"\")","v":""},{"$f":"IF(AND(K8<>\"\",G8<>\"\"),IF(OR(J8=5,J8=7),IF(OR(N8>0,N8+'Barèmes & Options'!H$2>0),1,0)),\"\")","v":""},{"$f":"IF(AND(K8<>\"\",G8<>\"\"),IF(OR(J8=2,J8=6,J8=8),IF(OR(N8<0,N8-'Barèmes & Options'!H$2<0),1,0)),\"\")","v":""},{"$f":"IF(AND(K8<>0,L8<>0),IF(OR(J8=1,J8=5,J8=6),IF(OR(O8=0,ABS(O8)<='Barèmes & Options'!H$2),1,0)),\"\")","v":""},{"$f":"IF(AND(K8<>\"\",L8<>\"\"),IF(OR(J8=4,J8=8),IF(OR(O8>0,O8+'Barèmes & Options'!H$2>0),1,0)),\"\")","v":""},{"$f":"IF(AND(K8<>\"\",L8<>\"\"),IF(OR(J8=2,J8=3,J8=7),IF(OR(O8<0,O8-'Barèmes & Options'!H$2<0),1,0)),\"\")","v":""},{"$f":"IF(SUM(Q8:V8)=2,IF(J8=2,IF(J8=2,IF(P8-'Barèmes & Options'!H$2<-1,0,1)),\"\"),0)","v":0},0,"","","",null,"",null,"Note min :",{"$f":"IF(COUNT(AC4:AC101)>0,MIN(AC4:AC101),\"\")","v":""},null,null,"m"]
[null,null,null,null,null,null,null,null,null,null,null,null,"",0,0,0,{"$f":"IF(AND(K9<>0,G9<>0),IF(OR(J9=1,J9=3,J9=4),IF(OR(N9=0,ABS(N9)<='Barèmes & Options'!H$2),1,0)),\"\")","v":""},{"$f":"IF(AND(K9<>\"\",G9<>\"\"),IF(OR(J9=5,J9=7),IF(OR(N9>0,N9+'Barèmes & Options'!H$2>0),1,0)),\"\")","v":""},{"$f":"IF(AND(K9<>\"\",G9<>\"\"),IF(OR(J9=2,J9=6,J9=8),IF(OR(N9<0,N9-'Barèmes & Options'!H$2<0),1,0)),\"\")","v":""},{"$f":"IF(AND(K9<>0,L9<>0),IF(OR(J9=1,J9=5,J9=6),IF(OR(O9=0,ABS(O9)<='Barèmes & Options'!H$2),1,0)),\"\")","v":""},{"$f":"IF(AND(K9<>\"\",L9<>\"\"),IF(OR(J9=4,J9=8),IF(OR(O9>0,O9+'Barèmes & Options'!H$2>0),1,0)),\"\")","v":""},{"$f":"IF(AND(K9<>\"\",L9<>\"\"),IF(OR(J9=2,J9=3,J9=7),IF(OR(O9<0,O9-'Barèmes & Options'!H$2<0),1,0)),\"\")","v":""},{"$f":"IF(SUM(Q9:V9)=2,IF(J9=2,IF(J9=2,IF(P9-'Barèmes & Options'!H$2<-1,0,1)),\"\"),0)","v":0},0,"","","",null,"",null,null,null,null,null,"m"]
[null,null,null,null,null,null,null,null,null,null,null,null,"",0,0,0,{"$f":"IF(AND(K10<>0,G10<>0),IF(OR(J10=1,J10=3,J10=4),IF(OR(N10=0,ABS(N10)<='Barèmes & Options'!H$2),1,0)),\"\")","v":""},{"$f":"IF(AND(K10<>\"\",G10<>\"\"),IF(OR(J10=5,J10=7),IF(OR(N10>0,N10+'Barèmes & Options'!H$2>0),1,0)),\"\")","v":""},{"$f":"IF(AND(K10<>\"\",G10<>\"\"),IF(OR(J10=2,J10=6,J10=8),IF(OR(N10<0,N10-'Barèmes & Options'!H$2<0),1,0)),\"\")","v":""},{"$f":"IF(AND(K10<>0,L10<>0),IF(OR(J10=1,J10=5,J10=6),IF(OR(O10=0,ABS(O10)<='Barèmes & Options'!H$2),1,0)),\"\")","v":""},{"$f":"IF(AND(K10<>\"\",L10<>\"\"),IF(OR(J10=4,J10=8),IF(OR(O10>0,O10+'Barèmes & Options'!H$2>0),1,0)),\"\")","v":""},{"$f":"IF(AND(K10<>\"\",L10<>\"\"),IF(OR(J10=2,J10=3,J10=7),IF(OR(O10<0,O10-'Barèmes & Options'!H$2<0),1,0)),\"\")","v":""},{"$f":"IF(SUM(Q10:V10)=2,IF(J10=2,IF(J10=2,IF(P10-'Barèmes & Options'!H$2<-1,0,1)),\"\"),0)","v":0},0,"","","",null,"",null,"Date :",null,null,null,"m"]
[null,null,null,null,null,null,null,null,null,null,null,null,"",0,0,0,{"$f":"IF(AND(K11<>0,G11<>0),IF(OR(J11=1,J11=3,J11=4),IF(OR(N11=0,ABS(N11)<='Barèmes & Options'!H$2),1,0)),\"\")","v":""},{"$f":"IF(AND(K11<>\"\",G11<>\"\"),IF(OR(J11=5,J11=7),IF(OR(N11>0,N11+'Barèmes & Options'!H$2>0),1,0)),\"\")","v":""},{"$f":"IF(AND(K11<>\"\",G11<>\"\"),IF(OR(J11=2,J11=6,J11=8),IF(OR(N11<0,N11-'Barèmes & Options'!H$2<0),1,0)),\"\")","v":""},{"$f":"IF(AND(K11<>0,L11<>0),IF(OR(J11=1,J11=5,J11=6),IF(OR(O11=0,ABS(O11)<='Barèmes & Options'!H$2),1,0)),\"\")","v":""},{"$f":"IF(AND(K11<>\"\",L11<>\"\"),IF(OR(J11=4,J11=8),IF(OR(O11>0,O11+'Barèmes & Options'!H$2>0),1,0)),\"\")","v":""},{"$f":"IF(AND(K11<>\"\",L11<>\"\"),IF(OR(J11=2,J11=3,J11=7),IF(OR(O11<0,O11-'Barèmes & Options'!H$2<0),1,0)),\"\")","v":""},{"$f":"IF(SUM(Q11:V11)=2,IF(J11=2,IF(J11=2,IF(P11-'Barèmes & Options'!H$2<-1,0,1)),\"\"),0)","v":0},0,"","","",null,"",null,null,null,null,null,"m"]
[null,null,null,null,null,null,null,null,null,null,null,null,"",0,0,0,{"$f":"IF(AND(K12<>0,G12<>0),IF(OR(J12=1,J12=3,J12=4),IF(OR(N12=0,ABS(N12)<='Barèmes & Options'!H$2),1,0)),\"\")","v":""},{"$f":"IF(AND(K12<>\"\",G12<>\"\"),IF(OR(J12=5,J12=7),IF(OR(N12>0,N12+'Barèmes & Options'!H$2>0),1,0)),\"\")","v":""},{"$f":"IF(AND(K12<>\"\",G12<>\"\"),IF(OR(J12=2,J12=6,J12=8),IF(OR(N12<0,N12-'Barèmes & Options'!H$2<0),1,0)),\"\")","v":""},{"$f":"IF(AND(K12<>0,L12<>0),IF(OR(J12=1,J12=5,J12=6),IF(OR(O12=0,ABS(O12)<='Barèmes & Options'!H$2),1,0)),\"\")","v":""},{"$f":"IF(AND(K12<>\"\",L12<>\"\"),IF(OR(J12=4,J12=8),IF(OR(O12>0,O12+'Barèmes & Options'!H$2>0),1,0)),\"\")","v":""},{"$f":"IF(AND(K12<>\"\",L12<>\"\"),IF(OR(J12=2,J12=3,J12=7),IF(OR(O12<0,O12-'Barèmes & Options'!H$2<0),1,0)),\"\")","v":""},{"$f":"IF(SUM(Q12:V12)=2,IF(J12=2,IF(J12=2,IF(P12-'Barèmes & Options'!H$2<-1,0,1)),\"\"),0)","v":0},0,"","","",null,"",null,null,null,null,null,"m"]
[null,null,null,null,null,null,null,null,null,null,null,null,"",0,0,0,{"$f":"IF(AND(K13<>0,G13<>0),IF(OR(J13=1,J13=3,J13=4),IF(OR(N13=0,ABS(N13)<='Barèmes & Options'!H$2),1,0)),\"\")","v":""},{"$f":"IF(AND(K13<>\"\",G13<>\"\"),IF(OR(J13=5,J13=7),IF(OR(N13>0,N13+'Barèmes & Options'!H$2>0),1,0)),\"\")","v":""},{"$f":"IF(AND(K13<>\"\",G13<>\"\"),IF(OR(J13=2,J13=6,J13=8),IF(OR(N13<0,N13-'Barèmes & Options'!H$2<0),1,0)),\"\")","v":""},{"$f":"IF(AND(K13<>0,L13<>0),IF(OR(J13=1,J13=5,J13=6),IF(OR(O13=0,ABS(O13)<='Barèmes & Options'!H$2),1,0)),\"\")","v":""},{"$f":"IF(AND(K13<>\"\",L13<>\"\"),IF(OR(J13=4,J13=8),IF(OR(O13>0,O13+'Barèmes & Options'!H$2>0),1,0)),\"\")","v":""},{"$f":"IF(AND(K13<>\"\",L13<>\"\"),IF(OR(J13=2,J13=3,J13=7),IF(OR(O13<0,O13-'Barèmes & Options'!H$2<0),1,0)),\"\")","v":""},{"$f":"IF(SUM(Q13:V13)=2,IF(J13=2,IF(J13=2,IF(P13-'Barèmes & Options'!H$2<-1,0,1)),\"\"),0)","v":0},0,"","","",null,"",null,null,null,null,null,"m"]
[null,null,null,null,null,null,null,null,null,null,null,null,"",0,0,0,{"$f":"IF(AND(K14<>0,G14<>0),IF(OR(J14=1,J14=3,J14=4),IF(OR(N14=0,ABS(N14)<='Barèmes & Options'!H$2),1,0)),\"\")","v":""},{"$f":"IF(AND(K14<>\"\",G14<>\"\"),IF(OR(J14=5,J14=7),IF(OR(N14>0,N14+'Barèmes & Options'!H$2>0),1,0)),\"\")","v":""},{"$f":"IF(AND(K14<>\"\",G14<>\"\"),IF(OR(J14=2,J14=6,J14=8),IF(OR(N14<0,N14-'Barèmes & Options'!H$2<0),1,0)),\"\")","v":""},{"$f":"IF(AND(K14<>0,L14<>0),IF(OR(J14=1,J14=5,J14=6),IF(OR(O14=0,ABS(O14)<='Barèmes & Options'!H$2),1,0)),\"\")","v":""},{"$f":"IF(AND(K14<>\"\",L14<>\"\"),IF(OR(J14=4,J14=8),IF(OR(O14>0,O14+'Barèmes & Options'!H$2>0),1,0)),\"\")","v":""},{"$f":"IF(AND(K14<>\"\",L14<>\"\"),IF(OR(J14=2,J14=3,J14=7),IF(OR(O14<0,O14-'Barèmes & Options'!H$2<0),1,0)),\"\")","v":""},{"$f":"IF(SUM(Q14:V14)=2,IF(J14=2,IF(J14=2,IF(P14-'Barèmes & Options'!H$2<-1,0,1)),\"\"),0)","v":0},0,"","","",null,"",null,null,null,null,null,"m"]
[null,null,null,null,null,null,null,null,null,null,null,null,"",0,0,0,{"$f":"IF(AND(K15<>0,G15<>0),IF(OR(J15=1,J15=3,J15=4),IF(OR(N15=0,ABS(N15)<='Barèmes & Options'!H$2),1,0)),\"\")","v":""},{"$f":"IF(AND(K15<>\"\",G15<>\"\"),IF(OR(J15=5,J15=7),IF(OR(N15>0,N15+'Barèmes & Options'!H$2>0),1,0)),\"\")","v":""},{"$f":"IF(AND(K15<>\"\",G15<>\"\"),IF(OR(J15=2,J15=6,J15=8),IF(OR(N15<0,N15-'Barèmes & Options'!H$2<0),1,0)),\"\")","v":""},{"$f":"IF(AND(K15<>0,L15<>0),IF(OR(J15=1,J15=5,J15=6),IF(OR(O15=0,ABS(O15)<='Barèmes & Options'!H$2),1,0)),\"\")","v":""},{"$f":"IF(AND(K15<>\"\",L15<>\"\"),IF(OR(J15=4,J15=8),IF(OR(O15>0,O15+'Barèmes & Options'!H$2>0),1,0)),\"\")","v":""},{"$f":"IF(AND(K15<>\"\",L15<>\"\"),IF(OR(J15=2,J15=3,J15=7),IF(OR(O15<0,O15-'Barèmes & Options'!H$2<0),1,0)),\"\")","v":""},{"$f":"IF(SUM(Q15:V15)=2,IF(J15=2,IF(J15=2,IF(P15-'Barèmes & Options'!H$2<-1,0,1)),\"\"),0)","v":0},0,"","","",null,"",null,null,null,null,null,"m"]
[null,null,null,null,null,null,null,null,null,null,null,null,"",0,0,0,{"$f":"IF(AND(K16<>0,G16<>0),IF(OR(J16=1,J16=3,J16=4),IF(OR(N16=0,ABS(N16)<='Barèmes & Options'!H$2),1,0)),\"\")","v":""},{"$f":"IF(AND(K16<>\"\",G16<>\"\"),IF(OR(J16=5,J16=7),IF(OR(N16>0,N16+'Barèmes & Options'!H$2>0),1,0)),\"\")","v":""},{"$f":"IF(AND(K16<>\"\",G16<>\"\"),IF(OR(J16=2,J16=6,J16=8),IF(OR(N16<0,N16-'Barèmes & Options'!H$2<0),1,0)),\"\")","v":""},{"$f":"IF(AND(K16<>0,L16<>0),IF(OR(J16=1,J16=5,J16=6),IF(OR(O16=0,ABS(O16)<='Barèmes & Options'!H$2),1,0)),\"\")","v":""},{"$f":"IF(AND(K16<>\"\",L16<>\"\"),IF(OR(J16=4,J16=8),IF(OR(O16>0,O16+'Barèmes & Options'!H$2>0),1,0)),\"\")","v":""},{"$f":"IF(AND(K16<>\"\",L16<>\"\"),IF(OR(J16=2,J16=3,J16=7),IF(OR(O16<0,O16-'Barèmes & Options'!H$2<0),1,0)),\"\")","v":""},{"$f":"IF(SUM(Q16:V16)=2,IF(J16=2,IF(J16=2,IF(P16-'Barèmes & Options'!H$2<-1,0,1)),\"\"),0)","v":0},0,"","","",null,"",null,null,null,null,null,"m"]
[null,null,null,null,null,null,null,null,null,null,null,null,"",0,0,0,{"$f":"IF(AND(K17<>0,G17<>0),IF(OR(J17=1,J17=3,J17=4),IF(OR(N17=0,ABS(N17)<='Barèmes & Options'!H$2),1,0)),\"\")","v":""},{"$f":"IF(AND(K17<>\"\",G17<>\"\"),IF(OR(J17=5,J17=7),IF(OR(N17>0,N17+'Barèmes & Options'!H$2>0),1,0)),\"\")","v":""},{"$f":"IF(AND(K17<>\"\",G17<>\"\"),IF(OR(J17=2,J17=6,J17=8),IF(OR(N17<0,N17-'Barèmes & Options'!H$2<0),1,0)),\"\")","v":""},{"$f":"IF(AND(K17<>0,L17<>0),IF(OR(J17=1,J17=5,J17=6),IF(OR(O17=0,ABS(O17)<='Barèmes & Options'!H$2),1,0)),\"\")","v":""},{"$f":"IF(AND(K17<>\"\",L17<>\"\"),IF(OR(J17=4,J17=8),IF(OR(O17>0,O17+'Barèmes & Options'!H$2>0),1,0)),\"\")","v":""},{"$f":"IF(AND(K17<>\"\",L17<>\"\"),IF(OR(J17=2,J17=3,J17=7),IF(OR(O17<0,O17-'Barèmes & Options'!H$2<0),1,0)),\"\")","v":""},{"$f":"IF(SUM(Q17:V17)=2,IF(J17=2,IF(J17=2,IF(P17-'Barèmes & Options'!H$2<-1,0,1)),\"\"),0)","v":0},0,"","","",null,"",null,null,null,null,null,"m"]
[null,null,null,null,null,null,null,null,null,null,null,null,"",0,0,0,{"$f":"IF(AND(K18<>0,G18<>0),IF(OR(J18=1,J18=3,J18=4),IF(OR(N18=0,ABS(N18)<='Barèmes & Options'!H$2),1,0)),\"\")","v":""},{"$f":"IF(AND(K18<>\"\",G18<>\"\"),IF(OR(J18=5,J18=7),IF(OR(N18>0,N18+'Barèmes & Options'!H$2>0),1,0)),\"\")","v":""},{"$f":"IF(AND(K18<>\"\",G18<>\"\"),IF(OR(J18=2,J18=6,J18=8),IF(OR(N18<0,N18-'Barèmes & Options'!H$2<0),1,0)),\"\")","v":""},{"$f":"IF(AND(K18<>0,L18<>0),IF(OR(J18=1,J18=5,J18=6),IF(OR(O18=0,ABS(O18)<='Barèmes & Options'!H$2),1,0)),\"\")","v":""},{"$f":"IF(AND(K18<>\"\",L18<>\"\"),IF(OR(J18=4,J18=8),IF(OR(O18>0,O18+'Barèmes & Options'!H$2>0),1,0)),\"\")","v":""},{"$f":"IF(AND(K18<>\"\",L18<>\"\"),IF(OR(J18=2,J18=3,J18=7),IF(OR(O18<0,O18-'Barèmes & Options'!H$2<0),1,0)),\"\")","v":""},{"$f":"IF(SUM(Q18:V18)=2,IF(J18=2,IF(J18=2,IF(P18-'Barèmes & Options'!H$2<-1,0,1)),\"\"),0)","v":0},0,"","","",null,"",null,null,null,null,null,"m"]
[null,null,null,null,null,null,null,null,null,null,null,null,"",0,0,0,{"$f":"IF(AND(K19<>0,G19<>0),IF(OR(J19=1,J19=3,J19=4),IF(OR(N19=0,ABS(N19)<='Barèmes & Options'!H$2),1,0)),\"\")","v":""},{"$f":"IF(AND(K19<>\"\",G19<>\"\"),IF(OR(J19=5,J19=7),IF(OR(N19>0,N19+'Barèmes & Options'!H$2>0),1,0)),\"\")","v":""},{"$f":"IF(AND(K19<>\"\",G19<>\"\"),IF(OR(J19=2,J19=6,J19=8),IF(OR(N19<0,N19-'Barèmes & Options'!H$2<0),1,0)),\"\")","v":""},{"$f":"IF(AND(K19<>0,L19<>0),IF(OR(J19=1,J19=5,J19=6),IF(OR(O19=0,ABS(O19)<='Barèmes & Options'!H$2),1,0)),\"\")","v":""},{"$f":"IF(AND(K19<>\"\",L19<>\"\"),IF(OR(J19=4,J19=8),IF(OR(O19>0,O19+'Barèmes & Options'!H$2>0),1,0)),\"\")","v":""},{"$f":"IF(AND(K19<>\"\",L19<>\"\"),IF(OR(J19=2,J19=3,J19=7),IF(OR(O19<0,O19-'Barèmes & Options'!H$2<0),1,0)),\"\")","v":""},{"$f":"IF(SUM(Q19:V19)=2,IF(J19=2,IF(J19=2,IF(P19-'Barèmes & Options'!H$2<-1,0,1)),\"\"),0)","v":0},0,"","","",null,"",null,null,null,null,null,"m"]
[null,null,null,null,null,null,null,null,null,null,null,null,"",0,0,0,{"$f":"IF(AND(K20<>0,G20<>0),IF(OR(J20=1,J20=3,J20=4),IF(OR(N20=0,ABS(N20)<='Barèmes & Options'!H$2),1,0)),\"\")","v":""},{"$f":"IF(AND(K20<>\"\",G20<>\"\"),IF(OR(J20=5,J20=7),IF(OR(N20>0,N20+'Barèmes & Options'!H$2>0),1,0)),\"\")","v":""},{"$f":"IF(AND(K20<>\"\",G20<>\"\"),IF(OR(J20=2,J20=6,J20=8),IF(OR(N20<0,N20-'Barèmes & Options'!H$2<0),1,0)),\"\")","v":""},{"$f":"IF(AND(K20<>0,L20<>0),IF(OR(J20=1,J20=5,J20=6),IF(OR(O20=0,ABS(O20)<='Barèmes & Options'!H$2),1,0)),\"\")","v":""},{"$f":"IF(AND(K20<>\"\",L20<>\"\"),IF(OR(J20=4,J20=8),IF(OR(O20>0,O20+'Barèmes & Options'!H$2>0),1,0)),\"\")","v":""},{"$f":"IF(AND(K20<>\"\",L20<>\"\"),IF(OR(J20=2,J20=3,J20=7),IF(OR(O20<0,O20-'Barèmes & Options'!H$2<0),1,0)),\"\")","v":""},{"$f":"IF(SUM(Q20:V20)=2,IF(J20=2,IF(J20=2,IF(P20-'Barèmes & Options'!H$2<-1,0,1)),\"\"),0)","v":0},0,"","","",null,"",null,null,null,null,null,"m"]
[null,null,null,null,null,null,null,null,null,null,null,null,"",0,0,0,{"$f":"IF(AND(K21<>0,G21<>0),IF(OR(J21=1,J21=3,J21=4),IF(OR(N21=0,ABS(N21)<='Barèmes & Options'!H$2),1,0)),\"\")","v":""},{"$f":"IF(AND(K21<>\"\",G21<>\"\"),IF(OR(J21=5,J21=7),IF(OR(N21>0,N21+'Barèmes & Options'!H$2>0),1,0)),\"\")","v":""},{"$f":"IF(AND(K21<>\"\",G21<>\"\"),IF(OR(J21=2,J21=6,J21=8),IF(OR(N21<0,N21-'Barèmes & Options'!H$2<0),1,0)),\"\")","v":""},{"$f":"IF(AND(K21<>0,L21<>0),IF(OR(J21=1,J21=5,J21=6),IF(OR(O21=0,ABS(O21)<='Barèmes & Options'!H$2),1,0)),\"\")","v":""},{"$f":"IF(AND(K21<>\"\",L21<>\"\"),IF(OR(J21=4,J21=8),IF(OR(O21>0,O21+'Barèmes & Options'!H$2>0),1,0)),\"\")","v":""},{"$f":"IF(AND(K21<>\"\",L21<>\"\"),IF(OR(J21=2,J21=3,J21=7),IF(OR(O21<0,O21-'Barèmes & Options'!H$2<0),1,0)),\"\")","v":""},{"$f":"IF(SUM(Q21:V21)=2,IF(J21=2,IF(J21=2,IF(P21-'Barèmes & Options'!H$2<-1,0,1)),\"\"),0)","v":0},0,"","","",null,"",null,null,null,null,null,"m"]
[null,null,null,null,null,null,null,null,null,null,null,null,"",0,0,0,{"$f":"IF(AND(K22<>0,G22<>0),IF(OR(J22=1,J22=3,J22=4),IF(OR(N22=0,ABS(N22)<='Barèmes & Options'!H$2),1,0)),\"\")","v":""},{"$f":"IF(AND(K22<>\"\",G22<>\"\"),IF(OR(J22=5,J22=7),IF(OR(N22>0,N22+'Barèmes & Options'!H$2>0),1,0)),\"\")","v":""},{"$f":"IF(AND(K22<>\"\",G22<>\"\"),IF(OR(J22=2,J22=6,J22=8),IF(OR(N22<0,N22-'Barèmes & Options'!H$2<0),1,0)),\"\")","v":""},{"$f":"IF(AND(K22<>0,L22<>0),IF(OR(J22=1,J22=5,J22=6),IF(OR(O22=0,ABS(O22)<='Barèmes & Options'!H$2),1,0)),\"\")","v":""},{"$f":"IF(AND(K22<>\"\",L22<>\"\"),IF(OR(J22=4,J22=8),IF(OR(O22>0,O22+'Barèmes & Options'!H$2>0),1,0)),\"\")","v":""},{"$f":"IF(AND(K22<>\"\",L22<>\"\"),IF(OR(J22=2,J22=3,J22=7),IF(OR(O22<0,O22-'Barèmes & Options'!H$2<0),1,0)),\"\")","v":""},{"$f":"IF(SUM(Q22:V22)=2,IF(J22=2,IF(J22=2,IF(P22-'Barèmes & Options'!H$2<-1,0,1)),\"\"),0)","v":0},0,"","","",null,"",null,null,null,null,null,"m"]
[null,null,null,null,null,null,null,null,null,null,null,null,"",0,0,0,{"$f":"IF(AND(K23<>0,G23<>0),IF(OR(J23=1,J23=3,J23=4),IF(OR(N23=0,ABS(N23)<='Barèmes & Options'!H$2),1,0)),\"\")","v":""},{"$f":"IF(AND(K23<>\"\",G23<>\"\"),IF(OR(J23=5,J23=7),IF(OR(N23>0,N23+'Barèmes & Options'!H$2>0),1,0)),\"\")","v":""},{"$f":"IF(AND(K23<>\"\",G23<>\"\"),IF(OR(J23=2,J23=6,J23=8),IF(OR(N23<0,N23-'Barèmes & Options'!H$2<0),1,0)),\"\")","v":""},{"$f":"IF(AND(K23<>0,L23<>0),IF(OR(J23=1,J23=5,J23=6),IF(OR(O23=0,ABS(O23)<='Barèmes & Options'!H$2),1,0)),\"\")","v":""},{"$f":"IF(AND(K23<>\"\",L23<>\"\"),IF(OR(J23=4,J23=8),IF(OR(O23>0,O23+'Barèmes & Options'!H$2>0),1,0)),\"\")","v":""},{"$f":"IF(AND(K23<>\"\",L23<>\"\"),IF(OR(J23=2,J23=3,J23=7),IF(OR(O23<0,O23-'Barèmes & Options'!H$2<0),1,0)),\"\")","v":""},{"$f":"IF(SUM(Q23:V23)=2,IF(J23=2,IF(J23=2,IF(P23-'Barèmes & Options'!H$2<-1,0,1)),\"\"),0)","v":0},0,"","","",null,"",null,null,null,null,null,"m"]
[null,null,null,null,null,null,null,null,null,null,null,null,"",0,0,0,{"$f":"IF(AND(K24<>0,G24<>0),IF(OR(J24=1,J24=3,J24=4),IF(OR(N24=0,ABS(N24)<='Barèmes & Options'!H$2),1,0)),\"\")","v":""},{"$f":"IF(AND(K24<>\"\",G24<>\"\"),IF(OR(J24=5,J24=7),IF(OR(N24>0,N24+'Barèmes & Options'!H$2>0),1,0)),\"\")","v":""},{"$f":"IF(AND(K24<>\"\",G24<>\"\"),IF(OR(J24=2,J24=6,J24=8),IF(OR(N24<0,N24-'Barèmes & Options'!H$2<0),1,0)),\"\")","v":""},{"$f":"IF(AND(K24<>0,L24<>0),IF(OR(J24=1,J24=5,J24=6),IF(OR(O24=0,ABS(O24)<='Barèmes & Options'!H$2),1,0)),\"\")","v":""},{"$f":"IF(AND(K24<>\"\",L24<>\"\"),IF(OR(J24=4,J24=8),IF(OR(O24>0,O24+'Barèmes & Options'!H$2>0),1,0)),\"\")","v":""},{"$f":"IF(AND(K24<>\"\",L24<>\"\"),IF(OR(J24=2,J24=3,J24=7),IF(OR(O24<0,O24-'Barèmes & Options'!H$2<0),1,0)),\"\")","v":""},{"$f":"IF(SUM(Q24:V24)=2,IF(J24=2,IF(J24=2,IF(P24-'Barèmes & Options'!H$2<-1,0,1)),\"\"),0)","v":0},0,"","","",null,"",null,null,null,null,null,"m"]
[null,null,null,null,null,null,null,null,null,null,null,null,"",0,0,0,{"$f":"IF(AND(K25<>0,G25<>0),IF(OR(J25=1,J25=3,J25=4),IF(OR(N25=0,ABS(N25)<='Barèmes & Options'!H$2),1,0)),\"\")","v":""},{"$f":"IF(AND(K25<>\"\",G25<>\"\"),IF(OR(J25=5,J25=7),IF(OR(N25>0,N25+'Barèmes & Options'!H$2>0),1,0)),\"\")","v":""},{"$f":"IF(AND(K25<>\"\",G25<>\"\"),IF(OR(J25=2,J25=6,J25=8),IF(OR(N25<0,N25-'Barèmes & Options'!H$2<0),1,0)),\"\")","v":""},{"$f":"IF(AND(K25<>0,L25<>0),IF(OR(J25=1,J25=5,J25=6),IF(OR(O25=0,ABS(O25)<='Barèmes & Options'!H$2),1,0)),\"\")","v":""},{"$f":"IF(AND(K25<>\"\",L25<>\"\"),IF(OR(J25=4,J25=8),IF(OR(O25>0,O25+'Barèmes & Options'!H$2>0),1,0)),\"\")","v":""},{"$f":"IF(AND(K25<>\"\",L25<>\"\"),IF(OR(J25=2,J25=3,J25=7),IF(OR(O25<0,O25-'Barèmes & Options'!H$2<0),1,0)),\"\")","v":""},{"$f":"IF(SUM(Q25:V25)=2,IF(J25=2,IF(J25=2,IF(P25-'Barèmes & Options'!H$2<-1,0,1)),\"\"),0)","v":0},0,"","","",null,"",null,null,null,null,null,"m"]
[null,null,null,null,null,null,null,null,null,null,null,null,"",0,0,0,{"$f":"IF(AND(K26<>0,G26<>0),IF(OR(J26=1,J26=3,J26=4),IF(OR(N26=0,ABS(N26)<='Barèmes & Options'!H$2),1,0)),\"\")","v":""},{"$f":"IF(AND(K26<>\"\",G26<>\"\"),IF(OR(J26=5,J26=7),IF(OR(N26>0,N26+'Barèmes & Options'!H$2>0),1,0)),\"\")","v":""},{"$f":"IF(AND(K26<>\"\",G26<>\"\"),IF(OR(J26=2,J26=6,J26=8),IF(OR(N26<0,N26-'Barèmes & Options'!H$2<0),1,0)),\"\")","v":""},{"$f":"IF(AND(K26<>0,L26<>0),IF(OR(J26=1,J26=5,J26=6),IF(OR(O26=0,ABS(O26)<='Barèmes & Options'!H$2),1,0)),\"\")","v":""},{"$f":"IF(AND(K26<>\"\",L26<>\"\"),IF(OR(J26=4,J26=8),IF(OR(O26>0,O26+'Barèmes & Options'!H$2>0),1,0)),\"\")","v":""},{"$f":"IF(AND(K26<>\"\",L26<>\"\"),IF(OR(J26=2,J26=3,J26=7),IF(OR(O26<0,O26-'Barèmes & Options'!H$2<0),1,0)),\"\")","v":""},{"$f":"IF(SUM(Q26:V26)=2,IF(J26=2,IF(J26=2,IF(P26-'Barèmes & Options'!H$2<-1,0,1)),\"\"),0)","v":0},0,"","","",null,"",null,null,null,null,null,"m"]
[null,null,null,null,null,null,null,null,null,null,null,null,"",0,0,0,{"$f":"IF(AND(K27<>0,G27<>0),IF(OR(J27=1,J27=3,J27=4),IF(OR(N27=0,ABS(N27)<='Barèmes & Options'!H$2),1,0)),\"\")","v":""},{"$f":"IF(AND(K27<>\"\",G27<>\"\"),IF(OR(J27=5,J27=7),IF(OR(N27>0,N27+'Barèmes & Options'!H$2>0),1,0)),\"\")","v":""},{"$f":"IF(AND(K27<>\"\",G27<>\"\"),IF(OR(J27=2,J27=6,J27=8),IF(OR(N27<0,N27-'Barèmes & Options'!H$2<0),1,0)),\"\")","v":""},{"$f":"IF(AND(K27<>0,L27<>0),IF(OR(J27=1,J27=5,J27=6),IF(OR(O27=0,ABS(O27)<='Barèmes & Options'!H$2),1,0)),\"\")","v":""},{"$f":"IF(AND(K27<>\"\",L27<>\"\"),IF(OR(J27=4,J27=8),IF(OR(O27>0,O27+'Barèmes & Options'!H$2>0),1,0)),\"\")","v":""},{"$f":"IF(AND(K27<>\"\",L27<>\"\"),IF(OR(J27=2,J27=3,J27=7),IF(OR(O27<0,O27-'Barèmes & Options'!H$2<0),1,0)),\"\")","v":""},{"$f":"IF(SUM(Q27:V27)=2,IF(J27=2,IF(J27=2,IF(P27-'Barèmes & Options'!H$2<-1,0,1)),\"\"),0)","v":0},0,"","","",null,"",null,null,null,null,null,"m"]
[null,null,null,null,null,null,null,null,null,null,null,null,"",0,0,0,{"$f":"IF(AND(K28<>0,G28<>0),IF(OR(J28=1,J28=3,J28=4),IF(OR(N28=0,ABS(N28)<='Barèmes & Options'!H$2),1,0)),\"\")","v":""},{"$f":"IF(AND(K28<>\"\",G28<>\"\"),IF(OR(J28=5,J28=7),IF(OR(N28>0,N28+'Barèmes & Options'!H$2>0),1,0)),\"\")","v":""},{"$f":"IF(AND(K28<>\"\",G28<>\"\"),IF(OR(J28=2,J28=6,J28=8),IF(OR(N28<0,N28-'Barèmes & Options'!H$2<0),1,0)),\"\")","v":""},{"$f":"IF(AND(K28<>0,L28<>0),IF(OR(J28=1,J28=5,J28=6),IF(OR(O28=0,ABS(O28)<='Barèmes & Options'!H$2),1,0)),\"\")","v":""},{"$f":"IF(AND(K28<>\"\",L28<>\"\"),IF(OR(J28=4,J28=8),IF(OR(O28>0,O28+'Barèmes & Options'!H$2>0),1,0)),\"\")","v":""},{"$f":"IF(AND(K28<>\"\",L28<>\"\"),IF(OR(J28=2,J28=3,J28=7),IF(OR(O28<0,O28-'Barèmes & Options'!H$2<0),1,0)),\"\")","v":""},{"$f":"IF(SUM(Q28:V28)=2,IF(J28=2,IF(J28=2,IF(P28-'Barèmes & Options'!H$2<-1,0,1)),\"\"),0)","v":0},0,"","","",null,"",null,null,null,null,null,"m"]
[null,null,null,null,null,null,null,null,null,null,null,null,"",0,0,0,{"$f":"IF(AND(K29<>0,G29<>0),IF(OR(J29=1,J29=3,J29=4),IF(OR(N29=0,ABS(N29)<='Barèmes & Options'!H$2),1,0)),\"\")","v":""},{"$f":"IF(AND(K29<>\"\",G29<>\"\"),IF(OR(J29=5,J29=7),IF(OR(N29>0,N29+'Barèmes & Options'!H$2>0),1,0)),\"\")","v":""},{"$f":"IF(AND(K29<>\"\",G29<>\"\"),IF(OR(J29=2,J29=6,J29=8),IF(OR(N29<0,N29-'Barèmes & Options'!H$2<0),1,0)),\"\")","v":""},{"$f":"IF(AND(K29<>0,L29<>0),IF(OR(J29=1,J29=5,J29=6),IF(OR(O29=0,ABS(O29)<='Barèmes & Options'!H$2),1,0)),\"\")","v":""},{"$f":"IF(AND(K29<>\"\",L29<>\"\"),IF(OR(J29=4,J29=8),IF(OR(O29>0,O29+'Barèmes & Options'!H$2>0),1,0)),\"\")","v":""},{"$f":"IF(AND(K29<>\"\",L29<>\"\"),IF(OR(J29=2,J29=3,J29=7),IF(OR(O29<0,O29-'Barèmes & Options'!H$2<0),1,0)),\"\")","v":""},{"$f":"IF(SUM(Q29:V29)=2,IF(J29=2,IF(J29=2,IF(P29-'Barèmes & Options'!H$2<-1,0,1)),\"\"),0)","v":0},0,"","","",null,"",null,null,null,null,null,"m"]
[null,null,null,null,null,null,null,null,null,null,null,null,"",0,0,0,{"$f":"IF(AND(K30<>0,G30<>0),IF(OR(J30=1,J30=3,J30=4),IF(OR(N30=0,ABS(N30)<='Barèmes & Options'!H$2),1,0)),\"\")","v":""},{"$f":"IF(AND(K30<>\"\",G30<>\"\"),IF(OR(J30=5,J30=7),IF(OR(N30>0,N30+'Barèmes & Options'!H$2>0),1,0)),\"\")","v":""},{"$f":"IF(AND(K30<>\"\",G30<>\"\"),IF(OR(J30=2,J30=6,J30=8),IF(OR(N30<0,N30-'Barèmes & Options'!H$2<0),1,0)),\"\")","v":""},{"$f":"IF(AND(K30<>0,L30<>0),IF(OR(J30=1,J30=5,J30=6),IF(OR(O30=0,ABS(O30)<='Barèmes & Options'!H$2),1,0)),\"\")","v":""},{"$f":"IF(AND(K30<>\"\",L30<>\"\"),IF(OR(J30=4,J30=8),IF(OR(O30>0,O30+'Barèmes & Options'!H$2>0),1,0)),\"\")","v":""},{"$f":"IF(AND(K30<>\"\",L30<>\"\"),IF(OR(J30=2,J30=3,J30=7),IF(OR(O30<0,O30-'Barèmes & Options'!H$2<0),1,0)),\"\")","v":""},{"$f":"IF(SUM(Q30:V30)=2,IF(J30=2,IF(J30=2,IF(P30-'Barèmes & Options'!H$2<-1,0,1)),\"\"),0)","v":0},0,"","","",null,"",null,null,null,null,null,"m"]
[null,null,null,null,null,null,null,null,null,null,null,null,"",0,0,0,{"$f":"IF(AND(K31<>0,G31<>0),IF(OR(J31=1,J31=3,J31=4),IF(OR(N31=0,ABS(N31)<='Barèmes & Options'!H$2),1,0)),\"\")","v":""},{"$f":"IF(AND(K31<>\"\",G31<>\"\"),IF(OR(J31=5,J31=7),IF(OR(N31>0,N31+'Barèmes & Options'!H$2>0),1,0)),\"\")","v":""},{"$f":"IF(AND(K31<>\"\",G31<>\"\"),IF(OR(J31=2,J31=6,J31=8),IF(OR(N31<0,N31-'Barèmes & Options'!H$2<0),1,0)),\"\")","v":""},{"$f":"IF(AND(K31<>0,L31<>0),IF(OR(J31=1,J31=5,J31=6),IF(OR(O31=0,ABS(O31)<='Barèmes & Options'!H$2),1,0)),\"\")","v":""},{"$f":"IF(AND(K31<>\"\",L31<>\"\"),IF(OR(J31=4,J31=8),IF(OR(O31>0,O31+'Barèmes & Options'!H$2>0),1,0)),\"\")","v":""},{"$f":"IF(AND(K31<>\"\",L31<>\"\"),IF(OR(J31=2,J31=3,J31=7),IF(OR(O31<0,O31-'Barèmes & Options'!H$2<0),1,0)),\"\")","v":""},{"$f":"IF(SUM(Q31:V31)=2,IF(J31=2,IF(J31=2,IF(P31-'Barèmes & Options'!H$2<-1,0,1)),\"\"),0)","v":0},0,"","","",null,"",null,null,null,null,null,"m"]
[null,null,null,null,null,null,null,null,null,null,null,null,"",0,0,0,{"$f":"IF(AND(K32<>0,G32<>0),IF(OR(J32=1,J32=3,J32=4),IF(OR(N32=0,ABS(N32)<='Barèmes & Options'!H$2),1,0)),\"\")","v":""},{"$f":"IF(AND(K32<>\"\",G32<>\"\"),IF(OR(J32=5,J32=7),IF(OR(N32>0,N32+'Barèmes & Options'!H$2>0),1,0)),\"\")","v":""},{"$f":"IF(AND(K32<>\"\",G32<>\"\"),IF(OR(J32=2,J32=6,J32=8),IF(OR(N32<0,N32-'Barèmes & Options'!H$2<0),1,0)),\"\")","v":""},{"$f":"IF(AND(K32<>0,L32<>0),IF(OR(J32=1,J32=5,J32=6),IF(OR(O32=0,ABS(O32)<='Barèmes & Options'!H$2),1,0)),\"\")","v":""},{"$f":"IF(AND(K32<>\"\",L32<>\"\"),IF(OR(J32=4,J32=8),IF(OR(O32>0,O32+'Barèmes & Options'!H$2>0),1,0)),\"\")","v":""},{"$f":"IF(AND(K32<>\"\",L32<>\"\"),IF(OR(J32=2,J32=3,J32=7),IF(OR(O32<0,O32-'Barèmes & Options'!H$2<0),1,0)),\"\")","v":""},{"$f":"IF(SUM(Q32:V32)=2,IF(J32=2,IF(J32=2,IF(P32-'Barèmes & Options'!H$2<-1,0,1)),\"\"),0)","v":0},0,"","","",null,"",null,null,null,null,null,"m"]
[null,null,null,null,null,null,null,null,null,null,null,null,"",0,0,0,{"$f":"IF(AND(K33<>0,G33<>0),IF(OR(J33=1,J33=3,J33=4),IF(OR(N33=0,ABS(N33)<='Barèmes & Options'!H$2),1,0)),\"\")","v":""},{"$f":"IF(AND(K33<>\"\",G33<>\"\"),IF(OR(J33=5,J33=7),IF(OR(N33>0,N33+'Barèmes & Options'!H$2>0),1,0)),\"\")","v":""},{"$f":"IF(AND(K33<>\"\",G33<>\"\"),IF(OR(J33=2,J33=6,J33=8),IF(OR(N33<0,N33-'Barèmes & Options'!H$2<0),1,0)),\"\")","v":""},{"$f":"IF(AND(K33<>0,L33<>0),IF(OR(J33=1,J33=5,J33=6),IF(OR(O33=0,ABS(O33)<='Barèmes & Options'!H$2),1,0)),\"\")","v":""},{"$f":"IF(AND(K33<>\"\",L33<>\"\"),IF(OR(J33=4,J33=8),IF(OR(O33>0,O33+'Barèmes & Options'!H$2>0),1,0)),\"\")","v":""},{"$f":"IF(AND(K33<>\"\",L33<>\"\"),IF(OR(J33=2,J33=3,J33=7),IF(OR(O33<0,O33-'Barèmes & Options'!H$2<0),1,0)),\"\")","v":""},{"$f":"IF(SUM(Q33:V33)=2,IF(J33=2,IF(J33=2,IF(P33-'Barèmes & Options'!H$2<-1,0,1)),\"\"),0)","v":0},0,"","","",null,"",null,null,null,null,null,"m"]
[null,null,null,null,null,null,null,null,null,null,null,null,"",0,0,0,{"$f":"IF(AND(K34<>0,G34<>0),IF(OR(J34=1,J34=3,J34=4),IF(OR(N34=0,ABS(N34)<='Barèmes & Options'!H$2),1,0)),\"\")","v":""},{"$f":"IF(AND(K34<>\"\",G34<>\"\"),IF(OR(J34=5,J34=7),IF(OR(N34>0,N34+'Barèmes & Options'!H$2>0),1,0)),\"\")","v":""},{"$f":"IF(AND(K34<>\"\",G34<>\"\"),IF(OR(J34=2,J34=6,J34=8),IF(OR(N34<0,N34-'Barèmes & Options'!H$2<0),1,0)),\"\")","v":""},{"$f":"IF(AND(K34<>0,L34<>0),IF(OR(J34=1,J34=5,J34=6),IF(OR(O34=0,ABS(O34)<='Barèmes & Options'!H$2),1,0)),\"\")","v":""},{"$f":"IF(AND(K34<>\"\",L34<>\"\"),IF(OR(J34=4,J34=8),IF(OR(O34>0,O34+'Barèmes & Options'!H$2>0),1,0)),\"\")","v":""},{"$f":"IF(AND(K34<>\"\",L34<>\"\"),IF(OR(J34=2,J34=3,J34=7),IF(OR(O34<0,O34-'Barèmes & Options'!H$2<0),1,0)),\"\")","v":""},{"$f":"IF(SUM(Q34:V34)=2,IF(J34=2,IF(J34=2,IF(P34-'Barèmes & Options'!H$2<-1,0,1)),\"\"),0)","v":0},0,"","","",null,"",null,null,null,null,null,"m"]
[null,null,null,null,null,null,null,null,null,null,null,null,"",0,0,0,{"$f":"IF(AND(K35<>0,G35<>0),IF(OR(J35=1,J35=3,J35=4),IF(OR(N35=0,ABS(N35)<='Barèmes & Options'!H$2),1,0)),\"\")","v":""},{"$f":"IF(AND(K35<>\"\",G35<>\"\"),IF(OR(J35=5,J35=7),IF(OR(N35>0,N35+'Barèmes & Options'!H$2>0),1,0)),\"\")","v":""},{"$f":"IF(AND(K35<>\"\",G35<>\"\"),IF(OR(J35=2,J35=6,J35=8),IF(OR(N35<0,N35-'Barèmes & Options'!H$2<0),1,0)),\"\")","v":""},{"$f":"IF(AND(K35<>0,L35<>0),IF(OR(J35=1,J35=5,J35=6),IF(OR(O35=0,ABS(O35)<='Barèmes & Options'!H$2),1,0)),\"\")","v":""},{"$f":"IF(AND(K35<>\"\",L35<>\"\"),IF(OR(J35=4,J35=8),IF(OR(O35>0,O35+'Barèmes & Options'!H$2>0),1,0)),\"\")","v":""},{"$f":"IF(AND(K35<>\"\",L35<>\"\"),IF(OR(J35=2,J35=3,J35=7),IF(OR(O35<0,O35-'Barèmes & Options'!H$2<0),1,0)),\"\")","v":""},{"$f":"IF(SUM(Q35:V35)=2,IF(J35=2,IF(J35=2,IF(P35-'Barèmes & Options'!H$2<-1,0,1)),\"\"),0)","v":0},0,"","","",null,"",null,null,null,null,null,"m"]
[null,null,null,null,null,null,null,null,null,null,null,null,"",0,0,0,{"$f":"IF(AND(K36<>0,G36<>0),IF(OR(J36=1,J36=3,J36=4),IF(OR(N36=0,ABS(N36)<='Barèmes & Options'!H$2),1,0)),\"\")","v":""},{"$f":"IF(AND(K36<>\"\",G36<>\"\"),IF(OR(J36=5,J36=7),IF(OR(N36>0,N36+'Barèmes & Options'!H$2>0),1,0)),\"\")","v":""},{"$f":"IF(AND(K36<>\"\",G36<>\"\"),IF(OR(J36=2,J36=6,J36=8),IF(OR(N36<0,N36-'Barèmes & Options'!H$2<0),1,0)),\"\")","v":""},{"$f":"IF(AND(K36<>0,L36<>0),IF(OR(J36=1,J36=5,J36=6),IF(OR(O36=0,ABS(O36)<='Barèmes & Options'!H$2),1,0)),\"\")","v":""},{"$f":"IF(AND(K36<>\"\",L36<>\"\"),IF(OR(J36=4,J36=8),IF(OR(O36>0,O36+'Barèmes & Options'!H$2>0),1,0)),\"\")","v":""},{"$f":"IF(AND(K36<>\"\",L36<>\"\"),IF(OR(J36=2,J36=3,J36=7),IF(OR(O36<0,O36-'Barèmes & Options'!H$2<0),1,0)),\"\")","v":""},{"$f":"IF(SUM(Q36:V36)=2,IF(J36=2,IF(J36=2,IF(P36-'Barèmes & Options'!H$2<-1,0,1)),\"\"),0)","v":0},0,"",{"$f":"IF(F36<>\"\",IF(H36<=3,1,0),\"\")","v":""},{"$f":"IF(AND(L36>0,K36>0,G36>0),IF($C36=\"\",\"\",IF($C36=\"F\",VLOOKUP($M36,Barème500,3),VLOOKUP($M36,Barème500,2))),\"\")","v":""},null,"",null,null,null,null,null,{"$f":"IF(C36<>\"f\",\"m\",\"f\")","v":"m"}]
[null,null,null,null,null,null,null,null,null,null,null,null,"",0,0,0,{"$f":"IF(AND(K37<>0,G37<>0),IF(OR(J37=1,J37=3,J37=4),IF(OR(N37=0,ABS(N37)<='Barèmes & Options'!H$2),1,0)),\"\")","v":""},{"$f":"IF(AND(K37<>\"\",G37<>\"\"),IF(OR(J37=5,J37=7),IF(OR(N37>0,N37+'Barèmes & Options'!H$2>0),1,0)),\"\")","v":""},{"$f":"IF(AND(K37<>\"\",G37<>\"\"),IF(OR(J37=2,J37=6,J37=8),IF(OR(N37<0,N37-'Barèmes & Options'!H$2<0),1,0)),\"\")","v":""},{"$f":"IF(AND(K37<>0,L37<>0),IF(OR(J37=1,J37=5,J37=6),IF(OR(O37=0,ABS(O37)<='Barèmes & Options'!H$2),1,0)),\"\")","v":""},{"$f":"IF(AND(K37<>\"\",L37<>\"\"),IF(OR(J37=4,J37=8),IF(OR(O37>0,O37+'Barèmes & Options'!H$2>0),1,0)),\"\")","v":""},{"$f":"IF(AND(K37<>\"\",L37<>\"\"),IF(OR(J37=2,J37=3,J37=7),IF(OR(O37<0,O37-'Barèmes & Options'!H$2<0),1,0)),\"\")","v":""},{"$f":"IF(SUM(Q37:V37)=2,IF(J37=2,IF(J37=2,IF(P37-'Barèmes & Options'!H$2<-1,0,1)),\"\"),0)","v":0},0,"","","",null,"",null,null,null,null,null,"m"]
[null,null,null,null,null,null,null,null,null,null,null,null,"",0,0,0,{"$f":"IF(AND(K38<>0,G38<>0),IF(OR(J38=1,J38=3,J38=4),IF(OR(N38=0,ABS(N38)<='Barèmes & Options'!H$2),1,0)),\"\")","v":""},{"$f":"IF(AND(K38<>\"\",G38<>\"\"),IF(OR(J38=5,J38=7),IF(OR(N38>0,N38+'Barèmes & Options'!H$2>0),1,0)),\"\")","v":""},{"$f":"IF(AND(K38<>\"\",G38<>\"\"),IF(OR(J38=2,J38=6,J38=8),IF(OR(N38<0,N38-'Barèmes & Options'!H$2<0),1,0)),\"\")","v":""},{"$f":"IF(AND(K38<>0,L38<>0),IF(OR(J38=1,J38=5,J38=6),IF(OR(O38=0,ABS(O38)<='Barèmes & Options'!H$2),1,0)),\"\")","v":""},{"$f":"IF(AND(K38<>\"\",L38<>\"\"),IF(OR(J38=4,J38=8),IF(OR(O38>0,O38+'Barèmes & Options'!H$2>0),1,0)),\"\")","v":""},{"$f":"IF(AND(K38<>\"\",L38<>\"\"),IF(OR(J38=2,J38=3,J38=7),IF(OR(O38<0,O38-'Barèmes & Options'!H$2<0),1,0)),\"\")","v":""},{"$f":"IF(SUM(Q38:V38)=2,IF(J38=2,IF(J38=2,IF(P38-'Barèmes & Options'!H$2<-1,0,1)),\"\"),0)","v":0},0,"","","",null,"",null,null,null,null,null,"m"]
[null,null,null,null,null,null,null,null,null,null,null,null,"",0,0,0,{"$f":"IF(AND(K39<>0,G39<>0),IF(OR(J39=1,J39=3,J39=4),IF(OR(N39=0,ABS(N39)<='Barèmes & Options'!H$2),1,0)),\"\")","v":""},{"$f":"IF(AND(K39<>\"\",G39<>\"\"),IF(OR(J39=5,J39=7),IF(OR(N39>0,N39+'Barèmes & Options'!H$2>0),1,0)),\"\")","v":""},{"$f":"IF(AND(K39<>\"\",G39<>\"\"),IF(OR(J39=2,J39=6,J39=8),IF(OR(N39<0,N39-'Barèmes & Options'!H$2<0),1,0)),\"\")","v":""},{"$f":"IF(AND(K39<>0,L39<>0),IF(OR(J39=1,J39=5,J39=6),IF(OR(O39=0,ABS(O39)<='Barèmes & Options'!H$2),1,0)),\"\")","v":""},{"$f":"IF(AND(K39<>\"\",L39<>\"\"),IF(OR(J39=4,J39=8),IF(OR(O39>0,O39+'Barèmes & Options'!H$2>0),1,0)),\"\")","v":""},{"$f":"IF(AND(K39<>\"\",L39<>\"\"),IF(OR(J39=2,J39=3,J39=7),IF(OR(O39<0,O39-'Barèmes & Options'!H$2<0),1,0)),\"\")","v":""},{"$f":"IF(SUM(Q39:V39)=2,IF(J39=2,IF(J39=2,IF(P39-'Barèmes & Options'!H$2<-1,0,1)),\"\"),0)","v":0},0,"","","",null,"",null,null,null,null,null,"m"]
[null,null,null,null,null,null,null,null,null,null,null,null,"",0,0,0,{"$f":"IF(AND(K40<>0,G40<>0),IF(OR(J40=1,J40=3,J40=4),IF(OR(N40=0,ABS(N40)<='Barèmes & Options'!H$2),1,0)),\"\")","v":""},{"$f":"IF(AND(K40<>\"\",G40<>\"\"),IF(OR(J40=5,J40=7),IF(OR(N40>0,N40+'Barèmes & Options'!H$2>0),1,0)),\"\")","v":""},{"$f":"IF(AND(K40<>\"\",G40<>\"\"),IF(OR(J40=2,J40=6,J40=8),IF(OR(N40<0,N40-'Barèmes & Options'!H$2<0),1,0)),\"\")","v":""},{"$f":"IF(AND(K40<>0,L40<>0),IF(OR(J40=1,J40=5,J40=6),IF(OR(O40=0,ABS(O40)<='Barèmes & Options'!H$2),1,0)),\"\")","v":""},{"$f":"IF(AND(K40<>\"\",L40<>\"\"),IF(OR(J40=4,J40=8),IF(OR(O40>0,O40+'Barèmes & Options'!H$2>0),1,0)),\"\")","v":""},{"$f":"IF(AND(K40<>\"\",L40<>\"\"),IF(OR(J40=2,J40=3,J40=7),IF(OR(O40<0,O40-'Barèmes & Options'!H$2<0),1,0)),\"\")","v":""},{"$f":"IF(SUM(Q40:V40)=2,IF(J40=2,IF(J40=2,IF(P40-'Barèmes & Options'!H$2<-1,0,1)),\"\"),0)","v":0},0,"","","",null,"",null,null,null,null,null,"m"]
[null,null,null,null,null,null,null,null,null,null,null,null,"",0,0,0,{"$f":"IF(AND(K41<>0,G41<>0),IF(OR(J41=1,J41=3,J41=4),IF(OR(N41=0,ABS(N41)<='Barèmes & Options'!H$2),1,0)),\"\")","v":""},{"$f":"IF(AND(K41<>\"\",G41<>\"\"),IF(OR(J41=5,J41=7),IF(OR(N41>0,N41+'Barèmes & Options'!H$2>0),1,0)),\"\")","v":""},{"$f":"IF(AND(K41<>\"\",G41<>\"\"),IF(OR(J41=2,J41=6,J41=8),IF(OR(N41<0,N41-'Barèmes & Options'!H$2<0),1,0)),\"\")","v":""},{"$f":"IF(AND(K41<>0,L41<>0),IF(OR(J41=1,J41=5,J41=6),IF(OR(O41=0,ABS(O41)<='Barèmes & Options'!H$2),1,0)),\"\")","v":""},{"$f":"IF(AND(K41<>\"\",L41<>\"\"),IF(OR(J41=4,J41=8),IF(OR(O41>0,O41+'Barèmes & Options'!H$2>0),1,0)),\"\")","v":""},{"$f":"IF(AND(K41<>\"\",L41<>\"\"),IF(OR(J41=2,J41=3,J41=7),IF(OR(O41<0,O41-'Barèmes & Options'!H$2<0),1,0)),\"\")","v":""},{"$f":"IF(SUM(Q41:V41)=2,IF(J41=2,IF(J41=2,IF(P41-'Barèmes & Options'!H$2<-1,0,1)),\"\"),0)","v":0},0,"","","",null,"",null,null,null,null,null,"m"]
[null,null,null,null,null,null,null,null,null,null,null,null,"",0,0,0,{"$f":"IF(AND(K42<>0,G42<>0),IF(OR(J42=1,J42=3,J42=4),IF(OR(N42=0,ABS(N42)<='Barèmes & Options'!H$2),1,0)),\"\")","v":""},{"$f":"IF(AND(K42<>\"\",G42<>\"\"),IF(OR(J42=5,J42=7),IF(OR(N42>0,N42+'Barèmes & Options'!H$2>0),1,0)),\"\")","v":""},{"$f":"IF(AND(K42<>\"\",G42<>\"\"),IF(OR(J42=2,J42=6,J42=8),IF(OR(N42<0,N42-'Barèmes & Options'!H$2<0),1,0)),\"\")","v":""},{"$f":"IF(AND(K42<>0,L42<>0),IF(OR(J42=1,J42=5,J42=6),IF(OR(O42=0,ABS(O42)<='Barèmes & Options'!H$2),1,0)),\"\")","v":""},{"$f":"IF(AND(K42<>\"\",L42<>\"\"),IF(OR(J42=4,J42=8),IF(OR(O42>0,O42+'Barèmes & Options'!H$2>0),1,0)),\"\")","v":""},{"$f":"IF(AND(K42<>\"\",L42<>\"\"),IF(OR(J42=2,J42=3,J42=7),IF(OR(O42<0,O42-'Barèmes & Options'!H$2<0),1,0)),\"\")","v":""},{"$f":"IF(SUM(Q42:V42)=2,IF(J42=2,IF(J42=2,IF(P42-'Barèmes & Options'!H$2<-1,0,1)),\"\"),0)","v":0},0,"","","",null,"",null,null,null,null,null,"m"]
[null,null,null,null,null,null,null,null,null,null,null,null,"",0,0,0,{"$f":"IF(AND(K43<>0,G43<>0),IF(OR(J43=1,J43=3,J43=4),IF(OR(N43=0,ABS(N43)<='Barèmes & Options'!H$2),1,0)),\"\")","v":""},{"$f":"IF(AND(K43<>\"\",G43<>\"\"),IF(OR(J43=5,J43=7),IF(OR(N43>0,N43+'Barèmes & Options'!H$2>0),1,0)),\"\")","v":""},{"$f":"IF(AND(K43<>\"\",G43<>\"\"),IF(OR(J43=2,J43=6,J43=8),IF(OR(N43<0,N43-'Barèmes & Options'!H$2<0),1,0)),\"\")","v":""},{"$f":"IF(AND(K43<>0,L43<>0),IF(OR(J43=1,J43=5,J43=6),IF(OR(O43=0,ABS(O43)<='Barèmes & Options'!H$2),1,0)),\"\")","v":""},{"$f":"IF(AND(K43<>\"\",L43<>\"\"),IF(OR(J43=4,J43=8),IF(OR(O43>0,O43+'Barèmes & Options'!H$2>0),1,0)),\"\")","v":""},{"$f":"IF(AND(K43<>\"\",L43<>\"\"),IF(OR(J43=2,J43=3,J43=7),IF(OR(O43<0,O43-'Barèmes & Options'!H$2<0),1,0)),\"\")","v":""},{"$f":"IF(SUM(Q43:V43)=2,IF(J43=2,IF(J43=2,IF(P43-'Barèmes & Options'!H$2<-1,0,1)),\"\"),0)","v":0},0,"","","",null,"",null,null,null,null,null,"m"]
[null,null,null,null,null,null,null,null,null,null,null,null,"",0,0,0,{"$f":"IF(AND(K44<>0,G44<>0),IF(OR(J44=1,J44=3,J44=4),IF(OR(N44=0,ABS(N44)<='Barèmes & Options'!H$2),1,0)),\"\")","v":""},{"$f":"IF(AND(K44<>\"\",G44<>\"\"),IF(OR(J44=5,J44=7),IF(OR(N44>0,N44+'Barèmes & Options'!H$2>0),1,0)),\"\")","v":""},{"$f":"IF(AND(K44<>\"\",G44<>\"\"),IF(OR(J44=2,J44=6,J44=8),IF(OR(N44<0,N44-'Barèmes & Options'!H$2<0),1,0)),\"\")","v":""},{"$f":"IF(AND(K44<>0,L44<>0),IF(OR(J44=1,J44=5,J44=6),IF(OR(O44=0,ABS(O44)<='Barèmes & Options'!H$2),1,0)),\"\")","v":""},{"$f":"IF(AND(K44<>\"\",L44<>\"\"),IF(OR(J44=4,J44=8),IF(OR(O44>0,O44+'Barèmes & Options'!H$2>0),1,0)),\"\")","v":""},{"$f":"IF(AND(K44<>\"\",L44<>\"\"),IF(OR(J44=2,J44=3,J44=7),IF(OR(O44<0,O44-'Barèmes & Options'!H$2<0),1,0)),\"\")","v":""},{"$f":"IF(SUM(Q44:V44)=2,IF(J44=2,IF(J44=2,IF(P44-'Barèmes & Options'!H$2<-1,0,1)),\"\"),0)","v":0},0,"","","",null,"",null,null,null,null,null,"m"]
[null,null,null,null,null,null,null,null,null,null,null,null,"",0,0,0,{"$f":"IF(AND(K45<>0,G45<>0),IF(OR(J45=1,J45=3,J45=4),IF(OR(N45=0,ABS(N45)<='Barèmes & Options'!H$2),1,0)),\"\")","v":""},{"$f":"IF(AND(K45<>\"\",G45<>\"\"),IF(OR(J45=5,J45=7),IF(OR(N45>0,N45+'Barèmes & Options'!H$2>0),1,0)),\"\")","v":""},{"$f":"IF(AND(K45<>\"\",G45<>\"\"),IF(OR(J45=2,J45=6,J45=8),IF(OR(N45<0,N45-'Barèmes & Options'!H$2<0),1,0)),\"\")","v":""},{"$f":"IF(AND(K45<>0,L45<>0),IF(OR(J45=1,J45=5,J45=6),IF(OR(O45=0,ABS(O45)<='Barèmes & Options'!H$2),1,0)),\"\")","v":""},{"$f":"IF(AND(K45<>\"\",L45<>\"\"),IF(OR(J45=4,J45=8),IF(OR(O45>0,O45+'Barèmes & Options'!H$2>0),1,0)),\"\")","v":""},{"$f":"IF(AND(K45<>\"\",L45<>\"\"),IF(OR(J45=2,J45=3,J45=7),IF(OR(O45<0,O45-'Barèmes & Options'!H$2<0),1,0)),\"\")","v":""},{"$f":"IF(SUM(Q45:V45)=2,IF(J45=2,IF(J45=2,IF(P45-'Barèmes & Options'!H$2<-1,0,1)),\"\"),0)","v":0},0,"","","",null,"",null,null,null,null,null,"m"]
[null,null,null,null,null,null,null,null,null,null,null,null,"",0,0,0,{"$f":"IF(AND(K46<>0,G46<>0),IF(OR(J46=1,J46=3,J46=4),IF(OR(N46=0,ABS(N46)<='Barèmes & Options'!H$2),1,0)),\"\")","v":""},{"$f":"IF(AND(K46<>\"\",G46<>\"\"),IF(OR(J46=5,J46=7),IF(OR(N46>0,N46+'Barèmes & Options'!H$2>0),1,0)),\"\")","v":""},{"$f":"IF(AND(K46<>\"\",G46<>\"\"),IF(OR(J46=2,J46=6,J46=8),IF(OR(N46<0,N46-'Barèmes & Options'!H$2<0),1,0)),\"\")","v":""},{"$f":"IF(AND(K46<>0,L46<>0),IF(OR(J46=1,J46=5,J46=6),IF(OR(O46=0,ABS(O46)<='Barèmes & Options'!H$2),1,0)),\"\")","v":""},{"$f":"IF(AND(K46<>\"\",L46<>\"\"),IF(OR(J46=4,J46=8),IF(OR(O46>0,O46+'Barèmes & Options'!H$2>0),1,0)),\"\")","v":""},{"$f":"IF(AND(K46<>\"\",L46<>\"\"),IF(OR(J46=2,J46=3,J46=7),IF(OR(O46<0,O46-'Barèmes & Options'!H$2<0),1,0)),\"\")","v":""},{"$f":"IF(SUM(Q46:V46)=2,IF(J46=2,IF(J46=2,IF(P46-'Barèmes & Options'!H$2<-1,0,1)),\"\"),0)","v":0},0,"","","",null,"",null,null,null,null,null,"m"]
[null,null,null,null,null,null,null,null,null,null,null,null,"",0,0,0,{"$f":"IF(AND(K47<>0,G47<>0),IF(OR(J47=1,J47=3,J47=4),IF(OR(N47=0,ABS(N47)<='Barèmes & Options'!H$2),1,0)),\"\")","v":""},{"$f":"IF(AND(K47<>\"\",G47<>\"\"),IF(OR(J47=5,J47=7),IF(OR(N47>0,N47+'Barèmes & Options'!H$2>0),1,0)),\"\")","v":""},{"$f":"IF(AND(K47<>\"\",G47<>\"\"),IF(OR(J47=2,J47=6,J47=8),IF(OR(N47<0,N47-'Barèmes & Options'!H$2<0),1,0)),\"\")","v":""},{"$f":"IF(AND(K47<>0,L47<>0),IF(OR(J47=1,J47=5,J47=6),IF(OR(O47=0,ABS(O47)<='Barèmes & Options'!H$2),1,0)),\"\")","v":""},{"$f":"IF(AND(K47<>\"\",L47<>\"\"),IF(OR(J47=4,J47=8),IF(OR(O47>0,O47+'Barèmes & Options'!H$2>0),1,0)),\"\")","v":""},{"$f":"IF(AND(K47<>\"\",L47<>\"\"),IF(OR(J47=2,J47=3,J47=7),IF(OR(O47<0,O47-'Barèmes & Options'!H$2<0),1,0)),\"\")","v":""},{"$f":"IF(SUM(Q47:V47)=2,IF(J47=2,IF(J47=2,IF(P47-'Barèmes & Options'!H$2<-1,0,1)),\"\"),0)","v":0},0,"","","",null,"",null,null,null,null,null,"m"]
[null,null,null,null,null,null,null,null,null,null,null,null,"",0,0,0,{"$f":"IF(AND(K48<>0,G48<>0),IF(OR(J48=1,J48=3,J48=4),IF(OR(N48=0,ABS(N48)<='Barèmes & Options'!H$2),1,0)),\"\")","v":""},{"$f":"IF(AND(K48<>\"\",G48<>\"\"),IF(OR(J48=5,J48=7),IF(OR(N48>0,N48+'Barèmes & Options'!H$2>0),1,0)),\"\")","v":""},{"$f":"IF(AND(K48<>\"\",G48<>\"\"),IF(OR(J48=2,J48=6,J48=8),IF(OR(N48<0,N48-'Barèmes & Options'!H$2<0),1,0)),\"\")","v":""},{"$f":"IF(AND(K48<>0,L48<>0),IF(OR(J48=1,J48=5,J48=6),IF(OR(O48=0,ABS(O48)<='Barèmes & Options'!H$2),1,0)),\"\")","v":""},{"$f":"IF(AND(K48<>\"\",L48<>\"\"),IF(OR(J48=4,J48=8),IF(OR(O48>0,O48+'Barèmes & Options'!H$2>0),1,0)),\"\")","v":""},{"$f":"IF(AND(K48<>\"\",L48<>\"\"),IF(OR(J48=2,J48=3,J48=7),IF(OR(O48<0,O48-'Barèmes & Options'!H$2<0),1,0)),\"\")","v":""},{"$f":"IF(SUM(Q48:V48)=2,IF(J48=2,IF(J48=2,IF(P48-'Barèmes & Options'!H$2<-1,0,1)),\"\"),0)","v":0},0,"","","",null,"",null,null,null,null,null,"m"]
[null,null,null,null,null,null,null,null,null,null,null,null,"",0,0,0,{"$f":"IF(AND(K49<>0,G49<>0),IF(OR(J49=1,J49=3,J49=4),IF(OR(N49=0,ABS(N49)<='Barèmes & Options'!H$2),1,0)),\"\")","v":""},{"$f":"IF(AND(K49<>\"\",G49<>\"\"),IF(OR(J49=5,J49=7),IF(OR(N49>0,N49+'Barèmes & Options'!H$2>0),1,0)),\"\")","v":""},{"$f":"IF(AND(K49<>\"\",G49<>\"\"),IF(OR(J49=2,J49=6,J49=8),IF(OR(N49<0,N49-'Barèmes & Options'!H$2<0),1,0)),\"\")","v":""},{"$f":"IF(AND(K49<>0,L49<>0),IF(OR(J49=1,J49=5,J49=6),IF(OR(O49=0,ABS(O49)<='Barèmes & Options'!H$2),1,0)),\"\")","v":""},{"$f":"IF(AND(K49<>\"\",L49<>\"\"),IF(OR(J49=4,J49=8),IF(OR(O49>0,O49+'Barèmes & Options'!H$2>0),1,0)),\"\")","v":""},{"$f":"IF(AND(K49<>\"\",L49<>\"\"),IF(OR(J49=2,J49=3,J49=7),IF(OR(O49<0,O49-'Barèmes & Options'!H$2<0),1,0)),\"\")","v":""},{"$f":"IF(SUM(Q49:V49)=2,IF(J49=2,IF(J49=2,IF(P49-'Barèmes & Options'!H$2<-1,0,1)),\"\"),0)","v":0},0,"","","",null,"",null,null,null,null,null,"m"]
[null,null,null,null,null,null,null,null,null,null,null,null,"",0,0,0,{"$f":"IF(AND(K50<>0,G50<>0),IF(OR(J50=1,J50=3,J50=4),IF(OR(N50=0,ABS(N50)<='Barèmes & Options'!H$2),1,0)),\"\")","v":""},{"$f":"IF(AND(K50<>\"\",G50<>\"\"),IF(OR(J50=5,J50=7),IF(OR(N50>0,N50+'Barèmes & Options'!H$2>0),1,0)),\"\")","v":""},{"$f":"IF(AND(K50<>\"\",G50<>\"\"),IF(OR(J50=2,J50=6,J50=8),IF(OR(N50<0,N50-'Barèmes & Options'!H$2<0),1,0)),\"\")","v":""},{"$f":"IF(AND(K50<>0,L50<>0),IF(OR(J50=1,J50=5,J50=6),IF(OR(O50=0,ABS(O50)<='Barèmes & Options'!H$2),1,0)),\"\")","v":""},{"$f":"IF(AND(K50<>\"\",L50<>\"\"),IF(OR(J50=4,J50=8),IF(OR(O50>0,O50+'Barèmes & Options'!H$2>0),1,0)),\"\")","v":""},{"$f":"IF(AND(K50<>\"\",L50<>\"\"),IF(OR(J50=2,J50=3,J50=7),IF(OR(O50<0,O50-'Barèmes & Options'!H$2<0),1,0)),\"\")","v":""},{"$f":"IF(SUM(Q50:V50)=2,IF(J50=2,IF(J50=2,IF(P50-'Barèmes & Options'!H$2<-1,0,1)),\"\"),0)","v":0},0,"","","",null,"",null,null,null,null,null,"m"]
[null,null,null,null,null,null,null,null,null,null,null,null,"",0,0,0,{"$f":"IF(AND(K51<>0,G51<>0),IF(OR(J51=1,J51=3,J51=4),IF(OR(N51=0,ABS(N51)<='Barèmes & Options'!H$2),1,0)),\"\")","v":""},{"$f":"IF(AND(K51<>\"\",G51<>\"\"),IF(OR(J51=5,J51=7),IF(OR(N51>0,N51+'Barèmes & Options'!H$2>0),1,0)),\"\")","v":""},{"$f":"IF(AND(K51<>\"\",G51<>\"\"),IF(OR(J51=2,J51=6,J51=8),IF(OR(N51<0,N51-'Barèmes & Options'!H$2<0),1,0)),\"\")","v":""},{"$f":"IF(AND(K51<>0,L51<>0),IF(OR(J51=1,J51=5,J51=6),IF(OR(O51=0,ABS(O51)<='Barèmes & Options'!H$2),1,0)),\"\")","v":""},{"$f":"IF(AND(K51<>\"\",L51<>\"\"),IF(OR(J51=4,J51=8),IF(OR(O51>0,O51+'Barèmes & Options'!H$2>0),1,0)),\"\")","v":""},{"$f":"IF(AND(K51<>\"\",L51<>\"\"),IF(OR(J51=2,J51=3,J51=7),IF(OR(O51<0,O51-'Barèmes & Options'!H$2<0),1,0)),\"\")","v":""},{"$f":"IF(SUM(Q51:V51)=2,IF(J51=2,IF(J51=2,IF(P51-'Barèmes & Options'!H$2<-1,0,1)),\"\"),0)","v":0},0,"","","",null,"",null,null,null,null,null,"m"]
[null,null,null,null,null,null,null,null,null,null,null,null,"",0,0,0,{"$f":"IF(AND(K52<>0,G52<>0),IF(OR(J52=1,J52=3,J52=4),IF(OR(N52=0,ABS(N52)<='Barèmes & Options'!H$2),1,0)),\"\")","v":""},{"$f":"IF(AND(K52<>\"\",G52<>\"\"),IF(OR(J52=5,J52=7),IF(OR(N52>0,N52+'Barèmes & Options'!H$2>0),1,0)),\"\")","v":""},{"$f":"IF(AND(K52<>\"\",G52<>\"\"),IF(OR(J52=2,J52=6,J52=8),IF(OR(N52<0,N52-'Barèmes & Options'!H$2<0),1,0)),\"\")","v":""},{"$f":"IF(AND(K52<>0,L52<>0),IF(OR(J52=1,J52=5,J52=6),IF(OR(O52=0,ABS(O52)<='Barèmes & Options'!H$2),1,0)),\"\")","v":""},{"$f":"IF(AND(K52<>\"\",L52<>\"\"),IF(OR(J52=4,J52=8),IF(OR(O52>0,O52+'Barèmes & Options'!H$2>0),1,0)),\"\")","v":""},{"$f":"IF(AND(K52<>\"\",L52<>\"\"),IF(OR(J52=2,J52=3,J52=7),IF(OR(O52<0,O52-'Barèmes & Options'!H$2<0),1,0)),\"\")","v":""},{"$f":"IF(SUM(Q52:V52)=2,IF(J52=2,IF(J52=2,IF(P52-'Barèmes & Options'!H$2<-1,0,1)),\"\"),0)","v":0},0,"","","",null,"",null,null,null,null,null,"m"]
[null,null,null,null,null,null,null,null,null,null,null,null,"",0,0,0,{"$f":"IF(AND(K53<>0,G53<>0),IF(OR(J53=1,J53=3,J53=4),IF(OR(N53=0,ABS(N53)<='Barèmes & Options'!H$2),1,0)),\"\")","v":""},{"$f":"IF(AND(K53<>\"\",G53<>\"\"),IF(OR(J53=5,J53=7),IF(OR(N53>0,N53+'Barèmes & Options'!H$2>0),1,0)),\"\")","v":""},{"$f":"IF(AND(K53<>\"\",G53<>\"\"),IF(OR(J53=2,J53=6,J53=8),IF(OR(N53<0,N53-'Barèmes & Options'!H$2<0),1,0)),\"\")","v":""},{"$f":"IF(AND(K53<>0,L53<>0),IF(OR(J53=1,J53=5,J53=6),IF(OR(O53=0,ABS(O53)<='Barèmes & Options'!H$2),1,0)),\"\")","v":""},{"$f":"IF(AND(K53<>\"\",L53<>\"\"),IF(OR(J53=4,J53=8),IF(OR(O53>0,O53+'Barèmes & Options'!H$2>0),1,0)),\"\")","v":""},{"$f":"IF(AND(K53<>\"\",L53<>\"\"),IF(OR(J53=2,J53=3,J53=7),IF(OR(O53<0,O53-'Barèmes & Options'!H$2<0),1,0)),\"\")","v":""},{"$f":"IF(SUM(Q53:V53)=2,IF(J53=2,IF(J53=2,IF(P53-'Barèmes & Options'!H$2<-1,0,1)),\"\"),0)","v":0},0,"","","",null,"",null,null,null,null,null,"m"]
[null,null,null,null,null,null,null,null,null,null,null,null,"",0,0,0,{"$f":"IF(AND(K54<>0,G54<>0),IF(OR(J54=1,J54=3,J54=4),IF(OR(N54=0,ABS(N54)<='Barèmes & Options'!H$2),1,0)),\"\")","v":""},{"$f":"IF(AND(K54<>\"\",G54<>\"\"),IF(OR(J54=5,J54=7),IF(OR(N54>0,N54+'Barèmes & Options'!H$2>0),1,0)),\"\")","v":""},{"$f":"IF(AND(K54<>\"\",G54<>\"\"),IF(OR(J54=2,J54=6,J54=8),IF(OR(N54<0,N54-'Barèmes & Options'!H$2<0),1,0)),\"\")","v":""},{"$f":"IF(AND(K54<>0,L54<>0),IF(OR(J54=1,J54=5,J54=6),IF(OR(O54=0,ABS(O54)<='Barèmes & Options'!H$2),1,0)),\"\")","v":""},{"$f":"IF(AND(K54<>\"\",L54<>\"\"),IF(OR(J54=4,J54=8),IF(OR(O54>0,O54+'Barèmes & Options'!H$2>0),1,0)),\"\")","v":""},{"$f":"IF(AND(K54<>\"\",L54<>\"\"),IF(OR(J54=2,J54=3,J54=7),IF(OR(O54<0,O54-'Barèmes & Options'!H$2<0),1,0)),\"\")","v":""},{"$f":"IF(SUM(Q54:V54)=2,IF(J54=2,IF(J54=2,IF(P54-'Barèmes & Options'!H$2<-1,0,1)),\"\"),0)","v":0},0,"","","",null,"",null,null,null,null,null,"m"]
[null,null,null,null,null,null,null,null,null,null,null,null,"",0,0,0,{"$f":"IF(AND(K55<>0,G55<>0),IF(OR(J55=1,J55=3,J55=4),IF(OR(N55=0,ABS(N55)<='Barèmes & Options'!H$2),1,0)),\"\")","v":""},{"$f":"IF(AND(K55<>\"\",G55<>\"\"),IF(OR(J55=5,J55=7),IF(OR(N55>0,N55+'Barèmes & Options'!H$2>0),1,0)),\"\")","v":""},{"$f":"IF(AND(K55<>\"\",G55<>\"\"),IF(OR(J55=2,J55=6,J55=8),IF(OR(N55<0,N55-'Barèmes & Options'!H$2<0),1,0)),\"\")","v":""},{"$f":"IF(AND(K55<>0,L55<>0),IF(OR(J55=1,J55=5,J55=6),IF(OR(O55=0,ABS(O55)<='Barèmes & Options'!H$2),1,0)),\"\")","v":""},{"$f":"IF(AND(K55<>\"\",L55<>\"\"),IF(OR(J55=4,J55=8),IF(OR(O55>0,O55+'Barèmes & Options'!H$2>0),1,0)),\"\")","v":""},{"$f":"IF(AND(K55<>\"\",L55<>\"\"),IF(OR(J55=2,J55=3,J55=7),IF(OR(O55<0,O55-'Barèmes & Options'!H$2<0),1,0)),\"\")","v":""},{"$f":"IF(SUM(Q55:V55)=2,IF(J55=2,IF(J55=2,IF(P55-'Barèmes & Options'!H$2<-1,0,1)),\"\"),0)","v":0},0,"","","",null,"",null,null,null,null,null,"m"]
[null,null,null,null,null,null,null,null,null,null,null,null,"",0,0,0,{"$f":"IF(AND(K56<>0,G56<>0),IF(OR(J56=1,J56=3,J56=4),IF(OR(N56=0,ABS(N56)<='Barèmes & Options'!H$2),1,0)),\"\")","v":""},{"$f":"IF(AND(K56<>\"\",G56<>\"\"),IF(OR(J56=5,J56=7),IF(OR(N56>0,N56+'Barèmes & Options'!H$2>0),1,0)),\"\")","v":""},{"$f":"IF(AND(K56<>\"\",G56<>\"\"),IF(OR(J56=2,J56=6,J56=8),IF(OR(N56<0,N56-'Barèmes & Options'!H$2<0),1,0)),\"\")","v":""},{"$f":"IF(AND(K56<>0,L56<>0),IF(OR(J56=1,J56=5,J56=6),IF(OR(O56=0,ABS(O56)<='Barèmes & Options'!H$2),1,0)),\"\")","v":""},{"$f":"IF(AND(K56<>\"\",L56<>\"\"),IF(OR(J56=4,J56=8),IF(OR(O56>0,O56+'Barèmes & Options'!H$2>0),1,0)),\"\")","v":""},{"$f":"IF(AND(K56<>\"\",L56<>\"\"),IF(OR(J56=2,J56=3,J56=7),IF(OR(O56<0,O56-'Barèmes & Options'!H$2<0),1,0)),\"\")","v":""},{"$f":"IF(SUM(Q56:V56)=2,IF(J56=2,IF(J56=2,IF(P56-'Barèmes & Options'!H$2<-1,0,1)),\"\"),0)","v":0},0,"","","",null,"",null,null,null,null,null,"m"]
[null,null,null,null,null,null,null,null,null,null,null,null,"",0,0,0,{"$f":"IF(AND(K57<>0,G57<>0),IF(OR(J57=1,J57=3,J57=4),IF(OR(N57=0,ABS(N57)<='Barèmes & Options'!H$2),1,0)),\"\")","v":""},{"$f":"IF(AND(K57<>\"\",G57<>\"\"),IF(OR(J57=5,J57=7),IF(OR(N57>0,N57+'Barèmes & Options'!H$2>0),1,0)),\"\")","v":""},{"$f":"IF(AND(K57<>\"\",G57<>\"\"),IF(OR(J57=2,J57=6,J57=8),IF(OR(N57<0,N57-'Barèmes & Options'!H$2<0),1,0)),\"\")","v":""},{"$f":"IF(AND(K57<>0,L57<>0),IF(OR(J57=1,J57=5,J57=6),IF(OR(O57=0,ABS(O57)<='Barèmes & Options'!H$2),1,0)),\"\")","v":""},{"$f":"IF(AND(K57<>\"\",L57<>\"\"),IF(OR(J57=4,J57=8),IF(OR(O57>0,O57+'Barèmes & Options'!H$2>0),1,0)),\"\")","v":""},{"$f":"IF(AND(K57<>\"\",L57<>\"\"),IF(OR(J57=2,J57=3,J57=7),IF(OR(O57<0,O57-'Barèmes & Options'!H$2<0),1,0)),\"\")","v":""},{"$f":"IF(SUM(Q57:V57)=2,IF(J57=2,IF(J57=2,IF(P57-'Barèmes & Options'!H$2<-1,0,1)),\"\"),0)","v":0},0,"","","",null,"",null,null,null,null,null,"m"]
[null,null,null,null,null,null,null,null,null,null,null,null,"",0,0,0,{"$f":"IF(AND(K58<>0,G58<>0),IF(OR(J58=1,J58=3,J58=4),IF(OR(N58=0,ABS(N58)<='Barèmes & Options'!H$2),1,0)),\"\")","v":""},{"$f":"IF(AND(K58<>\"\",G58<>\"\"),IF(OR(J58=5,J58=7),IF(OR(N58>0,N58+'Barèmes & Options'!H$2>0),1,0)),\"\")","v":""},{"$f":"IF(AND(K58<>\"\",G58<>\"\"),IF(OR(J58=2,J58=6,J58=8),IF(OR(N58<0,N58-'Barèmes & Options'!H$2<0),1,0)),\"\")","v":""},{"$f":"IF(AND(K58<>0,L58<>0),IF(OR(J58=1,J58=5,J58=6),IF(OR(O58=0,ABS(O58)<='Barèmes & Options'!H$2),1,0)),\"\")","v":""},{"$f":"IF(AND(K58<>\"\",L58<>\"\"),IF(OR(J58=4,J58=8),IF(OR(O58>0,O58+'Barèmes & Options'!H$2>0),1,0)),\"\")","v":""},{"$f":"IF(AND(K58<>\"\",L58<>\"\"),IF(OR(J58=2,J58=3,J58=7),IF(OR(O58<0,O58-'Barèmes & Options'!H$2<0),1,0)),\"\")","v":""},{"$f":"IF(SUM(Q58:V58)=2,IF(J58=2,IF(J58=2,IF(P58-'Barèmes & Options'!H$2<-1,0,1)),\"\"),0)","v":0},0,"","","",null,"",null,null,null,null,null,"m"]
[null,null,null,null,null,null,null,null,null,null,null,null,"",0,0,0,{"$f":"IF(AND(K59<>0,G59<>0),IF(OR(J59=1,J59=3,J59=4),IF(OR(N59=0,ABS(N59)<='Barèmes & Options'!H$2),1,0)),\"\")","v":""},{"$f":"IF(AND(K59<>\"\",G59<>\"\"),IF(OR(J59=5,J59=7),IF(OR(N59>0,N59+'Barèmes & Options'!H$2>0),1,0)),\"\")","v":""},{"$f":"IF(AND(K59<>\"\",G59<>\"\"),IF(OR(J59=2,J59=6,J59=8),IF(OR(N59<0,N59-'Barèmes & Options'!H$2<0),1,0)),\"\")","v":""},{"$f":"IF(AND(K59<>0,L59<>0),IF(OR(J59=1,J59=5,J59=6),IF(OR(O59=0,ABS(O59)<='Barèmes & Options'!H$2),1,0)),\"\")","v":""},{"$f":"IF(AND(K59<>\"\",L59<>\"\"),IF(OR(J59=4,J59=8),IF(OR(O59>0,O59+'Barèmes & Options'!H$2>0),1,0)),\"\")","v":""},{"$f":"IF(AND(K59<>\"\",L59<>\"\"),IF(OR(J59=2,J59=3,J59=7),IF(OR(O59<0,O59-'Barèmes & Options'!H$2<0),1,0)),\"\")","v":""},{"$f":"IF(SUM(Q59:V59)=2,IF(J59=2,IF(J59=2,IF(P59-'Barèmes & Options'!H$2<-1,0,1)),\"\"),0)","v":0},0,"","","",null,"",null,null,null,null,null,"m"]
[null,null,null,null,null,null,null,null,null,null,null,null,"",0,0,0,{"$f":"IF(AND(K60<>0,G60<>0),IF(OR(J60=1,J60=3,J60=4),IF(OR(N60=0,ABS(N60)<='Barèmes & Options'!H$2),1,0)),\"\")","v":""},{"$f":"IF(AND(K60<>\"\",G60<>\"\"),IF(OR(J60=5,J60=7),IF(OR(N60>0,N60+'Barèmes & Options'!H$2>0),1,0)),\"\")","v":""},{"$f":"IF(AND(K60<>\"\",G60<>\"\"),IF(OR(J60=2,J60=6,J60=8),IF(OR(N60<0,N60-'Barèmes & Options'!H$2<0),1,0)),\"\")","v":""},{"$f":"IF(AND(K60<>0,L60<>0),IF(OR(J60=1,J60=5,J60=6),IF(OR(O60=0,ABS(O60)<='Barèmes & Options'!H$2),1,0)),\"\")","v":""},{"$f":"IF(AND(K60<>\"\",L60<>\"\"),IF(OR(J60=4,J60=8),IF(OR(O60>0,O60+'Barèmes & Options'!H$2>0),1,0)),\"\")","v":""},{"$f":"IF(AND(K60<>\"\",L60<>\"\"),IF(OR(J60=2,J60=3,J60=7),IF(OR(O60<0,O60-'Barèmes & Options'!H$2<0),1,0)),\"\")","v":""},{"$f":"IF(SUM(Q60:V60)=2,IF(J60=2,IF(J60=2,IF(P60-'Barèmes & Options'!H$2<-1,0,1)),\"\"),0)","v":0},0,"","","",null,"",null,null,null,null,null,"m"]
[null,null,null,null,null,null,null,null,null,null,null,null,"",0,0,0,{"$f":"IF(AND(K61<>0,G61<>0),IF(OR(J61=1,J61=3,J61=4),IF(OR(N61=0,ABS(N61)<='Barèmes & Options'!H$2),1,0)),\"\")","v":""},{"$f":"IF(AND(K61<>\"\",G61<>\"\"),IF(OR(J61=5,J61=7),IF(OR(N61>0,N61+'Barèmes & Options'!H$2>0),1,0)),\"\")","v":""},{"$f":"IF(AND(K61<>\"\",G61<>\"\"),IF(OR(J61=2,J61=6,J61=8),IF(OR(N61<0,N61-'Barèmes & Options'!H$2<0),1,0)),\"\")","v":""},{"$f":"IF(AND(K61<>0,L61<>0),IF(OR(J61=1,J61=5,J61=6),IF(OR(O61=0,ABS(O61)<='Barèmes & Options'!H$2),1,0)),\"\")","v":""},{"$f":"IF(AND(K61<>\"\",L61<>\"\"),IF(OR(J61=4,J61=8),IF(OR(O61>0,O61+'Barèmes & Options'!H$2>0),1,0)),\"\")","v":""},{"$f":"IF(AND(K61<>\"\",L61<>\"\"),IF(OR(J61=2,J61=3,J61=7),IF(OR(O61<0,O61-'Barèmes & Options'!H$2<0),1,0)),\"\")","v":""},{"$f":"IF(SUM(Q61:V61)=2,IF(J61=2,IF(J61=2,IF(P61-'Barèmes & Options'!H$2<-1,0,1)),\"\"),0)","v":0},0,"","","",null,"",null,null,null,null,null,"m"]
[null,null,null,null,null,null,null,null,null,null,null,null,"",0,0,0,{"$f":"IF(AND(K62<>0,G62<>0),IF(OR(J62=1,J62=3,J62=4),IF(OR(N62=0,ABS(N62)<='Barèmes & Options'!H$2),1,0)),\"\")","v":""},{"$f":"IF(AND(K62<>\"\",G62<>\"\"),IF(OR(J62=5,J62=7),IF(OR(N62>0,N62+'Barèmes & Options'!H$2>0),1,0)),\"\")","v":""},{"$f":"IF(AND(K62<>\"\",G62<>\"\"),IF(OR(J62=2,J62=6,J62=8),IF(OR(N62<0,N62-'Barèmes & Options'!H$2<0),1,0)),\"\")","v":""},{"$f":"IF(AND(K62<>0,L62<>0),IF(OR(J62=1,J62=5,J62=6),IF(OR(O62=0,ABS(O62)<='Barèmes & Options'!H$2),1,0)),\"\")","v":""},{"$f":"IF(AND(K62<>\"\",L62<>\"\"),IF(OR(J62=4,J62=8),IF(OR(O62>0,O62+'Barèmes & Options'!H$2>0),1,0)),\"\")","v":""},{"$f":"IF(AND(K62<>\"\",L62<>\"\"),IF(OR(J62=2,J62=3,J62=7),IF(OR(O62<0,O62-'Barèmes & Options'!H$2<0),1,0)),\"\")","v":""},{"$f":"IF(SUM(Q62:V62)=2,IF(J62=2,IF(J62=2,IF(P62-'Barèmes & Options'!H$2<-1,0,1)),\"\"),0)","v":0},0,"","","",null,"",null,null,null,null,null,"m"]
[null,null,null,null,null,null,null,null,null,null,null,null,"",0,0,0,{"$f":"IF(AND(K63<>0,G63<>0),IF(OR(J63=1,J63=3,J63=4),IF(OR(N63=0,ABS(N63)<='Barèmes & Options'!H$2),1,0)),\"\")","v":""},{"$f":"IF(AND(K63<>\"\",G63<>\"\"),IF(OR(J63=5,J63=7),IF(OR(N63>0,N63+'Barèmes & Options'!H$2>0),1,0)),\"\")","v":""},{"$f":"IF(AND(K63<>\"\",G63<>\"\"),IF(OR(J63=2,J63=6,J63=8),IF(OR(N63<0,N63-'Barèmes & Options'!H$2<0),1,0)),\"\")","v":""},{"$f":"IF(AND(K63<>0,L63<>0),IF(OR(J63=1,J63=5,J63=6),IF(OR(O63=0,ABS(O63)<='Barèmes & Options'!H$2),1,0)),\"\")","v":""},{"$f":"IF(AND(K63<>\"\",L63<>\"\"),IF(OR(J63=4,J63=8),IF(OR(O63>0,O63+'Barèmes & Options'!H$2>0),1,0)),\"\")","v":""},{"$f":"IF(AND(K63<>\"\",L63<>\"\"),IF(OR(J63=2,J63=3,J63=7),IF(OR(O63<0,O63-'Barèmes & Options'!H$2<0),1,0)),\"\")","v":""},{"$f":"IF(SUM(Q63:V63)=2,IF(J63=2,IF(J63=2,IF(P63-'Barèmes & Options'!H$2<-1,0,1)),\"\"),0)","v":0},0,"","","",null,"",null,null,null,null,null,"m"]
[null,null,null,null,null,null,null,null,null,null,null,null,"",0,0,0,{"$f":"IF(AND(K64<>0,G64<>0),IF(OR(J64=1,J64=3,J64=4),IF(OR(N64=0,ABS(N64)<='Barèmes & Options'!H$2),1,0)),\"\")","v":""},{"$f":"IF(AND(K64<>\"\",G64<>\"\"),IF(OR(J64=5,J64=7),IF(OR(N64>0,N64+'Barèmes & Options'!H$2>0),1,0)),\"\")","v":""},{"$f":"IF(AND(K64<>\"\",G64<>\"\"),IF(OR(J64=2,J64=6,J64=8),IF(OR(N64<0,N64-'Barèmes & Options'!H$2<0),1,0)),\"\")","v":""},{"$f":"IF(AND(K64<>0,L64<>0),IF(OR(J64=1,J64=5,J64=6),IF(OR(O64=0,ABS(O64)<='Barèmes & Options'!H$2),1,0)),\"\")","v":""},{"$f":"IF(AND(K64<>\"\",L64<>\"\"),IF(OR(J64=4,J64=8),IF(OR(O64>0,O64+'Barèmes & Options'!H$2>0),1,0)),\"\")","v":""},{"$f":"IF(AND(K64<>\"\",L64<>\"\"),IF(OR(J64=2,J64=3,J64=7),IF(OR(O64<0,O64-'Barèmes & Options'!H$2<0),1,0)),\"\")","v":""},{"$f":"IF(SUM(Q64:V64)=2,IF(J64=2,IF(J64=2,IF(P64-'Barèmes & Options'!H$2<-1,0,1)),\"\"),0)","v":0},0,"","","",null,"",null,null,null,null,null,"m"]
[null,null,null,null,null,null,null,null,null,null,null,null,"",0,0,0,{"$f":"IF(AND(K65<>0,G65<>0),IF(OR(J65=1,J65=3,J65=4),IF(OR(N65=0,ABS(N65)<='Barèmes & Options'!H$2),1,0)),\"\")","v":""},{"$f":"IF(AND(K65<>\"\",G65<>\"\"),IF(OR(J65=5,J65=7),IF(OR(N65>0,N65+'Barèmes & Options'!H$2>0),1,0)),\"\")","v":""},{"$f":"IF(AND(K65<>\"\",G65<>\"\"),IF(OR(J65=2,J65=6,J65=8),IF(OR(N65<0,N65-'Barèmes & Options'!H$2<0),1,0)),\"\")","v":""},{"$f":"IF(AND(K65<>0,L65<>0),IF(OR(J65=1,J65=5,J65=6),IF(OR(O65=0,ABS(O65)<='Barèmes & Options'!H$2),1,0)),\"\")","v":""},{"$f":"IF(AND(K65<>\"\",L65<>\"\"),IF(OR(J65=4,J65=8),IF(OR(O65>0,O65+'Barèmes & Options'!H$2>0),1,0)),\"\")","v":""},{"$f":"IF(AND(K65<>\"\",L65<>\"\"),IF(OR(J65=2,J65=3,J65=7),IF(OR(O65<0,O65-'Barèmes & Options'!H$2<0),1,0)),\"\")","v":""},{"$f":"IF(SUM(Q65:V65)=2,IF(J65=2,IF(J65=2,IF(P65-'Barèmes & Options'!H$2<-1,0,1)),\"\"),0)","v":0},0,"","","",null,"",null,null,null,null,null,"m"]
[null,null,null,null,null,null,null,null,null,null,null,null,"",0,0,0,{"$f":"IF(AND(K66<>0,G66<>0),IF(OR(J66=1,J66=3,J66=4),IF(OR(N66=0,ABS(N66)<='Barèmes & Options'!H$2),1,0)),\"\")","v":""},{"$f":"IF(AND(K66<>\"\",G66<>\"\"),IF(OR(J66=5,J66=7),IF(OR(N66>0,N66+'Barèmes & Options'!H$2>0),1,0)),\"\")","v":""},{"$f":"IF(AND(K66<>\"\",G66<>\"\"),IF(OR(J66=2,J66=6,J66=8),IF(OR(N66<0,N66-'Barèmes & Options'!H$2<0),1,0)),\"\")","v":""},{"$f":"IF(AND(K66<>0,L66<>0),IF(OR(J66=1,J66=5,J66=6),IF(OR(O66=0,ABS(O66)<='Barèmes & Options'!H$2),1,0)),\"\")","v":""},{"$f":"IF(AND(K66<>\"\",L66<>\"\"),IF(OR(J66=4,J66=8),IF(OR(O66>0,O66+'Barèmes & Options'!H$2>0),1,0)),\"\")","v":""},{"$f":"IF(AND(K66<>\"\",L66<>\"\"),IF(OR(J66=2,J66=3,J66=7),IF(OR(O66<0,O66-'Barèmes & Options'!H$2<0),1,0)),\"\")","v":""},{"$f":"IF(SUM(Q66:V66)=2,IF(J66=2,IF(J66=2,IF(P66-'Barèmes & Options'!H$2<-1,0,1)),\"\"),0)","v":0},0,"","","",null,"",null,null,null,null,null,"m"]
[null,null,null,null,null,null,null,null,null,null,null,null,"",0,0,0,{"$f":"IF(AND(K67<>0,G67<>0),IF(OR(J67=1,J67=3,J67=4),IF(OR(N67=0,ABS(N67)<='Barèmes & Options'!H$2),1,0)),\"\")","v":""},{"$f":"IF(AND(K67<>\"\",G67<>\"\"),IF(OR(J67=5,J67=7),IF(OR(N67>0,N67+'Barèmes & Options'!H$2>0),1,0)),\"\")","v":""},{"$f":"IF(AND(K67<>\"\",G67<>\"\"),IF(OR(J67=2,J67=6,J67=8),IF(OR(N67<0,N67-'Barèmes & Options'!H$2<0),1,0)),\"\")","v":""},{"$f":"IF(AND(K67<>0,L67<>0),IF(OR(J67=1,J67=5,J67=6),IF(OR(O67=0,ABS(O67)<='Barèmes & Options'!H$2),1,0)),\"\")","v":""},{"$f":"IF(AND(K67<>\"\",L67<>\"\"),IF(OR(J67=4,J67=8),IF(OR(O67>0,O67+'Barèmes & Options'!H$2>0),1,0)),\"\")","v":""},{"$f":"IF(AND(K67<>\"\",L67<>\"\"),IF(OR(J67=2,J67=3,J67=7),IF(OR(O67<0,O67-'Barèmes & Options'!H$2<0),1,0)),\"\")","v":""},{"$f":"IF(SUM(Q67:V67)=2,IF(J67=2,IF(J67=2,IF(P67-'Barèmes & Options'!H$2<-1,0,1)),\"\"),0)","v":0},0,"","","",null,"",null,null,null,null,null,"m"]
[null,null,null,null,null,null,null,null,null,null,null,null,"",0,0,0,{"$f":"IF(AND(K68<>0,G68<>0),IF(OR(J68=1,J68=3,J68=4),IF(OR(N68=0,ABS(N68)<='Barèmes & Options'!H$2),1,0)),\"\")","v":""},{"$f":"IF(AND(K68<>\"\",G68<>\"\"),IF(OR(J68=5,J68=7),IF(OR(N68>0,N68+'Barèmes & Options'!H$2>0),1,0)),\"\")","v":""},{"$f":"IF(AND(K68<>\"\",G68<>\"\"),IF(OR(J68=2,J68=6,J68=8),IF(OR(N68<0,N68-'Barèmes & Options'!H$2<0),1,0)),\"\")","v":""},{"$f":"IF(AND(K68<>0,L68<>0),IF(OR(J68=1,J68=5,J68=6),IF(OR(O68=0,ABS(O68)<='Barèmes & Options'!H$2),1,0)),\"\")","v":""},{"$f":"IF(AND(K68<>\"\",L68<>\"\"),IF(OR(J68=4,J68=8),IF(OR(O68>0,O68+'Barèmes & Options'!H$2>0),1,0)),\"\")","v":""},{"$f":"IF(AND(K68<>\"\",L68<>\"\"),IF(OR(J68=2,J68=3,J68=7),IF(OR(O68<0,O68-'Barèmes & Options'!H$2<0),1,0)),\"\")","v":""},{"$f":"IF(SUM(Q68:V68)=2,IF(J68=2,IF(J68=2,IF(P68-'Barèmes & Options'!H$2<-1,0,1)),\"\"),0)","v":0},0,"",{"$f":"IF(F68<>\"\",IF(H68<=3,1,0),\"\")","v":""},{"$f":"IF(AND(L68>0,K68>0,G68>0),IF($C68=\"\",\"\",IF($C68=\"F\",VLOOKUP($M68,Barème500,3),VLOOKUP($M68,Barème500,2))),\"\")","v":""},null,"",null,null,null,null,null,"m"]
[null,null,null,null,null,null,null,null,null,null,null,null,{"$f":"IF(AND(L69<>\"\",K69<>\"\",G69<>\"\"),INT(((INT($G69)*60)+(($G69-INT($G69))*100)+(INT($K69)*60)+(($K69-INT($K69))*100)+(INT($L69)*60)+(($L69-INT($L69))*100))/60)+MOD(((INT($G69)*60)+(($G69-INT($G69))*100)+(INT($K69)*60)+(($K69-INT($K69))*100)+(INT($L69)*60)+(($L69-INT($L69))*100)),60)/100,\"\")","v":""},{"$f":"(INT(K69)*60)+((K69-INT(K69))*100)-((INT(G69)*60)+((G69-INT(G69))*100))","v":0},{"$f":"(INT(L69)*60)+((L69-INT(L69))*100)-((INT(K69)*60)+((K69-INT(K69))*100))","v":0},{"$f":"(INT(L69)*60)+((L69-INT(L69))*100)-((INT(G69)*60)+((G69-INT(G69))*100))","v":0},{"$f":"IF(AND(K69<>0,G69<>0),IF(OR(J69=1,J69=3,J69=4),IF(OR(N69=0,ABS(N69)<='Barèmes & Options'!H$2),1,0)),\"\")","v":""},{"$f":"IF(AND(K69<>\"\",G69<>\"\"),IF(OR(J69=5,J69=7),IF(OR(N69>0,N69+'Barèmes & Options'!H$2>0),1,0)),\"\")","v":""},{"$f":"IF(AND(K69<>\"\",G69<>\"\"),IF(OR(J69=2,J69=6,J69=8),IF(OR(N69<0,N69-'Barèmes & Options'!H$2<0),1,0)),\"\")","v":""},{"$f":"IF(AND(K69<>0,L69<>0),IF(OR(J69=1,J69=5,J69=6),IF(OR(O69=0,ABS(O69)<='Barèmes & Options'!H$2),1,0)),\"\")","v":""},{"$f":"IF(AND(K69<>\"\",L69<>\"\"),IF(OR(J69=4,J69=8),IF(OR(O69>0,O69+'Barèmes & Options'!H$2>0),1,0)),\"\")","v":""},{"$f":"IF(AND(K69<>\"\",L69<>\"\"),IF(OR(J69=2,J69=3,J69=7),IF(OR(O69<0,O69-'Barèmes & Options'!H$2<0),1,0)),\"\")","v":""},{"$f":"IF(SUM(Q69:V69)=2,IF(J69=2,IF(J69=2,IF(P69-'Barèmes & Options'!H$2<-1,0,1)),\"\"),0)","v":0},{"$f":"IF(OR(J69=2,J69=9),SUM(Q69:V69)-W69,SUM(Q69:V69))","v":0},{"$f":"IF(J69<>\"\",IF(AND(J69>=1,J69<=8,J69=ABS(J69)),IF(AND(J69<=9,J69>=1),IF(AND(X69=1,I69<>\"\"),1,IF(AND(X69=1,I69=\"\"),2,IF(AND(X69=2,I69<>\"\"),2.5,IF(AND(X69=2,I69=\"\"),3,0)))),\"\"),\"Err. Profil\"),\"\")","v":""},"","",null,{"$f":"IF(OR(AB68=\"\",AB69=\"\",AA69=\"\",Z69=\"\",Y69=\"\"),\"\",IF(OR(AB69<0,AB69>2),\"Err ech.\",SUM(AB69,AA69,Z69,Y69)))","v":""},null,null,null,null,null,{"$f":"IF(C69<>\"f\",\"m\",\"f\")","v":"m"}]
[null,null,null,null,null,null,null,null,null,null,null,null,"",0,0,0,{"$f":"IF(AND(K70<>0,G70<>0),IF(OR(J70=1,J70=3,J70=4),IF(OR(N70=0,ABS(N70)<='Barèmes & Options'!H$2),1,0)),\"\")","v":""},{"$f":"IF(AND(K70<>\"\",G70<>\"\"),IF(OR(J70=5,J70=7),IF(OR(N70>0,N70+'Barèmes & Options'!H$2>0),1,0)),\"\")","v":""},{"$f":"IF(AND(K70<>\"\",G70<>\"\"),IF(OR(J70=2,J70=6,J70=8),IF(OR(N70<0,N70-'Barèmes & Options'!H$2<0),1,0)),\"\")","v":""},{"$f":"IF(AND(K70<>0,L70<>0),IF(OR(J70=1,J70=5,J70=6),IF(OR(O70=0,ABS(O70)<='Barèmes & Options'!H$2),1,0)),\"\")","v":""},{"$f":"IF(AND(K70<>\"\",L70<>\"\"),IF(OR(J70=4,J70=8),IF(OR(O70>0,O70+'Barèmes & Options'!H$2>0),1,0)),\"\")","v":""},{"$f":"IF(AND(K70<>\"\",L70<>\"\"),IF(OR(J70=2,J70=3,J70=7),IF(OR(O70<0,O70-'Barèmes & Options'!H$2<0),1,0)),\"\")","v":""},{"$f":"IF(SUM(Q70:V70)=2,IF(J70=2,IF(J70=2,IF(P70-'Barèmes & Options'!H$2<-1,0,1)),\"\"),0)","v":0},0,"","","",null,"",null,null,null,null,null,"m"]
[null,null,null,null,null,null,null,null,null,null,null,null,"",0,0,0,{"$f":"IF(AND(K71<>0,G71<>0),IF(OR(J71=1,J71=3,J71=4),IF(OR(N71=0,ABS(N71)<='Barèmes & Options'!H$2),1,0)),\"\")","v":""},{"$f":"IF(AND(K71<>\"\",G71<>\"\"),IF(OR(J71=5,J71=7),IF(OR(N71>0,N71+'Barèmes & Options'!H$2>0),1,0)),\"\")","v":""},{"$f":"IF(AND(K71<>\"\",G71<>\"\"),IF(OR(J71=2,J71=6,J71=8),IF(OR(N71<0,N71-'Barèmes & Options'!H$2<0),1,0)),\"\")","v":""},{"$f":"IF(AND(K71<>0,L71<>0),IF(OR(J71=1,J71=5,J71=6),IF(OR(O71=0,ABS(O71)<='Barèmes & Options'!H$2),1,0)),\"\")","v":""},{"$f":"IF(AND(K71<>\"\",L71<>\"\"),IF(OR(J71=4,J71=8),IF(OR(O71>0,O71+'Barèmes & Options'!H$2>0),1,0)),\"\")","v":""},{"$f":"IF(AND(K71<>\"\",L71<>\"\"),IF(OR(J71=2,J71=3,J71=7),IF(OR(O71<0,O71-'Barèmes & Options'!H$2<0),1,0)),\"\")","v":""},{"$f":"IF(SUM(Q71:V71)=2,IF(J71=2,IF(J71=2,IF(P71-'Barèmes & Options'!H$2<-1,0,1)),\"\"),0)","v":0},0,"","","",null,"",null,null,null,null,null,"m"]
[null,null,null,null,null,null,null,null,null,null,null,null,"",0,0,0,{"$f":"IF(AND(K72<>0,G72<>0),IF(OR(J72=1,J72=3,J72=4),IF(OR(N72=0,ABS(N72)<='Barèmes & Options'!H$2),1,0)),\"\")","v":""},{"$f":"IF(AND(K72<>\"\",G72<>\"\"),IF(OR(J72=5,J72=7),IF(OR(N72>0,N72+'Barèmes & Options'!H$2>0),1,0)),\"\")","v":""},{"$f":"IF(AND(K72<>\"\",G72<>\"\"),IF(OR(J72=2,J72=6,J72=8),IF(OR(N72<0,N72-'Barèmes & Options'!H$2<0),1,0)),\"\")","v":""},{"$f":"IF(AND(K72<>0,L72<>0),IF(OR(J72=1,J72=5,J72=6),IF(OR(O72=0,ABS(O72)<='Barèmes & Options'!H$2),1,0)),\"\")","v":""},{"$f":"IF(AND(K72<>\"\",L72<>\"\"),IF(OR(J72=4,J72=8),IF(OR(O72>0,O72+'Barèmes & Options'!H$2>0),1,0)),\"\")","v":""},{"$f":"IF(AND(K72<>\"\",L72<>\"\"),IF(OR(J72=2,J72=3,J72=7),IF(OR(O72<0,O72-'Barèmes & Options'!H$2<0),1,0)),\"\")","v":""},{"$f":"IF(SUM(Q72:V72)=2,IF(J72=2,IF(J72=2,IF(P72-'Barèmes & Options'!H$2<-1,0,1)),\"\"),0)","v":0},0,"","","",null,"",null,null,null,null,null,"m"]
[null,null,null,null,null,null,null,null,null,null,null,null,"",0,0,0,{"$f":"IF(AND(K73<>0,G73<>0),IF(OR(J73=1,J73=3,J73=4),IF(OR(N73=0,ABS(N73)<='Barèmes & Options'!H$2),1,0)),\"\")","v":""},{"$f":"IF(AND(K73<>\"\",G73<>\"\"),IF(OR(J73=5,J73=7),IF(OR(N73>0,N73+'Barèmes & Options'!H$2>0),1,0)),\"\")","v":""},{"$f":"IF(AND(K73<>\"\",G73<>\"\"),IF(OR(J73=2,J73=6,J73=8),IF(OR(N73<0,N73-'Barèmes & Options'!H$2<0),1,0)),\"\")","v":""},{"$f":"IF(AND(K73<>0,L73<>0),IF(OR(J73=1,J73=5,J73=6),IF(OR(O73=0,ABS(O73)<='Barèmes & Options'!H$2),1,0)),\"\")","v":""},{"$f":"IF(AND(K73<>\"\",L73<>\"\"),IF(OR(J73=4,J73=8),IF(OR(O73>0,O73+'Barèmes & Options'!H$2>0),1,0)),\"\")","v":""},{"$f":"IF(AND(K73<>\"\",L73<>\"\"),IF(OR(J73=2,J73=3,J73=7),IF(OR(O73<0,O73-'Barèmes & Options'!H$2<0),1,0)),\"\")","v":""},{"$f":"IF(SUM(Q73:V73)=2,IF(J73=2,IF(J73=2,IF(P73-'Barèmes & Options'!H$2<-1,0,1)),\"\"),0)","v":0},0,"","","",null,"",null,null,null,null,null,"m"]
[null,null,null,null,null,null,null,null,null,null,null,null,"",0,0,0,{"$f":"IF(AND(K74<>0,G74<>0),IF(OR(J74=1,J74=3,J74=4),IF(OR(N74=0,ABS(N74)<='Barèmes & Options'!H$2),1,0)),\"\")","v":""},{"$f":"IF(AND(K74<>\"\",G74<>\"\"),IF(OR(J74=5,J74=7),IF(OR(N74>0,N74+'Barèmes & Options'!H$2>0),1,0)),\"\")","v":""},{"$f":"IF(AND(K74<>\"\",G74<>\"\"),IF(OR(J74=2,J74=6,J74=8),IF(OR(N74<0,N74-'Barèmes & Options'!H$2<0),1,0)),\"\")","v":""},{"$f":"IF(AND(K74<>0,L74<>0),IF(OR(J74=1,J74=5,J74=6),IF(OR(O74=0,ABS(O74)<='Barèmes & Options'!H$2),1,0)),\"\")","v":""},{"$f":"IF(AND(K74<>\"\",L74<>\"\"),IF(OR(J74=4,J74=8),IF(OR(O74>0,O74+'Barèmes & Options'!H$2>0),1,0)),\"\")","v":""},{"$f":"IF(AND(K74<>\"\",L74<>\"\"),IF(OR(J74=2,J74=3,J74=7),IF(OR(O74<0,O74-'Barèmes & Options'!H$2<0),1,0)),\"\")","v":""},{"$f":"IF(SUM(Q74:V74)=2,IF(J74=2,IF(J74=2,IF(P74-'Barèmes & Options'!H$2<-1,0,1)),\"\"),0)","v":0},0,"","","",null,"",null,null,null,null,null,"m"]
[null,null,null,null,null,null,null,null,null,null,null,null,"",0,0,0,{"$f":"IF(AND(K75<>0,G75<>0),IF(OR(J75=1,J75=3,J75=4),IF(OR(N75=0,ABS(N75)<='Barèmes & Options'!H$2),1,0)),\"\")","v":""},{"$f":"IF(AND(K75<>\"\",G75<>\"\"),IF(OR(J75=5,J75=7),IF(OR(N75>0,N75+'Barèmes & Options'!H$2>0),1,0)),\"\")","v":""},{"$f":"IF(AND(K75<>\"\",G75<>\"\"),IF(OR(J75=2,J75=6,J75=8),IF(OR(N75<0,N75-'Barèmes & Options'!H$2<0),1,0)),\"\")","v":""},{"$f":"IF(AND(K75<>0,L75<>0),IF(OR(J75=1,J75=5,J75=6),IF(OR(O75=0,ABS(O75)<='Barèmes & Options'!H$2),1,0)),\"\")","v":""},{"$f":"IF(AND(K75<>\"\",L75<>\"\"),IF(OR(J75=4,J75=8),IF(OR(O75>0,O75+'Barèmes & Options'!H$2>0),1,0)),\"\")","v":""},{"$f":"IF(AND(K75<>\"\",L75<>\"\"),IF(OR(J75=2,J75=3,J75=7),IF(OR(O75<0,O75-'Barèmes & Options'!H$2<0),1,0)),\"\")","v":""},{"$f":"IF(SUM(Q75:V75)=2,IF(J75=2,IF(J75=2,IF(P75-'Barèmes & Options'!H$2<-1,0,1)),\"\"),0)","v":0},0,"","","",null,"",null,null,null,null,null,"m"]
[null,null,null,null,null,null,null,null,null,null,null,null,"",0,0,0,{"$f":"IF(AND(K76<>0,G76<>0),IF(OR(J76=1,J76=3,J76=4),IF(OR(N76=0,ABS(N76)<='Barèmes & Options'!H$2),1,0)),\"\")","v":""},{"$f":"IF(AND(K76<>\"\",G76<>\"\"),IF(OR(J76=5,J76=7),IF(OR(N76>0,N76+'Barèmes & Options'!H$2>0),1,0)),\"\")","v":""},{"$f":"IF(AND(K76<>\"\",G76<>\"\"),IF(OR(J76=2,J76=6,J76=8),IF(OR(N76<0,N76-'Barèmes & Options'!H$2<0),1,0)),\"\")","v":""},{"$f":"IF(AND(K76<>0,L76<>0),IF(OR(J76=1,J76=5,J76=6),IF(OR(O76=0,ABS(O76)<='Barèmes & Options'!H$2),1,0)),\"\")","v":""},{"$f":"IF(AND(K76<>\"\",L76<>\"\"),IF(OR(J76=4,J76=8),IF(OR(O76>0,O76+'Barèmes & Options'!H$2>0),1,0)),\"\")","v":""},{"$f":"IF(AND(K76<>\"\",L76<>\"\"),IF(OR(J76=2,J76=3,J76=7),IF(OR(O76<0,O76-'Barèmes & Options'!H$2<0),1,0)),\"\")","v":""},{"$f":"IF(SUM(Q76:V76)=2,IF(J76=2,IF(J76=2,IF(P76-'Barèmes & Options'!H$2<-1,0,1)),\"\"),0)","v":0},0,"","","",null,"",null,null,null,null,null,"m"]
[null,null,null,null,null,null,null,null,null,null,null,null,"",0,0,0,{"$f":"IF(AND(K77<>0,G77<>0),IF(OR(J77=1,J77=3,J77=4),IF(OR(N77=0,ABS(N77)<='Barèmes & Options'!H$2),1,0)),\"\")","v":""},{"$f":"IF(AND(K77<>\"\",G77<>\"\"),IF(OR(J77=5,J77=7),IF(OR(N77>0,N77+'Barèmes & Options'!H$2>0),1,0)),\"\")","v":""},{"$f":"IF(AND(K77<>\"\",G77<>\"\"),IF(OR(J77=2,J77=6,J77=8),IF(OR(N77<0,N77-'Barèmes & Options'!H$2<0),1,0)),\"\")","v":""},{"$f":"IF(AND(K77<>0,L77<>0),IF(OR(J77=1,J77=5,J77=6),IF(OR(O77=0,ABS(O77)<='Barèmes & Options'!H$2),1,0)),\"\")","v":""},{"$f":"IF(AND(K77<>\"\",L77<>\"\"),IF(OR(J77=4,J77=8),IF(OR(O77>0,O77+'Barèmes & Options'!H$2>0),1,0)),\"\")","v":""},{"$f":"IF(AND(K77<>\"\",L77<>\"\"),IF(OR(J77=2,J77=3,J77=7),IF(OR(O77<0,O77-'Barèmes & Options'!H$2<0),1,0)),\"\")","v":""},{"$f":"IF(SUM(Q77:V77)=2,IF(J77=2,IF(J77=2,IF(P77-'Barèmes & Options'!H$2<-1,0,1)),\"\"),0)","v":0},0,"","","",null,"",null,null,null,null,null,"m"]
[null,null,null,null,null,null,null,null,null,null,null,null,"",0,0,0,{"$f":"IF(AND(K78<>0,G78<>0),IF(OR(J78=1,J78=3,J78=4),IF(OR(N78=0,ABS(N78)<='Barèmes & Options'!H$2),1,0)),\"\")","v":""},{"$f":"IF(AND(K78<>\"\",G78<>\"\"),IF(OR(J78=5,J78=7),IF(OR(N78>0,N78+'Barèmes & Options'!H$2>0),1,0)),\"\")","v":""},{"$f":"IF(AND(K78<>\"\",G78<>\"\"),IF(OR(J78=2,J78=6,J78=8),IF(OR(N78<0,N78-'Barèmes & Options'!H$2<0),1,0)),\"\")","v":""},{"$f":"IF(AND(K78<>0,L78<>0),IF(OR(J78=1,J78=5,J78=6),IF(OR(O78=0,ABS(O78)<='Barèmes & Options'!H$2),1,0)),\"\")","v":""},{"$f":"IF(AND(K78<>\"\",L78<>\"\"),IF(OR(J78=4,J78=8),IF(OR(O78>0,O78+'Barèmes & Options'!H$2>0),1,0)),\"\")","v":""},{"$f":"IF(AND(K78<>\"\",L78<>\"\"),IF(OR(J78=2,J78=3,J78=7),IF(OR(O78<0,O78-'Barèmes & Options'!H$2<0),1,0)),\"\")","v":""},{"$f":"IF(SUM(Q78:V78)=2,IF(J78=2,IF(J78=2,IF(P78-'Barèmes & Options'!H$2<-1,0,1)),\"\"),0)","v":0},0,"","","",null,"",null,null,null,null,null,"m"]
[null,null,null,null,null,null,null,null,null,null,null,null,"",0,0,0,{"$f":"IF(AND(K79<>0,G79<>0),IF(OR(J79=1,J79=3,J79=4),IF(OR(N79=0,ABS(N79)<='Barèmes & Options'!H$2),1,0)),\"\")","v":""},{"$f":"IF(AND(K79<>\"\",G79<>\"\"),IF(OR(J79=5,J79=7),IF(OR(N79>0,N79+'Barèmes & Options'!H$2>0),1,0)),\"\")","v":""},{"$f":"IF(AND(K79<>\"\",G79<>\"\"),IF(OR(J79=2,J79=6,J79=8),IF(OR(N79<0,N79-'Barèmes & Options'!H$2<0),1,0)),\"\")","v":""},{"$f":"IF(AND(K79<>0,L79<>0),IF(OR(J79=1,J79=5,J79=6),IF(OR(O79=0,ABS(O79)<='Barèmes & Options'!H$2),1,0)),\"\")","v":""},{"$f":"IF(AND(K79<>\"\",L79<>\"\"),IF(OR(J79=4,J79=8),IF(OR(O79>0,O79+'Barèmes & Options'!H$2>0),1,0)),\"\")","v":""},{"$f":"IF(AND(K79<>\"\",L79<>\"\"),IF(OR(J79=2,J79=3,J79=7),IF(OR(O79<0,O79-'Barèmes & Options'!H$2<0),1,0)),\"\")","v":""},{"$f":"IF(SUM(Q79:V79)=2,IF(J79=2,IF(J79=2,IF(P79-'Barèmes & Options'!H$2<-1,0,1)),\"\"),0)","v":0},0,"","","",null,"",null,null,null,null,null,"m"]
[null,null,null,null,null,null,null,null,null,null,null,null,"",0,0,0,{"$f":"IF(AND(K80<>0,G80<>0),IF(OR(J80=1,J80=3,J80=4),IF(OR(N80=0,ABS(N80)<='Barèmes & Options'!H$2),1,0)),\"\")","v":""},{"$f":"IF(AND(K80<>\"\",G80<>\"\"),IF(OR(J80=5,J80=7),IF(OR(N80>0,N80+'Barèmes & Options'!H$2>0),1,0)),\"\")","v":""},{"$f":"IF(AND(K80<>\"\",G80<>\"\"),IF(OR(J80=2,J80=6,J80=8),IF(OR(N80<0,N80-'Barèmes & Options'!H$2<0),1,0)),\"\")","v":""},{"$f":"IF(AND(K80<>0,L80<>0),IF(OR(J80=1,J80=5,J80=6),IF(OR(O80=0,ABS(O80)<='Barèmes & Options'!H$2),1,0)),\"\")","v":""},{"$f":"IF(AND(K80<>\"\",L80<>\"\"),IF(OR(J80=4,J80=8),IF(OR(O80>0,O80+'Barèmes & Options'!H$2>0),1,0)),\"\")","v":""},{"$f":"IF(AND(K80<>\"\",L80<>\"\"),IF(OR(J80=2,J80=3,J80=7),IF(OR(O80<0,O80-'Barèmes & Options'!H$2<0),1,0)),\"\")","v":""},{"$f":"IF(SUM(Q80:V80)=2,IF(J80=2,IF(J80=2,IF(P80-'Barèmes & Options'!H$2<-1,0,1)),\"\"),0)","v":0},0,"","","",null,"",null,null,null,null,null,"m"]
[null,null,null,null,null,null,null,null,null,null,null,null,"",0,0,0,{"$f":"IF(AND(K81<>0,G81<>0),IF(OR(J81=1,J81=3,J81=4),IF(OR(N81=0,ABS(N81)<='Barèmes & Options'!H$2),1,0)),\"\")","v":""},{"$f":"IF(AND(K81<>\"\",G81<>\"\"),IF(OR(J81=5,J81=7),IF(OR(N81>0,N81+'Barèmes & Options'!H$2>0),1,0)),\"\")","v":""},{"$f":"IF(AND(K81<>\"\",G81<>\"\"),IF(OR(J81=2,J81=6,J81=8),IF(OR(N81<0,N81-'Barèmes & Options'!H$2<0),1,0)),\"\")","v":""},{"$f":"IF(AND(K81<>0,L81<>0),IF(OR(J81=1,J81=5,J81=6),IF(OR(O81=0,ABS(O81)<='Barèmes & Options'!H$2),1,0)),\"\")","v":""},{"$f":"IF(AND(K81<>\"\",L81<>\"\"),IF(OR(J81=4,J81=8),IF(OR(O81>0,O81+'Barèmes & Options'!H$2>0),1,0)),\"\")","v":""},{"$f":"IF(AND(K81<>\"\",L81<>\"\"),IF(OR(J81=2,J81=3,J81=7),IF(OR(O81<0,O81-'Barèmes & Options'!H$2<0),1,0)),\"\")","v":""},{"$f":"IF(SUM(Q81:V81)=2,IF(J81=2,IF(J81=2,IF(P81-'Barèmes & Options'!H$2<-1,0,1)),\"\"),0)","v":0},0,"","","",null,"",null,null,null,null,null,"m"]
[null,null,null,null,null,null,null,null,null,null,null,null,"",0,0,0,{"$f":"IF(AND(K82<>0,G82<>0),IF(OR(J82=1,J82=3,J82=4),IF(OR(N82=0,ABS(N82)<='Barèmes & Options'!H$2),1,0)),\"\")","v":""},{"$f":"IF(AND(K82<>\"\",G82<>\"\"),IF(OR(J82=5,J82=7),IF(OR(N82>0,N82+'Barèmes & Options'!H$2>0),1,0)),\"\")","v":""},{"$f":"IF(AND(K82<>\"\",G82<>\"\"),IF(OR(J82=2,J82=6,J82=8),IF(OR(N82<0,N82-'Barèmes & Options'!H$2<0),1,0)),\"\")","v":""},{"$f":"IF(AND(K82<>0,L82<>0),IF(OR(J82=1,J82=5,J82=6),IF(OR(O82=0,ABS(O82)<='Barèmes & Options'!H$2),1,0)),\"\")","v":""},{"$f":"IF(AND(K82<>\"\",L82<>\"\"),IF(OR(J82=4,J82=8),IF(OR(O82>0,O82+'Barèmes & Options'!H$2>0),1,0)),\"\")","v":""},{"$f":"IF(AND(K82<>\"\",L82<>\"\"),IF(OR(J82=2,J82=3,J82=7),IF(OR(O82<0,O82-'Barèmes & Options'!H$2<0),1,0)),\"\")","v":""},{"$f":"IF(SUM(Q82:V82)=2,IF(J82=2,IF(J82=2,IF(P82-'Barèmes & Options'!H$2<-1,0,1)),\"\"),0)","v":0},0,"","","",null,"",null,null,null,null,null,"m"]
[null,null,null,null,null,null,null,null,null,null,null,null,"",0,0,0,{"$f":"IF(AND(K83<>0,G83<>0),IF(OR(J83=1,J83=3,J83=4),IF(OR(N83=0,ABS(N83)<='Barèmes & Options'!H$2),1,0)),\"\")","v":""},{"$f":"IF(AND(K83<>\"\",G83<>\"\"),IF(OR(J83=5,J83=7),IF(OR(N83>0,N83+'Barèmes & Options'!H$2>0),1,0)),\"\")","v":""},{"$f":"IF(AND(K83<>\"\",G83<>\"\"),IF(OR(J83=2,J83=6,J83=8),IF(OR(N83<0,N83-'Barèmes & Options'!H$2<0),1,0)),\"\")","v":""},{"$f":"IF(AND(K83<>0,L83<>0),IF(OR(J83=1,J83=5,J83=6),IF(OR(O83=0,ABS(O83)<='Barèmes & Options'!H$2),1,0)),\"\")","v":""},{"$f":"IF(AND(K83<>\"\",L83<>\"\"),IF(OR(J83=4,J83=8),IF(OR(O83>0,O83+'Barèmes & Options'!H$2>0),1,0)),\"\")","v":""},{"$f":"IF(AND(K83<>\"\",L83<>\"\"),IF(OR(J83=2,J83=3,J83=7),IF(OR(O83<0,O83-'Barèmes & Options'!H$2<0),1,0)),\"\")","v":""},{"$f":"IF(SUM(Q83:V83)=2,IF(J83=2,IF(J83=2,IF(P83-'Barèmes & Options'!H$2<-1,0,1)),\"\"),0)","v":0},0,"","","",null,"",null,null,null,null,null,"m"]
[null,null,null,null,null,null,null,null,null,null,null,null,"",0,0,0,{"$f":"IF(AND(K84<>0,G84<>0),IF(OR(J84=1,J84=3,J84=4),IF(OR(N84=0,ABS(N84)<='Barèmes & Options'!H$2),1,0)),\"\")","v":""},{"$f":"IF(AND(K84<>\"\",G84<>\"\"),IF(OR(J84=5,J84=7),IF(OR(N84>0,N84+'Barèmes & Options'!H$2>0),1,0)),\"\")","v":""},{"$f":"IF(AND(K84<>\"\",G84<>\"\"),IF(OR(J84=2,J84=6,J84=8),IF(OR(N84<0,N84-'Barèmes & Options'!H$2<0),1,0)),\"\")","v":""},{"$f":"IF(AND(K84<>0,L84<>0),IF(OR(J84=1,J84=5,J84=6),IF(OR(O84=0,ABS(O84)<='Barèmes & Options'!H$2),1,0)),\"\")","v":""},{"$f":"IF(AND(K84<>\"\",L84<>\"\"),IF(OR(J84=4,J84=8),IF(OR(O84>0,O84+'Barèmes & Options'!H$2>0),1,0)),\"\")","v":""},{"$f":"IF(AND(K84<>\"\",L84<>\"\"),IF(OR(J84=2,J84=3,J84=7),IF(OR(O84<0,O84-'Barèmes & Options'!H$2<0),1,0)),\"\")","v":""},{"$f":"IF(SUM(Q84:V84)=2,IF(J84=2,IF(J84=2,IF(P84-'Barèmes & Options'!H$2<-1,0,1)),\"\"),0)","v":0},0,"","","",null,"",null,null,null,null,null,"m"]
[null,null,null,null,null,null,null,null,null,null,null,null,"",0,0,0,{"$f":"IF(AND(K85<>0,G85<>0),IF(OR(J85=1,J85=3,J85=4),IF(OR(N85=0,ABS(N85)<='Barèmes & Options'!H$2),1,0)),\"\")","v":""},{"$f":"IF(AND(K85<>\"\",G85<>\"\"),IF(OR(J85=5,J85=7),IF(OR(N85>0,N85+'Barèmes & Options'!H$2>0),1,0)),\"\")","v":""},{"$f":"IF(AND(K85<>\"\",G85<>\"\"),IF(OR(J85=2,J85=6,J85=8),IF(OR(N85<0,N85-'Barèmes & Options'!H$2<0),1,0)),\"\")","v":""},{"$f":"IF(AND(K85<>0,L85<>0),IF(OR(J85=1,J85=5,J85=6),IF(OR(O85=0,ABS(O85)<='Barèmes & Options'!H$2),1,0)),\"\")","v":""},{"$f":"IF(AND(K85<>\"\",L85<>\"\"),IF(OR(J85=4,J85=8),IF(OR(O85>0,O85+'Barèmes & Options'!H$2>0),1,0)),\"\")","v":""},{"$f":"IF(AND(K85<>\"\",L85<>\"\"),IF(OR(J85=2,J85=3,J85=7),IF(OR(O85<0,O85-'Barèmes & Options'!H$2<0),1,0)),\"\")","v":""},{"$f":"IF(SUM(Q85:V85)=2,IF(J85=2,IF(J85=2,IF(P85-'Barèmes & Options'!H$2<-1,0,1)),\"\"),0)","v":0},0,"","","",null,"",null,null,null,null,null,"m"]
[null,null,null,null,null,null,null,null,null,null,null,null,"",0,0,0,{"$f":"IF(AND(K86<>0,G86<>0),IF(OR(J86=1,J86=3,J86=4),IF(OR(N86=0,ABS(N86)<='Barèmes & Options'!H$2),1,0)),\"\")","v":""},{"$f":"IF(AND(K86<>\"\",G86<>\"\"),IF(OR(J86=5,J86=7),IF(OR(N86>0,N86+'Barèmes & Options'!H$2>0),1,0)),\"\")","v":""},{"$f":"IF(AND(K86<>\"\",G86<>\"\"),IF(OR(J86=2,J86=6,J86=8),IF(OR(N86<0,N86-'Barèmes & Options'!H$2<0),1,0)),\"\")","v":""},{"$f":"IF(AND(K86<>0,L86<>0),IF(OR(J86=1,J86=5,J86=6),IF(OR(O86=0,ABS(O86)<='Barèmes & Options'!H$2),1,0)),\"\")","v":""},{"$f":"IF(AND(K86<>\"\",L86<>\"\"),IF(OR(J86=4,J86=8),IF(OR(O86>0,O86+'Barèmes & Options'!H$2>0),1,0)),\"\")","v":""},{"$f":"IF(AND(K86<>\"\",L86<>\"\"),IF(OR(J86=2,J86=3,J86=7),IF(OR(O86<0,O86-'Barèmes & Options'!H$2<0),1,0)),\"\")","v":""},{"$f":"IF(SUM(Q86:V86)=2,IF(J86=2,IF(J86=2,IF(P86-'Barèmes & Options'!H$2<-1,0,1)),\"\"),0)","v":0},0,"","","",null,"",null,null,null,null,null,"m"]
[null,null,null,null,null,null,null,null,null,null,null,null,"",0,0,0,{"$f":"IF(AND(K87<>0,G87<>0),IF(OR(J87=1,J87=3,J87=4),IF(OR(N87=0,ABS(N87)<='Barèmes & Options'!H$2),1,0)),\"\")","v":""},{"$f":"IF(AND(K87<>\"\",G87<>\"\"),IF(OR(J87=5,J87=7),IF(OR(N87>0,N87+'Barèmes & Options'!H$2>0),1,0)),\"\")","v":""},{"$f":"IF(AND(K87<>\"\",G87<>\"\"),IF(OR(J87=2,J87=6,J87=8),IF(OR(N87<0,N87-'Barèmes & Options'!H$2<0),1,0)),\"\")","v":""},{"$f":"IF(AND(K87<>0,L87<>0),IF(OR(J87=1,J87=5,J87=6),IF(OR(O87=0,ABS(O87)<='Barèmes & Options'!H$2),1,0)),\"\")","v":""},{"$f":"IF(AND(K87<>\"\",L87<>\"\"),IF(OR(J87=4,J87=8),IF(OR(O87>0,O87+'Barèmes & Options'!H$2>0),1,0)),\"\")","v":""},{"$f":"IF(AND(K87<>\"\",L87<>\"\"),IF(OR(J87=2,J87=3,J87=7),IF(OR(O87<0,O87-'Barèmes & Options'!H$2<0),1,0)),\"\")","v":""},{"$f":"IF(SUM(Q87:V87)=2,IF(J87=2,IF(J87=2,IF(P87-'Barèmes & Options'!H$2<-1,0,1)),\"\"),0)","v":0},0,"","","",null,"",null,null,null,null,null,"m"]
[null,null,null,null,null,null,null,null,null,null,null,null,"",0,0,0,{"$f":"IF(AND(K88<>0,G88<>0),IF(OR(J88=1,J88=3,J88=4),IF(OR(N88=0,ABS(N88)<='Barèmes & Options'!H$2),1,0)),\"\")","v":""},{"$f":"IF(AND(K88<>\"\",G88<>\"\"),IF(OR(J88=5,J88=7),IF(OR(N88>0,N88+'Barèmes & Options'!H$2>0),1,0)),\"\")","v":""},{"$f":"IF(AND(K88<>\"\",G88<>\"\"),IF(OR(J88=2,J88=6,J88=8),IF(OR(N88<0,N88-'Barèmes & Options'!H$2<0),1,0)),\"\")","v":""},{"$f":"IF(AND(K88<>0,L88<>0),IF(OR(J88=1,J88=5,J88=6),IF(OR(O88=0,ABS(O88)<='Barèmes & Options'!H$2),1,0)),\"\")","v":""},{"$f":"IF(AND(K88<>\"\",L88<>\"\"),IF(OR(J88=4,J88=8),IF(OR(O88>0,O88+'Barèmes & Options'!H$2>0),1,0)),\"\")","v":""},{"$f":"IF(AND(K88<>\"\",L88<>\"\"),IF(OR(J88=2,J88=3,J88=7),IF(OR(O88<0,O88-'Barèmes & Options'!H$2<0),1,0)),\"\")","v":""},{"$f":"IF(SUM(Q88:V88)=2,IF(J88=2,IF(J88=2,IF(P88-'Barèmes & Options'!H$2<-1,0,1)),\"\"),0)","v":0},0,"","","",null,"",null,null,null,null,null,"m"]
[null,null,null,null,null,null,null,"",null,"",null,null,"",0,0,0,{"$f":"IF(AND(K89<>0,G89<>0),IF(OR(J89=1,J89=3,J89=4),IF(OR(N89=0,ABS(N89)<='Barèmes & Options'!H$2),1,0)),\"\")","v":""},{"$f":"IF(AND(K89<>\"\",G89<>\"\"),IF(OR(J89=5,J89=7),IF(OR(N89>0,N89+'Barèmes & Options'!H$2>0),1,0)),\"\")","v":""},{"$f":"IF(AND(K89<>\"\",G89<>\"\"),IF(OR(J89=2,J89=6,J89=8),IF(OR(N89<0,N89-'Barèmes & Options'!H$2<0),1,0)),\"\")","v":""},{"$f":"IF(AND(K89<>0,L89<>0),IF(OR(J89=1,J89=5,J89=6),IF(OR(O89=0,ABS(O89)<='Barèmes & Options'!H$2),1,0)),\"\")","v":""},{"$f":"IF(AND(K89<>\"\",L89<>\"\"),IF(OR(J89=4,J89=8),IF(OR(O89>0,O89+'Barèmes & Options'!H$2>0),1,0)),\"\")","v":""},{"$f":"IF(AND(K89<>\"\",L89<>\"\"),IF(OR(J89=2,J89=3,J89=7),IF(OR(O89<0,O89-'Barèmes & Options'!H$2<0),1,0)),\"\")","v":""},{"$f":"IF(SUM(Q89:V89)=2,IF(J89=2,IF(J89=2,IF(P89-'Barèmes & Options'!H$2<-1,0,1)),\"\"),0)","v":0},0,"","","",null,"",null,null,null,null,null,"m"]
[null,null,null,null,null,null,null,"",null,"",null,null,"",0,0,0,{"$f":"IF(AND(K90<>0,G90<>0),IF(OR(J90=1,J90=3,J90=4),IF(OR(N90=0,ABS(N90)<='Barèmes & Options'!H$2),1,0)),\"\")","v":""},{"$f":"IF(AND(K90<>\"\",G90<>\"\"),IF(OR(J90=5,J90=7),IF(OR(N90>0,N90+'Barèmes & Options'!H$2>0),1,0)),\"\")","v":""},{"$f":"IF(AND(K90<>\"\",G90<>\"\"),IF(OR(J90=2,J90=6,J90=8),IF(OR(N90<0,N90-'Barèmes & Options'!H$2<0),1,0)),\"\")","v":""},{"$f":"IF(AND(K90<>0,L90<>0),IF(OR(J90=1,J90=5,J90=6),IF(OR(O90=0,ABS(O90)<='Barèmes & Options'!H$2),1,0)),\"\")","v":""},{"$f":"IF(AND(K90<>\"\",L90<>\"\"),IF(OR(J90=4,J90=8),IF(OR(O90>0,O90+'Barèmes & Options'!H$2>0),1,0)),\"\")","v":""},{"$f":"IF(AND(K90<>\"\",L90<>\"\"),IF(OR(J90=2,J90=3,J90=7),IF(OR(O90<0,O90-'Barèmes & Options'!H$2<0),1,0)),\"\")","v":""},{"$f":"IF(SUM(Q90:V90)=2,IF(J90=2,IF(J90=2,IF(P90-'Barèmes & Options'!H$2<-1,0,1)),\"\"),0)","v":0},0,"","","",null,"",null,null,null,null,null,"m"]
[null,null,null,null,null,null,null,null,null,null,null,null,"",0,0,0,{"$f":"IF(AND(K91<>0,G91<>0),IF(OR(J91=1,J91=3,J91=4),IF(OR(N91=0,ABS(N91)<='Barèmes & Options'!H$2),1,0)),\"\")","v":""},{"$f":"IF(AND(K91<>\"\",G91<>\"\"),IF(OR(J91=5,J91=7),IF(OR(N91>0,N91+'Barèmes & Options'!H$2>0),1,0)),\"\")","v":""},{"$f":"IF(AND(K91<>\"\",G91<>\"\"),IF(OR(J91=2,J91=6,J91=8),IF(OR(N91<0,N91-'Barèmes & Options'!H$2<0),1,0)),\"\")","v":""},{"$f":"IF(AND(K91<>0,L91<>0),IF(OR(J91=1,J91=5,J91=6),IF(OR(O91=0,ABS(O91)<='Barèmes & Options'!H$2),1,0)),\"\")","v":""},{"$f":"IF(AND(K91<>\"\",L91<>\"\"),IF(OR(J91=4,J91=8),IF(OR(O91>0,O91+'Barèmes & Options'!H$2>0),1,0)),\"\")","v":""},{"$f":"IF(AND(K91<>\"\",L91<>\"\"),IF(OR(J91=2,J91=3,J91=7),IF(OR(O91<0,O91-'Barèmes & Options'!H$2<0),1,0)),\"\")","v":""},{"$f":"IF(SUM(Q91:V91)=2,IF(J91=2,IF(J91=2,IF(P91-'Barèmes & Options'!H$2<-1,0,1)),\"\"),0)","v":0},0,"","","",null,"",null,null,null,null,null,"m"]
[null,null,null,null,null,null,null,null,null,null,null,null,"",0,0,0,{"$f":"IF(AND(K92<>0,G92<>0),IF(OR(J92=1,J92=3,J92=4),IF(OR(N92=0,ABS(N92)<='Barèmes & Options'!H$2),1,0)),\"\")","v":""},{"$f":"IF(AND(K92<>\"\",G92<>\"\"),IF(OR(J92=5,J92=7),IF(OR(N92>0,N92+'Barèmes & Options'!H$2>0),1,0)),\"\")","v":""},{"$f":"IF(AND(K92<>\"\",G92<>\"\"),IF(OR(J92=2,J92=6,J92=8),IF(OR(N92<0,N92-'Barèmes & Options'!H$2<0),1,0)),\"\")","v":""},{"$f":"IF(AND(K92<>0,L92<>0),IF(OR(J92=1,J92=5,J92=6),IF(OR(O92=0,ABS(O92)<='Barèmes & Options'!H$2),1,0)),\"\")","v":""},{"$f":"IF(AND(K92<>\"\",L92<>\"\"),IF(OR(J92=4,J92=8),IF(OR(O92>0,O92+'Barèmes & Options'!H$2>0),1,0)),\"\")","v":""},{"$f":"IF(AND(K92<>\"\",L92<>\"\"),IF(OR(J92=2,J92=3,J92=7),IF(OR(O92<0,O92-'Barèmes & Options'!H$2<0),1,0)),\"\")","v":""},{"$f":"IF(SUM(Q92:V92)=2,IF(J92=2,IF(J92=2,IF(P92-'Barèmes & Options'!H$2<-1,0,1)),\"\"),0)","v":0},0,"","","",null,"",null,null,null,null,null,"m"]
[null,null,null,null,null,null,null,null,null,null,null,null,"",0,0,0,{"$f":"IF(AND(K93<>0,G93<>0),IF(OR(J93=1,J93=3,J93=4),IF(OR(N93=0,ABS(N93)<='Barèmes & Options'!H$2),1,0)),\"\")","v":""},{"$f":"IF(AND(K93<>\"\",G93<>\"\"),IF(OR(J93=5,J93=7),IF(OR(N93>0,N93+'Barèmes & Options'!H$2>0),1,0)),\"\")","v":""},{"$f":"IF(AND(K93<>\"\",G93<>\"\"),IF(OR(J93=2,J93=6,J93=8),IF(OR(N93<0,N93-'Barèmes & Options'!H$2<0),1,0)),\"\")","v":""},{"$f":"IF(AND(K93<>0,L93<>0),IF(OR(J93=1,J93=5,J93=6),IF(OR(O93=0,ABS(O93)<='Barèmes & Options'!H$2),1,0)),\"\")","v":""},{"$f":"IF(AND(K93<>\"\",L93<>\"\"),IF(OR(J93=4,J93=8),IF(OR(O93>0,O93+'Barèmes & Options'!H$2>0),1,0)),\"\")","v":""},{"$f":"IF(AND(K93<>\"\",L93<>\"\"),IF(OR(J93=2,J93=3,J93=7),IF(OR(O93<0,O93-'Barèmes & Options'!H$2<0),1,0)),\"\")","v":""},{"$f":"IF(SUM(Q93:V93)=2,IF(J93=2,IF(J93=2,IF(P93-'Barèmes & Options'!H$2<-1,0,1)),\"\"),0)","v":0},0,"","","",null,"",null,null,null,null,null,"m"]
[null,null,null,null,null,null,null,null,null,null,null,null,"",0,0,0,{"$f":"IF(AND(K94<>0,G94<>0),IF(OR(J94=1,J94=3,J94=4),IF(OR(N94=0,ABS(N94)<='Barèmes & Options'!H$2),1,0)),\"\")","v":""},{"$f":"IF(AND(K94<>\"\",G94<>\"\"),IF(OR(J94=5,J94=7),IF(OR(N94>0,N94+'Barèmes & Options'!H$2>0),1,0)),\"\")","v":""},{"$f":"IF(AND(K94<>\"\",G94<>\"\"),IF(OR(J94=2,J94=6,J94=8),IF(OR(N94<0,N94-'Barèmes & Options'!H$2<0),1,0)),\"\")","v":""},{"$f":"IF(AND(K94<>0,L94<>0),IF(OR(J94=1,J94=5,J94=6),IF(OR(O94=0,ABS(O94)<='Barèmes & Options'!H$2),1,0)),\"\")","v":""},{"$f":"IF(AND(K94<>\"\",L94<>\"\"),IF(OR(J94=4,J94=8),IF(OR(O94>0,O94+'Barèmes & Options'!H$2>0),1,0)),\"\")","v":""},{"$f":"IF(AND(K94<>\"\",L94<>\"\"),IF(OR(J94=2,J94=3,J94=7),IF(OR(O94<0,O94-'Barèmes & Options'!H$2<0),1,0)),\"\")","v":""},{"$f":"IF(SUM(Q94:V94)=2,IF(J94=2,IF(J94=2,IF(P94-'Barèmes & Options'!H$2<-1,0,1)),\"\"),0)","v":0},0,"","","",null,"",null,null,null,null,null,"m"]
[null,null,null,null,null,null,null,null,null,null,null,null,"",0,0,0,{"$f":"IF(AND(K95<>0,G95<>0),IF(OR(J95=1,J95=3,J95=4),IF(OR(N95=0,ABS(N95)<='Barèmes & Options'!H$2),1,0)),\"\")","v":""},{"$f":"IF(AND(K95<>\"\",G95<>\"\"),IF(OR(J95=5,J95=7),IF(OR(N95>0,N95+'Barèmes & Options'!H$2>0),1,0)),\"\")","v":""},{"$f":"IF(AND(K95<>\"\",G95<>\"\"),IF(OR(J95=2,J95=6,J95=8),IF(OR(N95<0,N95-'Barèmes & Options'!H$2<0),1,0)),\"\")","v":""},{"$f":"IF(AND(K95<>0,L95<>0),IF(OR(J95=1,J95=5,J95=6),IF(OR(O95=0,ABS(O95)<='Barèmes & Options'!H$2),1,0)),\"\")","v":""},{"$f":"IF(AND(K95<>\"\",L95<>\"\"),IF(OR(J95=4,J95=8),IF(OR(O95>0,O95+'Barèmes & Options'!H$2>0),1,0)),\"\")","v":""},{"$f":"IF(AND(K95<>\"\",L95<>\"\"),IF(OR(J95=2,J95=3,J95=7),IF(OR(O95<0,O95-'Barèmes & Options'!H$2<0),1,0)),\"\")","v":""},{"$f":"IF(SUM(Q95:V95)=2,IF(J95=2,IF(J95=2,IF(P95-'Barèmes & Options'!H$2<-1,0,1)),\"\"),0)","v":0},0,"","","",null,"",null,null,null,null,null,"m"]
[null,null,null,null,null,null,null,"",null,"",null,null,"",0,0,0,{"$f":"IF(AND(K96<>0,G96<>0),IF(OR(J96=1,J96=3,J96=4),IF(OR(N96=0,ABS(N96)<='Barèmes & Options'!H$2),1,0)),\"\")","v":""},{"$f":"IF(AND(K96<>\"\",G96<>\"\"),IF(OR(J96=5,J96=7),IF(OR(N96>0,N96+'Barèmes & Options'!H$2>0),1,0)),\"\")","v":""},{"$f":"IF(AND(K96<>\"\",G96<>\"\"),IF(OR(J96=2,J96=6,J96=8),IF(OR(N96<0,N96-'Barèmes & Options'!H$2<0),1,0)),\"\")","v":""},{"$f":"IF(AND(K96<>0,L96<>0),IF(OR(J96=1,J96=5,J96=6),IF(OR(O96=0,ABS(O96)<='Barèmes & Options'!H$2),1,0)),\"\")","v":""},{"$f":"IF(AND(K96<>\"\",L96<>\"\"),IF(OR(J96=4,J96=8),IF(OR(O96>0,O96+'Barèmes & Options'!H$2>0),1,0)),\"\")","v":""},{"$f":"IF(AND(K96<>\"\",L96<>\"\"),IF(OR(J96=2,J96=3,J96=7),IF(OR(O96<0,O96-'Barèmes & Options'!H$2<0),1,0)),\"\")","v":""},{"$f":"IF(SUM(Q96:V96)=2,IF(J96=2,IF(J96=2,IF(P96-'Barèmes & Options'!H$2<-1,0,1)),\"\"),0)","v":0},0,"","","",null,"",null,null,null,null,null,"m"]
[null,null,null,null,null,null,null,"",null,"",null,null,"",0,0,0,{"$f":"IF(AND(K97<>0,G97<>0),IF(OR(J97=1,J97=3,J97=4),IF(OR(N97=0,ABS(N97)<='Barèmes & Options'!H$2),1,0)),\"\")","v":""},{"$f":"IF(AND(K97<>\"\",G97<>\"\"),IF(OR(J97=5,J97=7),IF(OR(N97>0,N97+'Barèmes & Options'!H$2>0),1,0)),\"\")","v":""},{"$f":"IF(AND(K97<>\"\",G97<>\"\"),IF(OR(J97=2,J97=6,J97=8),IF(OR(N97<0,N97-'Barèmes & Options'!H$2<0),1,0)),\"\")","v":""},{"$f":"IF(AND(K97<>0,L97<>0),IF(OR(J97=1,J97=5,J97=6),IF(OR(O97=0,ABS(O97)<='Barèmes & Options'!H$2),1,0)),\"\")","v":""},{"$f":"IF(AND(K97<>\"\",L97<>\"\"),IF(OR(J97=4,J97=8),IF(OR(O97>0,O97+'Barèmes & Options'!H$2>0),1,0)),\"\")","v":""},{"$f":"IF(AND(K97<>\"\",L97<>\"\"),IF(OR(J97=2,J97=3,J97=7),IF(OR(O97<0,O97-'Barèmes & Options'!H$2<0),1,0)),\"\")","v":""},{"$f":"IF(SUM(Q97:V97)=2,IF(J97=2,IF(J97=2,IF(P97-'Barèmes & Options'!H$2<-1,0,1)),\"\"),0)","v":0},0,"","","",null,"",null,null,null,null,null,"m"]
[null,null,null,null,null,null,null,"",null,"",null,null,"",0,0,0,{"$f":"IF(AND(K98<>0,G98<>0),IF(OR(J98=1,J98=3,J98=4),IF(OR(N98=0,ABS(N98)<='Barèmes & Options'!H$2),1,0)),\"\")","v":""},{"$f":"IF(AND(K98<>\"\",G98<>\"\"),IF(OR(J98=5,J98=7),IF(OR(N98>0,N98+'Barèmes & Options'!H$2>0),1,0)),\"\")","v":""},{"$f":"IF(AND(K98<>\"\",G98<>\"\"),IF(OR(J98=2,J98=6,J98=8),IF(OR(N98<0,N98-'Barèmes & Options'!H$2<0),1,0)),\"\")","v":""},{"$f":"IF(AND(K98<>0,L98<>0),IF(OR(J98=1,J98=5,J98=6),IF(OR(O98=0,ABS(O98)<='Barèmes & Options'!H$2),1,0)),\"\")","v":""},{"$f":"IF(AND(K98<>\"\",L98<>\"\"),IF(OR(J98=4,J98=8),IF(OR(O98>0,O98+'Barèmes & Options'!H$2>0),1,0)),\"\")","v":""},{"$f":"IF(AND(K98<>\"\",L98<>\"\"),IF(OR(J98=2,J98=3,J98=7),IF(OR(O98<0,O98-'Barèmes & Options'!H$2<0),1,0)),\"\")","v":""},{"$f":"IF(SUM(Q98:V98)=2,IF(J98=2,IF(J98=2,IF(P98-'Barèmes & Options'!H$2<-1,0,1)),\"\"),0)","v":0},0,"","","",null,"",null,null,null,null,null,"m"]
[null,null,null,null,null,null,null,null,null,null,null,null,"",0,0,0,{"$f":"IF(AND(K99<>0,G99<>0),IF(OR(J99=1,J99=3,J99=4),IF(OR(N99=0,ABS(N99)<='Barèmes & Options'!H$2),1,0)),\"\")","v":""},{"$f":"IF(AND(K99<>\"\",G99<>\"\"),IF(OR(J99=5,J99=7),IF(OR(N99>0,N99+'Barèmes & Options'!H$2>0),1,0)),\"\")","v":""},{"$f":"IF(AND(K99<>\"\",G99<>\"\"),IF(OR(J99=2,J99=6,J99=8),IF(OR(N99<0,N99-'Barèmes & Options'!H$2<0),1,0)),\"\")","v":""},{"$f":"IF(AND(K99<>0,L99<>0),IF(OR(J99=1,J99=5,J99=6),IF(OR(O99=0,ABS(O99)<='Barèmes & Options'!H$2),1,0)),\"\")","v":""},{"$f":"IF(AND(K99<>\"\",L99<>\"\"),IF(OR(J99=4,J99=8),IF(OR(O99>0,O99+'Barèmes & Options'!H$2>0),1,0)),\"\")","v":""},{"$f":"IF(AND(K99<>\"\",L99<>\"\"),IF(OR(J99=2,J99=3,J99=7),IF(OR(O99<0,O99-'Barèmes & Options'!H$2<0),1,0)),\"\")","v":""},{"$f":"IF(SUM(Q99:V99)=2,IF(J99=2,IF(J99=2,IF(P99-'Barèmes & Options'!H$2<-1,0,1)),\"\"),0)","v":0},0,"","","",null,"",null,null,null,null,null,"m"]
[null,null,null,null,null,null,null,"",null,"",null,null,"",0,0,0,{"$f":"IF(AND(K100<>0,G100<>0),IF(OR(J100=1,J100=3,J100=4),IF(OR(N100=0,ABS(N100)<='Barèmes & Options'!H$2),1,0)),\"\")","v":""},{"$f":"IF(AND(K100<>\"\",G100<>\"\"),IF(OR(J100=5,J100=7),IF(OR(N100>0,N100+'Barèmes & Options'!H$2>0),1,0)),\"\")","v":""},{"$f":"IF(AND(K100<>\"\",G100<>\"\"),IF(OR(J100=2,J100=6,J100=8),IF(OR(N100<0,N100-'Barèmes & Options'!H$2<0),1,0)),\"\")","v":""},{"$f":"IF(AND(K100<>0,L100<>0),IF(OR(J100=1,J100=5,J100=6),IF(OR(O100=0,ABS(O100)<='Barèmes & Options'!H$2),1,0)),\"\")","v":""},{"$f":"IF(AND(K100<>\"\",L100<>\"\"),IF(OR(J100=4,J100=8),IF(OR(O100>0,O100+'Barèmes & Options'!H$2>0),1,0)),\"\")","v":""},{"$f":"IF(AND(K100<>\"\",L100<>\"\"),IF(OR(J100=2,J100=3,J100=7),IF(OR(O100<0,O100-'Barèmes & Options'!H$2<0),1,0)),\"\")","v":""},{"$f":"IF(SUM(Q100:V100)=2,IF(J100=2,IF(J100=2,IF(P100-'Barèmes & Options'!H$2<-1,0,1)),\"\"),0)","v":0},0,"","","",null,"",null,null,null,null,null,"m"]
[null,null,null,null,null,null,null,"",null,"",null,null,"",0,0,0,{"$f":"IF(AND(K101<>0,G101<>0),IF(OR(J101=1,J101=3,J101=4),IF(OR(N101=0,ABS(N101)<='Barèmes & Options'!H$2),1,0)),\"\")","v":""},{"$f":"IF(AND(K101<>\"\",G101<>\"\"),IF(OR(J101=5,J101=7),IF(OR(N101>0,N101+'Barèmes & Options'!H$2>0),1,0)),\"\")","v":""},{"$f":"IF(AND(K101<>\"\",G101<>\"\"),IF(OR(J101=2,J101=6,J101=8),IF(OR(N101<0,N101-'Barèmes & Options'!H$2<0),1,0)),\"\")","v":""},{"$f":"IF(AND(K101<>0,L101<>0),IF(OR(J101=1,J101=5,J101=6),IF(OR(O101=0,ABS(O101)<='Barèmes & Options'!H$2),1,0)),\"\")","v":""},{"$f":"IF(AND(K101<>\"\",L101<>\"\"),IF(OR(J101=4,J101=8),IF(OR(O101>0,O101+'Barèmes & Options'!H$2>0),1,0)),\"\")","v":""},{"$f":"IF(AND(K101<>\"\",L101<>\"\"),IF(OR(J101=2,J101=3,J101=7),IF(OR(O101<0,O101-'Barèmes & Options'!H$2<0),1,0)),\"\")","v":""},{"$f":"IF(SUM(Q101:V101)=2,IF(J101=2,IF(J101=2,IF(P101-'Barèmes & Options'!H$2<-1,0,1)),\"\"),0)","v":0},0,"","","",null,"",null,null,null,null,null,"m"]

{"sheet":"Barèmes & Options","index":2,"n_rows":218,"n_cols":8,"rows_kept":218,"cut":false,"hidden":false,"merged":[[0,0,0,2]]}
["Barème 1500"]
["temps","G","F",null,null,null,"Tolérance En sec. :",1]
[3,14,14]
[4.0999999999999996,14,14]
[4.1100000000000003,13.9,14]
[4.12,13.8,14]
[4.13,13.6,14]
[4.1399999999999997,13.5,14]
[4.1500000000000004,13.3,14]
[4.16,13.1,14]
[4.17,12.9,14]
[4.18,12.7,14]
[4.1900000000000004,12.6,14]
[4.2,12.5,14]
[4.21,12.4,14]
[4.22,12.2,14]
[4.2300000000000004,12.1,14]
[4.24,11.9,14]
[4.25,11.8,14]
[4.26,11.7,14]
[4.2699999999999996,11.5,14]
[4.28,11.3,14]
[4.29,11.2,14]
[4.3,11.1,14]
[4.3099999999999996,10.9,14]
[4.32,10.8,14]
[4.33,10.6,14]
[4.34,10.5,14]
[4.3499999999999996,10.4,14]
[4.3600000000000003,10.3,14]
[4.37,10.199999999999999,14]
[4.38,10.1,14]
[4.3899999999999997,10,14]
[4.4000000000000004,9.8000000000000007,14]
[4.41,9.6999999999999993,14]
[4.42,9.6,14]
[4.43,9.5,14]
[4.45,9.4,14]
[4.46,9.3000000000000007,14]
[4.47,9.1999999999999993,14]
[4.4800000000000004,9.1,14]
[4.49,9,14]
[4.5,8.9,14]
[4.51,8.8000000000000007,14]
[4.5199999999999996,8.6999999999999993,14]
[4.53,8.6,14]
[4.55,8.5,14]
[4.5599999999999996,8.4,14]
[4.57,8.3000000000000007,14]
[4.58,8.1999999999999993,14]
[4.59,8.1,14]
[5,8,14]
[5.0199999999999996,7.9,14]
[5.04,7.8,14]
[5.05,7.7,14]
[5.0599999999999996,7.6,14]
[5.07,7.5,14]
[5.08,7.4,14]
[5.0999999999999996,7.3,14]
[5.1100000000000003,7.2,14]
[5.13,7.1,14]
[5.14,7,14]
[5.15,6.9,14]
[5.16,6.8,14]
[5.17,6.7,14]
[5.18,6.6,14]
[5.2,6.5,14]
[5.22,6.4,14]
[5.24,6.3,14]
[5.26,6.2,14]
[5.28,6.1,14]
[5.3,6,14]
[5.31,5.9,13.9]
[5.32,5.9,13.8]
[5.33,5.8,13.7]
[5.34,5.8,13.5]
[5.35,5.7,13.3]
[5.36,5.7,13.2]
[5.37,5.6,13.1]
[5.38,5.6,13]
[5.39,5.5,12.9]
[5.4,5.5,12.8]
[5.41,5.4,12.6]
[5.42,5.4,12.5]
[5.43,5.4,12.4]
[5.44,5.3,12.3]
[5.45,5.3,12.2]
[5.46,5.3,12]
[5.47,5.2,11.9]
[5.48,5.2,11.8]
[5.49,5.0999999999999996,11.7]
[5.5,5.0999999999999996,11.6]
[5.51,5,11.5]
[5.52,5,11.4]
[5.53,4.9000000000000004,11.3]
[5.55,4.8,11.2]
[5.56,4.8,11.1]
[5.57,4.8,11]
[5.58,4.7,10.9]
[5.59,4.7,10.8]
[6,4.7,10.7]
[6.01,4.5999999999999996,10.6]
[6.03,4.5,10.5]
[6.05,4.4000000000000004,10.4]
[6.07,4.4000000000000004,10.3]
[6.08,4.3,10.3]
[6.09,4.3,10.199999999999999]
[6.1,4.2,10.199999999999999]
[6.11,4.2,10.1]
[6.13,4.0999999999999996,10]
[6.15,4,9.9]
[6.17,3.9,9.8000000000000007]
[6.19,3.9,9.6999999999999993]
[6.2,3.8,9.6999999999999993]
[6.21,3.8,9.6]
[6.23,3.7,9.5]
[6.25,3.6,9.4]
[6.27,3.6,9.3000000000000007]
[6.28,3.5,9.3000000000000007]
[6.29,3.5,9.1999999999999993]
[6.3,3.4,9.1999999999999993]
[6.31,3.4,9.1]
[6.33,3.3,9]
[6.35,3.3,8.9]
[6.36,3.2,8.9]
[6.37,3.2,8.8000000000000007]
[6.39,3.1,8.6999999999999993]
[6.41,3.1,8.6]
[6.43,3,8.6]
[6.44,3,8.5]
[6.46,2.9,8.5]
[6.47,2.9,8.4]
[6.49,2.8,8.3000000000000007]
[6.51,2.7,8.1999999999999993]
[6.53,2.7,8.1]
[6.54,2.6,8.1]
[6.55,2.6,8]
[6.57,2.5,7.9]
[7,2.4,7.8]
[7.03,2.2999999999999998,7.7]
[7.05,2.2999999999999998,7.6]
[7.07,2.2000000000000002,7.5]
[7.1,2.2000000000000002,7.4]
[7.11,2.1,7.4]
[7.13,2.1,7.3]
[7.16,2,7.2]
[7.18,1.9,7.1]
[7.2,1.8,7]
[7.22,1.7,6.9]
[7.24,1.7,6.8]
[7.27,1.6,6.7]
[7.3,1.6,6.6]
[7.33,1.5,6.5]
[7.36,1.5,6.4]
[7.38,1.4,6.3]
[7.4,1.3,6.2]
[7.43,1.2,6.1]
[7.46,1.2,6]
[7.49,1.1000000000000001,5.9]
[7.52,1.1000000000000001,5.8]
[7.54,1,5.7]
[7.56,0.9,5.6]
[7.59,0.8,5.5]
[8.02,0.8,5.4]
[8.0500000000000007,0.7,5.3]
[8.08,0.6,5.2]
[8.11,0.5,5.0999999999999996]
[8.1300000000000008,0.4,5]
[8.15,0.3,4.9000000000000004]
[8.18,0.2,4.8]
[8.2100000000000009,0.1,4.7]
[8.24,0,4.5999999999999996]
[8.27,0,4.5]
[8.3000000000000007,0,4.4000000000000004]
[8.33,0,4.3]
[8.3699999999999992,0,4.2]
[8.4,0,4.0999999999999996]
[8.43,0,4]
[8.4600000000000009,0,3.9]
[8.49,0,3.8]
[8.52,0,3.7]
[8.5500000000000007,0,3.6]
[8.59,0,3.5]
[9.0299999999999994,0,3.4]
[9.06,0,3.3]
[9.09,0,3.2]
[9.1199999999999992,0,3.1]
[9.16,0,3]
[9.1999999999999993,0,2.9]
[9.24,0,2.8]
[9.27,0,2.7]
[9.3000000000000007,0,2.6]
[9.34,0,2.5]
[9.3800000000000008,0,2.4]
[9.42,0,2.2999999999999998]
[9.4600000000000009,0,2.2000000000000002]
[9.5,0,2.1]
[9.5500000000000007,0,2]
[10,0,1.9]
[10.050000000000001,0,1.8]
[10.1,0,1.7]
[10.14,0,1.6]
[10.17,0,1.5]
[10.199999999999999,0,1.4]
[10.25,0,1.3]
[10.3,0,1.2]
[10.35,0,1.1000000000000001]
[10.4,0,1]
[10.43,0,0.9]
[10.47,0,0.8]
[10.5,0,0.7]
[10.55,0,0.6]
[11,0,0.5]
[11.05,0,0.4]
[11.1,0,0.3]
[11.15,0,0.2]
[11.2,0,0.1]
[11.25,0,0]

{"sheet":"Présentation des profils","index":3,"n_rows":0,"n_cols":0,"rows_kept":0,"cut":false,"hidden":false,"merged":[]}